BEGIN:VCALENDAR
PRODID:-//nuDatenautomaten//framework iCal4j //DE
VERSION:2.0
CALSCALE:GREGORIAN
BEGIN:VTIMEZONE
TZID:Europe/Berlin
LAST-MODIFIED:20260306T231828Z
TZURL:https://www.tzurl.org/zoneinfo/Europe/Berlin
X-LIC-LOCATION:Europe/Berlin
X-PROLEPTIC-TZNAME:LMT
BEGIN:STANDARD
TZNAME:CET
TZOFFSETFROM:+005328
TZOFFSETTO:+0100
DTSTART:18930401T000000
END:STANDARD
BEGIN:DAYLIGHT
TZNAME:CEST
TZOFFSETFROM:+0100
TZOFFSETTO:+0200
DTSTART:19160430T230000
RDATE:19400401T020000
RDATE:19430329T020000
RDATE:19460414T020000
RDATE:19470406T030000
RDATE:19480418T020000
RDATE:19490410T020000
RDATE:19800406T020000
END:DAYLIGHT
BEGIN:STANDARD
TZNAME:CET
TZOFFSETFROM:+0200
TZOFFSETTO:+0100
DTSTART:19161001T010000
RDATE:19421102T030000
RDATE:19431004T030000
RDATE:19441002T030000
RDATE:19451118T030000
RDATE:19461007T030000
END:STANDARD
BEGIN:DAYLIGHT
TZNAME:CEST
TZOFFSETFROM:+0100
TZOFFSETTO:+0200
DTSTART:19170416T020000
RRULE:FREQ=YEARLY;UNTIL=19180415T010000Z;BYMONTH=4;BYDAY=3MO
END:DAYLIGHT
BEGIN:STANDARD
TZNAME:CET
TZOFFSETFROM:+0200
TZOFFSETTO:+0100
DTSTART:19170917T030000
RRULE:FREQ=YEARLY;UNTIL=19180916T010000Z;BYMONTH=9;BYDAY=3MO
END:STANDARD
BEGIN:DAYLIGHT
TZNAME:CEST
TZOFFSETFROM:+0100
TZOFFSETTO:+0200
DTSTART:19440403T020000
RRULE:FREQ=YEARLY;UNTIL=19450402T010000Z;BYMONTH=4;BYDAY=1MO
END:DAYLIGHT
BEGIN:DAYLIGHT
TZNAME:CEMT
TZOFFSETFROM:+0200
TZOFFSETTO:+0300
DTSTART:19450524T020000
RDATE:19470511T030000
END:DAYLIGHT
BEGIN:DAYLIGHT
TZNAME:CEST
TZOFFSETFROM:+0300
TZOFFSETTO:+0200
DTSTART:19450924T030000
RDATE:19470629T030000
END:DAYLIGHT
BEGIN:STANDARD
TZNAME:CET
TZOFFSETFROM:+0100
TZOFFSETTO:+0100
DTSTART:19460101T000000
RDATE:19800101T000000
END:STANDARD
BEGIN:STANDARD
TZNAME:CET
TZOFFSETFROM:+0200
TZOFFSETTO:+0100
DTSTART:19471005T030000
RRULE:FREQ=YEARLY;UNTIL=19491002T010000Z;BYMONTH=10;BYDAY=1SU
END:STANDARD
BEGIN:STANDARD
TZNAME:CET
TZOFFSETFROM:+0200
TZOFFSETTO:+0100
DTSTART:19800928T030000
RRULE:FREQ=YEARLY;UNTIL=19950924T010000Z;BYMONTH=9;BYDAY=-1SU
END:STANDARD
BEGIN:DAYLIGHT
TZNAME:CEST
TZOFFSETFROM:+0100
TZOFFSETTO:+0200
DTSTART:19810329T020000
RRULE:FREQ=YEARLY;BYMONTH=3;BYDAY=-1SU
END:DAYLIGHT
BEGIN:STANDARD
TZNAME:CET
TZOFFSETFROM:+0200
TZOFFSETTO:+0100
DTSTART:19961027T030000
RRULE:FREQ=YEARLY;BYMONTH=10;BYDAY=-1SU
END:STANDARD
END:VTIMEZONE
BEGIN:VEVENT
DTSTAMP:20260420T014127Z
DTSTART;TZID=Europe/Berlin:20240325T193000
DTEND;TZID=Europe/Berlin:20240325T223000
SUMMARY:1. Kreisklasse SV Boostedt IV vs TTC Rendswühren  (44)
UID:1f3f700e-497e-5b33-e063-1fc7a80a4d3b
STATUS:CONFIRMED
LAST-MODIFIED:20240809T113129Z
DESCRIPTION:1. Kreisklasse Herren\nBegegnungs-Nr: 44\nHeim: SV Boostedt IV\nGast: TTC Rendswühren \n
LOCATION:
CATEGORIES:Saison 2023/24
END:VEVENT
BEGIN:VEVENT
DTSTAMP:20260420T014127Z
DTSTART;TZID=Europe/Berlin:20240315T193000
DTEND;TZID=Europe/Berlin:20240315T223000
SUMMARY:1. Kreisklasse SV Boostedt IV vs SG Westend Neumünster  (55)
UID:1f3f700e-4a4a-5b33-e063-1fc7a80a4d3b
STATUS:CONFIRMED
LAST-MODIFIED:20240809T113129Z
DESCRIPTION:1. Kreisklasse Herren\nBegegnungs-Nr: 55\nHeim: SV Boostedt IV\nGast: SG Westend Neumünster \n
LOCATION:
CATEGORIES:Saison 2023/24
END:VEVENT
BEGIN:VEVENT
DTSTAMP:20260420T014127Z
DTSTART;TZID=Europe/Berlin:20230901T193000
DTEND;TZID=Europe/Berlin:20230901T223000
SUMMARY:1. Kreisklasse SV Boostedt IV vs SV Boostedt III (2)
UID:1f3f700e-4250-5b33-e063-1fc7a80a4d3b
STATUS:CONFIRMED
LAST-MODIFIED:20240809T113129Z
DESCRIPTION:1. Kreisklasse Herren\nBegegnungs-Nr: 2\nHeim: SV Boostedt IV\nGast: SV Boostedt III\n
LOCATION:
CATEGORIES:Saison 2023/24
END:VEVENT
BEGIN:VEVENT
DTSTAMP:20260420T014127Z
DTSTART;TZID=Europe/Berlin:20230915T193000
DTEND;TZID=Europe/Berlin:20230915T223000
SUMMARY:1. Kreisklasse SV Boostedt IV vs SV Wasbek III (10)
UID:1f3f700e-42ea-5b33-e063-1fc7a80a4d3b
STATUS:CONFIRMED
LAST-MODIFIED:20240809T113129Z
DESCRIPTION:1. Kreisklasse Herren\nBegegnungs-Nr: 10\nHeim: SV Boostedt IV\nGast: SV Wasbek III\n
LOCATION:
CATEGORIES:Saison 2023/24
END:VEVENT
BEGIN:VEVENT
DTSTAMP:20260420T014127Z
DTSTART;TZID=Europe/Berlin:20231013T193000
DTEND;TZID=Europe/Berlin:20231013T223000
SUMMARY:1. Kreisklasse SV Boostedt IV vs Polizei SV Neumünster IV (28)
UID:1f3f700e-443b-5b33-e063-1fc7a80a4d3b
STATUS:CONFIRMED
LAST-MODIFIED:20240809T113129Z
DESCRIPTION:1. Kreisklasse Herren\nBegegnungs-Nr: 28\nHeim: SV Boostedt IV\nGast: Polizei SV Neumünster IV\n
LOCATION:
CATEGORIES:Saison 2023/24
END:VEVENT
BEGIN:VEVENT
DTSTAMP:20260420T014127Z
DTSTART;TZID=Europe/Berlin:20231124T193000
DTEND;TZID=Europe/Berlin:20231124T223000
SUMMARY:1. Kreisklasse SV Boostedt IV vs SV Bönebüttel-Husberg II (45)
UID:1f3f700e-4577-5b33-e063-1fc7a80a4d3b
STATUS:CONFIRMED
LAST-MODIFIED:20240809T113129Z
DESCRIPTION:1. Kreisklasse Herren\nBegegnungs-Nr: 45\nHeim: SV Boostedt IV\nGast: SV Bönebüttel-Husberg II\n
LOCATION:
CATEGORIES:Saison 2023/24
END:VEVENT
BEGIN:VEVENT
DTSTAMP:20260420T014127Z
DTSTART;TZID=Europe/Berlin:20231127T193000
DTEND;TZID=Europe/Berlin:20231127T223000
SUMMARY:1. Kreisklasse SV Boostedt IV vs SG Westend Neumünster II (49)
UID:1f3f700e-45c2-5b33-e063-1fc7a80a4d3b
STATUS:CONFIRMED
LAST-MODIFIED:20240809T113129Z
DESCRIPTION:1. Kreisklasse Herren\nBegegnungs-Nr: 49\nHeim: SV Boostedt IV\nGast: SG Westend Neumünster II\n
LOCATION:
CATEGORIES:Saison 2023/24
END:VEVENT
BEGIN:VEVENT
DTSTAMP:20260420T014127Z
DTSTART;TZID=Europe/Berlin:20240202T193000
DTEND;TZID=Europe/Berlin:20240202T223000
SUMMARY:1. Kreisklasse SV Boostedt IV vs TSV 05 Neumünster II (15)
UID:1f3f700e-4750-5b33-e063-1fc7a80a4d3b
STATUS:CONFIRMED
LAST-MODIFIED:20240809T113129Z
DESCRIPTION:1. Kreisklasse Herren\nBegegnungs-Nr: 15\nHeim: SV Boostedt IV\nGast: TSV 05 Neumünster II\n
LOCATION:
CATEGORIES:Saison 2023/24
END:VEVENT
BEGIN:VEVENT
DTSTAMP:20260420T014127Z
DTSTART;TZID=Europe/Berlin:20240322T193000
DTEND;TZID=Europe/Berlin:20240322T223000
SUMMARY:1. Kreisklasse SV Boostedt IV vs TS Einfeld Neumünster V (25)
UID:1f3f700e-480d-5b33-e063-1fc7a80a4d3b
STATUS:CONFIRMED
LAST-MODIFIED:20240809T113129Z
DESCRIPTION:1. Kreisklasse Herren\nBegegnungs-Nr: 25\nHeim: SV Boostedt IV\nGast: TS Einfeld Neumünster V\n
LOCATION:
CATEGORIES:Saison 2023/24
END:VEVENT
BEGIN:VEVENT
DTSTAMP:20260420T014127Z
DTSTART;TZID=Europe/Berlin:20240119T193000
DTEND;TZID=Europe/Berlin:20240119T223000
SUMMARY:1. Kreisklasse SV Boostedt IV vs SV Tungendorf III (35)
UID:1f3f700e-48d0-5b33-e063-1fc7a80a4d3b
STATUS:CONFIRMED
LAST-MODIFIED:20240809T113129Z
DESCRIPTION:1. Kreisklasse Herren\nBegegnungs-Nr: 35\nHeim: SV Boostedt IV\nGast: SV Tungendorf III\n
LOCATION:
CATEGORIES:Saison 2023/24
END:VEVENT
BEGIN:VEVENT
DTSTAMP:20260420T014127Z
DTSTART;TZID=Europe/Berlin:20240320T190000
DTEND;TZID=Europe/Berlin:20240320T220000
SUMMARY:1. Kreisklasse SV Bönebüttel-Husberg II vs SV Boostedt IV (48)
UID:1f3f700e-49ca-5b33-e063-1fc7a80a4d3b
STATUS:CONFIRMED
LAST-MODIFIED:20240809T113129Z
DESCRIPTION:1. Kreisklasse Herren\nBegegnungs-Nr: 48\nHeim: SV Bönebüttel-Husberg II\nGast: SV Boostedt IV\n
LOCATION:
CATEGORIES:Saison 2023/24
END:VEVENT
BEGIN:VEVENT
DTSTAMP:20260420T014127Z
DTSTART;TZID=Europe/Berlin:20230920T193000
DTEND;TZID=Europe/Berlin:20230920T223000
SUMMARY:1. Kreisklasse TSV 05 Neumünster II vs SV Boostedt IV (12)
UID:1f3f700e-430f-5b33-e063-1fc7a80a4d3b
STATUS:CONFIRMED
LAST-MODIFIED:20240809T113129Z
DESCRIPTION:1. Kreisklasse Herren\nBegegnungs-Nr: 12\nHeim: TSV 05 Neumünster II\nGast: SV Boostedt IV\n
LOCATION:
CATEGORIES:Saison 2023/24
END:VEVENT
BEGIN:VEVENT
DTSTAMP:20260420T014127Z
DTSTART;TZID=Europe/Berlin:20231006T193000
DTEND;TZID=Europe/Berlin:20231006T223000
SUMMARY:1. Kreisklasse TS Einfeld Neumünster V vs SV Boostedt IV (20)
UID:1f3f700e-43a2-5b33-e063-1fc7a80a4d3b
STATUS:CONFIRMED
LAST-MODIFIED:20240809T113129Z
DESCRIPTION:1. Kreisklasse Herren\nBegegnungs-Nr: 20\nHeim: TS Einfeld Neumünster V\nGast: SV Boostedt IV\n
LOCATION:
CATEGORIES:Saison 2023/24
END:VEVENT
BEGIN:VEVENT
DTSTAMP:20260420T014127Z
DTSTART;TZID=Europe/Berlin:20231103T193000
DTEND;TZID=Europe/Berlin:20231103T223000
SUMMARY:1. Kreisklasse SV Tungendorf III vs SV Boostedt IV (33)
UID:1f3f700e-44a0-5b33-e063-1fc7a80a4d3b
STATUS:CONFIRMED
LAST-MODIFIED:20240809T113129Z
DESCRIPTION:1. Kreisklasse Herren\nBegegnungs-Nr: 33\nHeim: SV Tungendorf III\nGast: SV Boostedt IV\n
LOCATION:
CATEGORIES:Saison 2023/24
END:VEVENT
BEGIN:VEVENT
DTSTAMP:20260420T014127Z
DTSTART;TZID=Europe/Berlin:20231113T193000
DTEND;TZID=Europe/Berlin:20231113T223000
SUMMARY:1. Kreisklasse TTC Rendswühren  vs SV Boostedt IV (37)
UID:1f3f700e-44e7-5b33-e063-1fc7a80a4d3b
STATUS:CONFIRMED
LAST-MODIFIED:20240809T113129Z
DESCRIPTION:1. Kreisklasse Herren\nBegegnungs-Nr: 37\nHeim: TTC Rendswühren \nGast: SV Boostedt IV\n
LOCATION:
CATEGORIES:Saison 2023/24
END:VEVENT
BEGIN:VEVENT
DTSTAMP:20260420T014127Z
DTSTART;TZID=Europe/Berlin:20231128T193000
DTEND;TZID=Europe/Berlin:20231128T223000
SUMMARY:1. Kreisklasse SG Westend Neumünster  vs SV Boostedt IV (51)
UID:1f3f700e-45eb-5b33-e063-1fc7a80a4d3b
STATUS:CONFIRMED
LAST-MODIFIED:20240809T113129Z
DESCRIPTION:1. Kreisklasse Herren\nBegegnungs-Nr: 51\nHeim: SG Westend Neumünster \nGast: SV Boostedt IV\n
LOCATION:
CATEGORIES:Saison 2023/24
END:VEVENT
BEGIN:VEVENT
DTSTAMP:20260420T014127Z
DTSTART;TZID=Europe/Berlin:20240122T193000
DTEND;TZID=Europe/Berlin:20240122T223000
SUMMARY:1. Kreisklasse SV Wasbek III vs SV Boostedt IV (6)
UID:1f3f700e-46a8-5b33-e063-1fc7a80a4d3b
STATUS:CONFIRMED
LAST-MODIFIED:20240809T113129Z
DESCRIPTION:1. Kreisklasse Herren\nBegegnungs-Nr: 6\nHeim: SV Wasbek III\nGast: SV Boostedt IV\n
LOCATION:
CATEGORIES:Saison 2023/24
END:VEVENT
BEGIN:VEVENT
DTSTAMP:20260420T014127Z
DTSTART;TZID=Europe/Berlin:20240112T193000
DTEND;TZID=Europe/Berlin:20240112T223000
SUMMARY:1. Kreisklasse SV Boostedt III vs SV Boostedt IV (19)
UID:1f3f700e-479d-5b33-e063-1fc7a80a4d3b
STATUS:CONFIRMED
LAST-MODIFIED:20240809T113129Z
DESCRIPTION:1. Kreisklasse Herren\nBegegnungs-Nr: 19\nHeim: SV Boostedt III\nGast: SV Boostedt IV\n
LOCATION:
CATEGORIES:Saison 2023/24
END:VEVENT
BEGIN:VEVENT
DTSTAMP:20260420T014127Z
DTSTART;TZID=Europe/Berlin:20240222T193000
DTEND;TZID=Europe/Berlin:20240222T223000
SUMMARY:1. Kreisklasse Polizei SV Neumünster IV vs SV Boostedt IV (27)
UID:1f3f700e-4832-5b33-e063-1fc7a80a4d3b
STATUS:CONFIRMED
LAST-MODIFIED:20240809T113129Z
DESCRIPTION:1. Kreisklasse Herren\nBegegnungs-Nr: 27\nHeim: Polizei SV Neumünster IV\nGast: SV Boostedt IV\n
LOCATION:
CATEGORIES:Saison 2023/24
END:VEVENT
BEGIN:VEVENT
DTSTAMP:20260420T014127Z
DTSTART;TZID=Europe/Berlin:20240305T193000
DTEND;TZID=Europe/Berlin:20240305T223000
SUMMARY:1. Kreisklasse SG Westend Neumünster II vs SV Boostedt IV (37)
UID:1f3f700e-48f5-5b33-e063-1fc7a80a4d3b
STATUS:CONFIRMED
LAST-MODIFIED:20240809T113129Z
DESCRIPTION:1. Kreisklasse Herren\nBegegnungs-Nr: 37\nHeim: SG Westend Neumünster II\nGast: SV Boostedt IV\n
LOCATION:
CATEGORIES:Saison 2023/24
END:VEVENT
END:VCALENDAR
