BEGIN:VCALENDAR
PRODID:-//nuDatenautomaten//framework iCal4j //DE
VERSION:2.0
CALSCALE:GREGORIAN
BEGIN:VTIMEZONE
TZID:Europe/Berlin
LAST-MODIFIED:20260306T231828Z
TZURL:https://www.tzurl.org/zoneinfo/Europe/Berlin
X-LIC-LOCATION:Europe/Berlin
X-PROLEPTIC-TZNAME:LMT
BEGIN:STANDARD
TZNAME:CET
TZOFFSETFROM:+005328
TZOFFSETTO:+0100
DTSTART:18930401T000000
END:STANDARD
BEGIN:DAYLIGHT
TZNAME:CEST
TZOFFSETFROM:+0100
TZOFFSETTO:+0200
DTSTART:19160430T230000
RDATE:19400401T020000
RDATE:19430329T020000
RDATE:19460414T020000
RDATE:19470406T030000
RDATE:19480418T020000
RDATE:19490410T020000
RDATE:19800406T020000
END:DAYLIGHT
BEGIN:STANDARD
TZNAME:CET
TZOFFSETFROM:+0200
TZOFFSETTO:+0100
DTSTART:19161001T010000
RDATE:19421102T030000
RDATE:19431004T030000
RDATE:19441002T030000
RDATE:19451118T030000
RDATE:19461007T030000
END:STANDARD
BEGIN:DAYLIGHT
TZNAME:CEST
TZOFFSETFROM:+0100
TZOFFSETTO:+0200
DTSTART:19170416T020000
RRULE:FREQ=YEARLY;UNTIL=19180415T010000Z;BYMONTH=4;BYDAY=3MO
END:DAYLIGHT
BEGIN:STANDARD
TZNAME:CET
TZOFFSETFROM:+0200
TZOFFSETTO:+0100
DTSTART:19170917T030000
RRULE:FREQ=YEARLY;UNTIL=19180916T010000Z;BYMONTH=9;BYDAY=3MO
END:STANDARD
BEGIN:DAYLIGHT
TZNAME:CEST
TZOFFSETFROM:+0100
TZOFFSETTO:+0200
DTSTART:19440403T020000
RRULE:FREQ=YEARLY;UNTIL=19450402T010000Z;BYMONTH=4;BYDAY=1MO
END:DAYLIGHT
BEGIN:DAYLIGHT
TZNAME:CEMT
TZOFFSETFROM:+0200
TZOFFSETTO:+0300
DTSTART:19450524T020000
RDATE:19470511T030000
END:DAYLIGHT
BEGIN:DAYLIGHT
TZNAME:CEST
TZOFFSETFROM:+0300
TZOFFSETTO:+0200
DTSTART:19450924T030000
RDATE:19470629T030000
END:DAYLIGHT
BEGIN:STANDARD
TZNAME:CET
TZOFFSETFROM:+0100
TZOFFSETTO:+0100
DTSTART:19460101T000000
RDATE:19800101T000000
END:STANDARD
BEGIN:STANDARD
TZNAME:CET
TZOFFSETFROM:+0200
TZOFFSETTO:+0100
DTSTART:19471005T030000
RRULE:FREQ=YEARLY;UNTIL=19491002T010000Z;BYMONTH=10;BYDAY=1SU
END:STANDARD
BEGIN:STANDARD
TZNAME:CET
TZOFFSETFROM:+0200
TZOFFSETTO:+0100
DTSTART:19800928T030000
RRULE:FREQ=YEARLY;UNTIL=19950924T010000Z;BYMONTH=9;BYDAY=-1SU
END:STANDARD
BEGIN:DAYLIGHT
TZNAME:CEST
TZOFFSETFROM:+0100
TZOFFSETTO:+0200
DTSTART:19810329T020000
RRULE:FREQ=YEARLY;BYMONTH=3;BYDAY=-1SU
END:DAYLIGHT
BEGIN:STANDARD
TZNAME:CET
TZOFFSETFROM:+0200
TZOFFSETTO:+0100
DTSTART:19961027T030000
RRULE:FREQ=YEARLY;BYMONTH=10;BYDAY=-1SU
END:STANDARD
END:VTIMEZONE
BEGIN:VEVENT
DTSTAMP:20260423T072528Z
DTSTART;TZID=Europe/Berlin:20240327T201500
DTEND;TZID=Europe/Berlin:20240327T231500
SUMMARY:1. Kreisklasse TSV 05 Neumünster II vs SV Tungendorf III (43)
UID:1f3f700e-4967-5b33-e063-1fc7a80a4d3b
STATUS:CONFIRMED
LAST-MODIFIED:20240809T113129Z
DESCRIPTION:1. Kreisklasse Herren\nBegegnungs-Nr: 43\nHeim: TSV 05 Neumünster II\nGast: SV Tungendorf III\n
LOCATION:
CATEGORIES:Saison 2023/24
END:VEVENT
BEGIN:VEVENT
DTSTAMP:20260423T072528Z
DTSTART;TZID=Europe/Berlin:20230906T193000
DTEND;TZID=Europe/Berlin:20230906T223000
SUMMARY:1. Kreisklasse TSV 05 Neumünster II vs SV Bönebüttel-Husberg II (4)
UID:1f3f700e-4277-5b33-e063-1fc7a80a4d3b
STATUS:CONFIRMED
LAST-MODIFIED:20240809T113129Z
DESCRIPTION:1. Kreisklasse Herren\nBegegnungs-Nr: 4\nHeim: TSV 05 Neumünster II\nGast: SV Bönebüttel-Husberg II\n
LOCATION:
CATEGORIES:Saison 2023/24
END:VEVENT
BEGIN:VEVENT
DTSTAMP:20260423T072528Z
DTSTART;TZID=Europe/Berlin:20230920T193000
DTEND;TZID=Europe/Berlin:20230920T223000
SUMMARY:1. Kreisklasse TSV 05 Neumünster II vs SV Boostedt IV (12)
UID:1f3f700e-430f-5b33-e063-1fc7a80a4d3b
STATUS:CONFIRMED
LAST-MODIFIED:20240809T113129Z
DESCRIPTION:1. Kreisklasse Herren\nBegegnungs-Nr: 12\nHeim: TSV 05 Neumünster II\nGast: SV Boostedt IV\n
LOCATION:
CATEGORIES:Saison 2023/24
END:VEVENT
BEGIN:VEVENT
DTSTAMP:20260423T072528Z
DTSTART;TZID=Europe/Berlin:20231011T193000
DTEND;TZID=Europe/Berlin:20231011T223000
SUMMARY:1. Kreisklasse TSV 05 Neumünster II vs SV Boostedt III (27)
UID:1f3f700e-4427-5b33-e063-1fc7a80a4d3b
STATUS:CONFIRMED
LAST-MODIFIED:20240809T113129Z
DESCRIPTION:1. Kreisklasse Herren\nBegegnungs-Nr: 27\nHeim: TSV 05 Neumünster II\nGast: SV Boostedt III\n
LOCATION:
CATEGORIES:Saison 2023/24
END:VEVENT
BEGIN:VEVENT
DTSTAMP:20260423T072528Z
DTSTART;TZID=Europe/Berlin:20231108T193000
DTEND;TZID=Europe/Berlin:20231108T223000
SUMMARY:1. Kreisklasse TSV 05 Neumünster II vs Polizei SV Neumünster IV (36)
UID:1f3f700e-44d7-5b33-e063-1fc7a80a4d3b
STATUS:CONFIRMED
LAST-MODIFIED:20240809T113129Z
DESCRIPTION:1. Kreisklasse Herren\nBegegnungs-Nr: 36\nHeim: TSV 05 Neumünster II\nGast: Polizei SV Neumünster IV\n
LOCATION:
CATEGORIES:Saison 2023/24
END:VEVENT
BEGIN:VEVENT
DTSTAMP:20260423T072528Z
DTSTART;TZID=Europe/Berlin:20231120T193000
DTEND;TZID=Europe/Berlin:20231120T223000
SUMMARY:1. Kreisklasse TSV 05 Neumünster II vs SG Westend Neumünster II (43)
UID:1f3f700e-4553-5b33-e063-1fc7a80a4d3b
STATUS:CONFIRMED
LAST-MODIFIED:20240809T113129Z
DESCRIPTION:1. Kreisklasse Herren\nBegegnungs-Nr: 43\nHeim: TSV 05 Neumünster II\nGast: SG Westend Neumünster II\n
LOCATION:
CATEGORIES:Saison 2023/24
END:VEVENT
BEGIN:VEVENT
DTSTAMP:20260423T072528Z
DTSTART;TZID=Europe/Berlin:20231206T193000
DTEND;TZID=Europe/Berlin:20231206T223000
SUMMARY:1. Kreisklasse TSV 05 Neumünster II vs SG Westend Neumünster  (53)
UID:1f3f700e-4611-5b33-e063-1fc7a80a4d3b
STATUS:CONFIRMED
LAST-MODIFIED:20240809T113129Z
DESCRIPTION:1. Kreisklasse Herren\nBegegnungs-Nr: 53\nHeim: TSV 05 Neumünster II\nGast: SG Westend Neumünster \n
LOCATION:
CATEGORIES:Saison 2023/24
END:VEVENT
BEGIN:VEVENT
DTSTAMP:20260423T072528Z
DTSTART;TZID=Europe/Berlin:20240205T193000
DTEND;TZID=Europe/Berlin:20240205T223000
SUMMARY:1. Kreisklasse TSV 05 Neumünster II vs SV Wasbek III (16)
UID:1f3f700e-4766-5b33-e063-1fc7a80a4d3b
STATUS:CONFIRMED
LAST-MODIFIED:20240809T113129Z
DESCRIPTION:1. Kreisklasse Herren\nBegegnungs-Nr: 16\nHeim: TSV 05 Neumünster II\nGast: SV Wasbek III\n
LOCATION:
CATEGORIES:Saison 2023/24
END:VEVENT
BEGIN:VEVENT
DTSTAMP:20260423T072528Z
DTSTART;TZID=Europe/Berlin:20240424T193000
DTEND;TZID=Europe/Berlin:20240424T223000
SUMMARY:1. Kreisklasse TSV 05 Neumünster II vs TS Einfeld Neumünster V (34)
UID:1f3f700e-48ba-5b33-e063-1fc7a80a4d3b
STATUS:CONFIRMED
LAST-MODIFIED:20240809T113129Z
DESCRIPTION:1. Kreisklasse Herren\nBegegnungs-Nr: 34\nHeim: TSV 05 Neumünster II\nGast: TS Einfeld Neumünster V\n
LOCATION:
CATEGORIES:Saison 2023/24
END:VEVENT
BEGIN:VEVENT
DTSTAMP:20260423T072528Z
DTSTART;TZID=Europe/Berlin:20240319T193000
DTEND;TZID=Europe/Berlin:20240319T223000
SUMMARY:1. Kreisklasse SG Westend Neumünster II vs TSV 05 Neumünster II (47)
UID:1f3f700e-49b7-5b33-e063-1fc7a80a4d3b
STATUS:CONFIRMED
LAST-MODIFIED:20240809T113129Z
DESCRIPTION:1. Kreisklasse Herren\nBegegnungs-Nr: 47\nHeim: SG Westend Neumünster II\nGast: TSV 05 Neumünster II\n
LOCATION:
CATEGORIES:Saison 2023/24
END:VEVENT
BEGIN:VEVENT
DTSTAMP:20260423T072528Z
DTSTART;TZID=Europe/Berlin:20240408T193000
DTEND;TZID=Europe/Berlin:20240408T223000
SUMMARY:1. Kreisklasse TTC Rendswühren  vs TSV 05 Neumünster II (52)
UID:1f3f700e-4a12-5b33-e063-1fc7a80a4d3b
STATUS:CONFIRMED
LAST-MODIFIED:20240809T113129Z
DESCRIPTION:1. Kreisklasse Herren\nBegegnungs-Nr: 52\nHeim: TTC Rendswühren \nGast: TSV 05 Neumünster II\n
LOCATION:
CATEGORIES:Saison 2023/24
END:VEVENT
BEGIN:VEVENT
DTSTAMP:20260423T072528Z
DTSTART;TZID=Europe/Berlin:20230925T193000
DTEND;TZID=Europe/Berlin:20230925T223000
SUMMARY:1. Kreisklasse SV Wasbek III vs TSV 05 Neumünster II (17)
UID:1f3f700e-436d-5b33-e063-1fc7a80a4d3b
STATUS:CONFIRMED
LAST-MODIFIED:20240809T113129Z
DESCRIPTION:1. Kreisklasse Herren\nBegegnungs-Nr: 17\nHeim: SV Wasbek III\nGast: TSV 05 Neumünster II\n
LOCATION:
CATEGORIES:Saison 2023/24
END:VEVENT
BEGIN:VEVENT
DTSTAMP:20260423T072528Z
DTSTART;TZID=Europe/Berlin:20231030T193000
DTEND;TZID=Europe/Berlin:20231030T223000
SUMMARY:1. Kreisklasse TS Einfeld Neumünster V vs TSV 05 Neumünster II (30)
UID:1f3f700e-4465-5b33-e063-1fc7a80a4d3b
STATUS:CONFIRMED
LAST-MODIFIED:20240809T113129Z
DESCRIPTION:1. Kreisklasse Herren\nBegegnungs-Nr: 30\nHeim: TS Einfeld Neumünster V\nGast: TSV 05 Neumünster II\n
LOCATION:
CATEGORIES:Saison 2023/24
END:VEVENT
BEGIN:VEVENT
DTSTAMP:20260423T072528Z
DTSTART;TZID=Europe/Berlin:20231117T193000
DTEND;TZID=Europe/Berlin:20231117T223000
SUMMARY:1. Kreisklasse SV Tungendorf III vs TSV 05 Neumünster II (42)
UID:1f3f700e-4541-5b33-e063-1fc7a80a4d3b
STATUS:CONFIRMED
LAST-MODIFIED:20240809T113129Z
DESCRIPTION:1. Kreisklasse Herren\nBegegnungs-Nr: 42\nHeim: SV Tungendorf III\nGast: TSV 05 Neumünster II\n
LOCATION:
CATEGORIES:Saison 2023/24
END:VEVENT
BEGIN:VEVENT
DTSTAMP:20260423T072528Z
DTSTART;TZID=Europe/Berlin:20231127T193000
DTEND;TZID=Europe/Berlin:20231127T223000
SUMMARY:1. Kreisklasse TTC Rendswühren  vs TSV 05 Neumünster II (48)
UID:1f3f700e-45b0-5b33-e063-1fc7a80a4d3b
STATUS:CONFIRMED
LAST-MODIFIED:20240809T113129Z
DESCRIPTION:1. Kreisklasse Herren\nBegegnungs-Nr: 48\nHeim: TTC Rendswühren \nGast: TSV 05 Neumünster II\n
LOCATION:
CATEGORIES:Saison 2023/24
END:VEVENT
BEGIN:VEVENT
DTSTAMP:20260423T072528Z
DTSTART;TZID=Europe/Berlin:20240228T190000
DTEND;TZID=Europe/Berlin:20240228T220000
SUMMARY:1. Kreisklasse SV Bönebüttel-Husberg II vs TSV 05 Neumünster II (4)
UID:1f3f700e-4686-5b33-e063-1fc7a80a4d3b
STATUS:CONFIRMED
LAST-MODIFIED:20240809T113129Z
DESCRIPTION:1. Kreisklasse Herren\nBegegnungs-Nr: 4\nHeim: SV Bönebüttel-Husberg II\nGast: TSV 05 Neumünster II\n
LOCATION:
CATEGORIES:Saison 2023/24
END:VEVENT
BEGIN:VEVENT
DTSTAMP:20260423T072528Z
DTSTART;TZID=Europe/Berlin:20240311T191500
DTEND;TZID=Europe/Berlin:20240311T221500
SUMMARY:1. Kreisklasse SG Westend Neumünster  vs TSV 05 Neumünster II (7)
UID:1f3f700e-46bb-5b33-e063-1fc7a80a4d3b
STATUS:CONFIRMED
LAST-MODIFIED:20240809T113129Z
DESCRIPTION:1. Kreisklasse Herren\nBegegnungs-Nr: 7\nHeim: SG Westend Neumünster \nGast: TSV 05 Neumünster II\n
LOCATION:
CATEGORIES:Saison 2023/24
END:VEVENT
BEGIN:VEVENT
DTSTAMP:20260423T072528Z
DTSTART;TZID=Europe/Berlin:20240202T193000
DTEND;TZID=Europe/Berlin:20240202T223000
SUMMARY:1. Kreisklasse SV Boostedt IV vs TSV 05 Neumünster II (15)
UID:1f3f700e-4750-5b33-e063-1fc7a80a4d3b
STATUS:CONFIRMED
LAST-MODIFIED:20240809T113129Z
DESCRIPTION:1. Kreisklasse Herren\nBegegnungs-Nr: 15\nHeim: SV Boostedt IV\nGast: TSV 05 Neumünster II\n
LOCATION:
CATEGORIES:Saison 2023/24
END:VEVENT
BEGIN:VEVENT
DTSTAMP:20260423T072528Z
DTSTART;TZID=Europe/Berlin:20240223T193000
DTEND;TZID=Europe/Berlin:20240223T223000
SUMMARY:1. Kreisklasse SV Boostedt III vs TSV 05 Neumünster II (29)
UID:1f3f700e-4858-5b33-e063-1fc7a80a4d3b
STATUS:CONFIRMED
LAST-MODIFIED:20240809T113129Z
DESCRIPTION:1. Kreisklasse Herren\nBegegnungs-Nr: 29\nHeim: SV Boostedt III\nGast: TSV 05 Neumünster II\n
LOCATION:
CATEGORIES:Saison 2023/24
END:VEVENT
BEGIN:VEVENT
DTSTAMP:20260423T072528Z
DTSTART;TZID=Europe/Berlin:20240307T193000
DTEND;TZID=Europe/Berlin:20240307T223000
SUMMARY:1. Kreisklasse Polizei SV Neumünster IV vs TSV 05 Neumünster II (38)
UID:1f3f700e-4909-5b33-e063-1fc7a80a4d3b
STATUS:CONFIRMED
LAST-MODIFIED:20240809T113129Z
DESCRIPTION:1. Kreisklasse Herren\nBegegnungs-Nr: 38\nHeim: Polizei SV Neumünster IV\nGast: TSV 05 Neumünster II\n
LOCATION:
CATEGORIES:Saison 2023/24
END:VEVENT
END:VCALENDAR
