BEGIN:VCALENDAR
PRODID:-//nuDatenautomaten//framework iCal4j //DE
VERSION:2.0
CALSCALE:GREGORIAN
BEGIN:VTIMEZONE
TZID:Europe/Berlin
LAST-MODIFIED:20260306T231828Z
TZURL:https://www.tzurl.org/zoneinfo/Europe/Berlin
X-LIC-LOCATION:Europe/Berlin
X-PROLEPTIC-TZNAME:LMT
BEGIN:STANDARD
TZNAME:CET
TZOFFSETFROM:+005328
TZOFFSETTO:+0100
DTSTART:18930401T000000
END:STANDARD
BEGIN:DAYLIGHT
TZNAME:CEST
TZOFFSETFROM:+0100
TZOFFSETTO:+0200
DTSTART:19160430T230000
RDATE:19400401T020000
RDATE:19430329T020000
RDATE:19460414T020000
RDATE:19470406T030000
RDATE:19480418T020000
RDATE:19490410T020000
RDATE:19800406T020000
END:DAYLIGHT
BEGIN:STANDARD
TZNAME:CET
TZOFFSETFROM:+0200
TZOFFSETTO:+0100
DTSTART:19161001T010000
RDATE:19421102T030000
RDATE:19431004T030000
RDATE:19441002T030000
RDATE:19451118T030000
RDATE:19461007T030000
END:STANDARD
BEGIN:DAYLIGHT
TZNAME:CEST
TZOFFSETFROM:+0100
TZOFFSETTO:+0200
DTSTART:19170416T020000
RRULE:FREQ=YEARLY;UNTIL=19180415T010000Z;BYMONTH=4;BYDAY=3MO
END:DAYLIGHT
BEGIN:STANDARD
TZNAME:CET
TZOFFSETFROM:+0200
TZOFFSETTO:+0100
DTSTART:19170917T030000
RRULE:FREQ=YEARLY;UNTIL=19180916T010000Z;BYMONTH=9;BYDAY=3MO
END:STANDARD
BEGIN:DAYLIGHT
TZNAME:CEST
TZOFFSETFROM:+0100
TZOFFSETTO:+0200
DTSTART:19440403T020000
RRULE:FREQ=YEARLY;UNTIL=19450402T010000Z;BYMONTH=4;BYDAY=1MO
END:DAYLIGHT
BEGIN:DAYLIGHT
TZNAME:CEMT
TZOFFSETFROM:+0200
TZOFFSETTO:+0300
DTSTART:19450524T020000
RDATE:19470511T030000
END:DAYLIGHT
BEGIN:DAYLIGHT
TZNAME:CEST
TZOFFSETFROM:+0300
TZOFFSETTO:+0200
DTSTART:19450924T030000
RDATE:19470629T030000
END:DAYLIGHT
BEGIN:STANDARD
TZNAME:CET
TZOFFSETFROM:+0100
TZOFFSETTO:+0100
DTSTART:19460101T000000
RDATE:19800101T000000
END:STANDARD
BEGIN:STANDARD
TZNAME:CET
TZOFFSETFROM:+0200
TZOFFSETTO:+0100
DTSTART:19471005T030000
RRULE:FREQ=YEARLY;UNTIL=19491002T010000Z;BYMONTH=10;BYDAY=1SU
END:STANDARD
BEGIN:STANDARD
TZNAME:CET
TZOFFSETFROM:+0200
TZOFFSETTO:+0100
DTSTART:19800928T030000
RRULE:FREQ=YEARLY;UNTIL=19950924T010000Z;BYMONTH=9;BYDAY=-1SU
END:STANDARD
BEGIN:DAYLIGHT
TZNAME:CEST
TZOFFSETFROM:+0100
TZOFFSETTO:+0200
DTSTART:19810329T020000
RRULE:FREQ=YEARLY;BYMONTH=3;BYDAY=-1SU
END:DAYLIGHT
BEGIN:STANDARD
TZNAME:CET
TZOFFSETFROM:+0200
TZOFFSETTO:+0100
DTSTART:19961027T030000
RRULE:FREQ=YEARLY;BYMONTH=10;BYDAY=-1SU
END:STANDARD
END:VTIMEZONE
BEGIN:VEVENT
DTSTAMP:20260419T143232Z
DTSTART;TZID=Europe/Berlin:20230920T201500
DTEND;TZID=Europe/Berlin:20230920T231500
SUMMARY:2. Kreisklasse Gruppe A TuS Esingen IV vs TTC Seeth-Ekholt III (5)
UID:1f3f700e-f1e5-5b33-e063-1fc7a80a4d3b
STATUS:CONFIRMED
LAST-MODIFIED:20240809T113149Z
DESCRIPTION:2. Kreisklasse Herren Gruppe A\nBegegnungs-Nr: 5\nHeim: TuS Esingen IV\nGast: TTC Seeth-Ekholt III\n
LOCATION:
CATEGORIES:Saison 2023/24
END:VEVENT
BEGIN:VEVENT
DTSTAMP:20260419T143232Z
DTSTART;TZID=Europe/Berlin:20231011T201500
DTEND;TZID=Europe/Berlin:20231011T231500
SUMMARY:2. Kreisklasse Gruppe A TuS Esingen IV vs TuS Appen III (19)
UID:1f3f700e-f2f5-5b33-e063-1fc7a80a4d3b
STATUS:CONFIRMED
LAST-MODIFIED:20240809T113149Z
DESCRIPTION:2. Kreisklasse Herren Gruppe A\nBegegnungs-Nr: 19\nHeim: TuS Esingen IV\nGast: TuS Appen III\n
LOCATION:
CATEGORIES:Saison 2023/24
END:VEVENT
BEGIN:VEVENT
DTSTAMP:20260419T143232Z
DTSTART;TZID=Europe/Berlin:20231115T201500
DTEND;TZID=Europe/Berlin:20231115T231500
SUMMARY:2. Kreisklasse Gruppe A TuS Esingen IV vs Post SV Elmshorn II (27)
UID:1f3f700e-f392-5b33-e063-1fc7a80a4d3b
STATUS:CONFIRMED
LAST-MODIFIED:20240809T113149Z
DESCRIPTION:2. Kreisklasse Herren Gruppe A\nBegegnungs-Nr: 27\nHeim: TuS Esingen IV\nGast: Post SV Elmshorn II\n
LOCATION:
CATEGORIES:Saison 2023/24
END:VEVENT
BEGIN:VEVENT
DTSTAMP:20260419T143232Z
DTSTART;TZID=Europe/Berlin:20231129T201500
DTEND;TZID=Europe/Berlin:20231129T231500
SUMMARY:2. Kreisklasse Gruppe A TuS Esingen IV vs Barmstedter MTV II (35)
UID:1f3f700e-f415-5b33-e063-1fc7a80a4d3b
STATUS:CONFIRMED
LAST-MODIFIED:20240809T113149Z
DESCRIPTION:2. Kreisklasse Herren Gruppe A\nBegegnungs-Nr: 35\nHeim: TuS Esingen IV\nGast: Barmstedter MTV II\n
LOCATION:
CATEGORIES:Saison 2023/24
END:VEVENT
BEGIN:VEVENT
DTSTAMP:20260419T143232Z
DTSTART;TZID=Europe/Berlin:20231213T201500
DTEND;TZID=Europe/Berlin:20231213T231500
SUMMARY:2. Kreisklasse Gruppe A TuS Esingen IV vs TSV Ellerbek IV (43)
UID:1f3f700e-f4ab-5b33-e063-1fc7a80a4d3b
STATUS:CONFIRMED
LAST-MODIFIED:20240809T113149Z
DESCRIPTION:2. Kreisklasse Herren Gruppe A\nBegegnungs-Nr: 43\nHeim: TuS Esingen IV\nGast: TSV Ellerbek IV\n
LOCATION:
CATEGORIES:Saison 2023/24
END:VEVENT
BEGIN:VEVENT
DTSTAMP:20260419T143232Z
DTSTART;TZID=Europe/Berlin:20240313T201500
DTEND;TZID=Europe/Berlin:20240313T231500
SUMMARY:2. Kreisklasse Gruppe A TuS Esingen IV vs TSV Uetersen IV (101)
UID:1f3f700e-f4e0-5b33-e063-1fc7a80a4d3b
STATUS:CONFIRMED
LAST-MODIFIED:20240809T113149Z
DESCRIPTION:2. Kreisklasse Herren Gruppe A\nBegegnungs-Nr: 101\nHeim: TuS Esingen IV\nGast: TSV Uetersen IV\n
LOCATION:
CATEGORIES:Saison 2023/24
END:VEVENT
BEGIN:VEVENT
DTSTAMP:20260419T143232Z
DTSTART;TZID=Europe/Berlin:20240221T201500
DTEND;TZID=Europe/Berlin:20240221T231500
SUMMARY:2. Kreisklasse Gruppe A TuS Esingen IV vs Barmstedter MTV IV (123)
UID:1f3f700e-f67f-5b33-e063-1fc7a80a4d3b
STATUS:CONFIRMED
LAST-MODIFIED:20240809T113149Z
DESCRIPTION:2. Kreisklasse Herren Gruppe A\nBegegnungs-Nr: 123\nHeim: TuS Esingen IV\nGast: Barmstedter MTV IV\n
LOCATION:
CATEGORIES:Saison 2023/24
END:VEVENT
BEGIN:VEVENT
DTSTAMP:20260419T143232Z
DTSTART;TZID=Europe/Berlin:20240320T201500
DTEND;TZID=Europe/Berlin:20240320T231500
SUMMARY:2. Kreisklasse Gruppe A TuS Esingen IV vs SC Pinneberg  (139)
UID:1f3f700e-f7bc-5b33-e063-1fc7a80a4d3b
STATUS:CONFIRMED
LAST-MODIFIED:20240809T113150Z
DESCRIPTION:2. Kreisklasse Herren Gruppe A\nBegegnungs-Nr: 139\nHeim: TuS Esingen IV\nGast: SC Pinneberg \n
LOCATION:
CATEGORIES:Saison 2023/24
END:VEVENT
BEGIN:VEVENT
DTSTAMP:20260419T143232Z
DTSTART;TZID=Europe/Berlin:20230914T201500
DTEND;TZID=Europe/Berlin:20230914T231500
SUMMARY:2. Kreisklasse Gruppe A TSV Uetersen IV vs TuS Esingen IV (3)
UID:1f3f700e-f1be-5b33-e063-1fc7a80a4d3b
STATUS:CONFIRMED
LAST-MODIFIED:20240809T113149Z
DESCRIPTION:2. Kreisklasse Herren Gruppe A\nBegegnungs-Nr: 3\nHeim: TSV Uetersen IV\nGast: TuS Esingen IV\n
LOCATION:
CATEGORIES:Saison 2023/24
END:VEVENT
BEGIN:VEVENT
DTSTAMP:20260419T143232Z
DTSTART;TZID=Europe/Berlin:20231110T194500
DTEND;TZID=Europe/Berlin:20231110T224500
SUMMARY:2. Kreisklasse Gruppe A Barmstedter MTV IV vs TuS Esingen IV (24)
UID:1f3f700e-f35a-5b33-e063-1fc7a80a4d3b
STATUS:CONFIRMED
LAST-MODIFIED:20240809T113149Z
DESCRIPTION:2. Kreisklasse Herren Gruppe A\nBegegnungs-Nr: 24\nHeim: Barmstedter MTV IV\nGast: TuS Esingen IV\n
LOCATION:
CATEGORIES:Saison 2023/24
END:VEVENT
BEGIN:VEVENT
DTSTAMP:20260419T143232Z
DTSTART;TZID=Europe/Berlin:20231206T193000
DTEND;TZID=Europe/Berlin:20231206T223000
SUMMARY:2. Kreisklasse Gruppe A SC Pinneberg  vs TuS Esingen IV (38)
UID:1f3f700e-f450-5b33-e063-1fc7a80a4d3b
STATUS:CONFIRMED
LAST-MODIFIED:20240809T113149Z
DESCRIPTION:2. Kreisklasse Herren Gruppe A\nBegegnungs-Nr: 38\nHeim: SC Pinneberg \nGast: TuS Esingen IV\n
LOCATION:
CATEGORIES:Saison 2023/24
END:VEVENT
BEGIN:VEVENT
DTSTAMP:20260419T143232Z
DTSTART;TZID=Europe/Berlin:20240129T200000
DTEND;TZID=Europe/Berlin:20240129T230000
SUMMARY:2. Kreisklasse Gruppe A TTC Seeth-Ekholt III vs TuS Esingen IV (105)
UID:1f3f700e-f528-5b33-e063-1fc7a80a4d3b
STATUS:CONFIRMED
LAST-MODIFIED:20240809T113149Z
DESCRIPTION:2. Kreisklasse Herren Gruppe A\nBegegnungs-Nr: 105\nHeim: TTC Seeth-Ekholt III\nGast: TuS Esingen IV\n
LOCATION:
CATEGORIES:Saison 2023/24
END:VEVENT
BEGIN:VEVENT
DTSTAMP:20260419T143232Z
DTSTART;TZID=Europe/Berlin:20240319T193000
DTEND;TZID=Europe/Berlin:20240319T223000
SUMMARY:2. Kreisklasse Gruppe A TuS Appen III vs TuS Esingen IV (119)
UID:1f3f700e-f632-5b33-e063-1fc7a80a4d3b
STATUS:CONFIRMED
LAST-MODIFIED:20240809T113149Z
DESCRIPTION:2. Kreisklasse Herren Gruppe A\nBegegnungs-Nr: 119\nHeim: TuS Appen III\nGast: TuS Esingen IV\n
LOCATION:
CATEGORIES:Saison 2023/24
END:VEVENT
BEGIN:VEVENT
DTSTAMP:20260419T143232Z
DTSTART;TZID=Europe/Berlin:20240212T201500
DTEND;TZID=Europe/Berlin:20240212T231500
SUMMARY:2. Kreisklasse Gruppe A Post SV Elmshorn II vs TuS Esingen IV (128)
UID:1f3f700e-f6e1-5b33-e063-1fc7a80a4d3b
STATUS:CONFIRMED
LAST-MODIFIED:20240809T113150Z
DESCRIPTION:2. Kreisklasse Herren Gruppe A\nBegegnungs-Nr: 128\nHeim: Post SV Elmshorn II\nGast: TuS Esingen IV\n
LOCATION:
CATEGORIES:Saison 2023/24
END:VEVENT
BEGIN:VEVENT
DTSTAMP:20260419T143232Z
DTSTART;TZID=Europe/Berlin:20240308T201500
DTEND;TZID=Europe/Berlin:20240308T231500
SUMMARY:2. Kreisklasse Gruppe A SV Lieth  vs TuS Esingen IV (131)
UID:1f3f700e-f71f-5b33-e063-1fc7a80a4d3b
STATUS:CONFIRMED
LAST-MODIFIED:20240809T113150Z
DESCRIPTION:2. Kreisklasse Herren Gruppe A\nBegegnungs-Nr: 131\nHeim: SV Lieth \nGast: TuS Esingen IV\n
LOCATION:
CATEGORIES:Saison 2023/24
END:VEVENT
BEGIN:VEVENT
DTSTAMP:20260419T143232Z
DTSTART;TZID=Europe/Berlin:20240311T200000
DTEND;TZID=Europe/Berlin:20240311T230000
SUMMARY:2. Kreisklasse Gruppe A Barmstedter MTV II vs TuS Esingen IV (134)
UID:1f3f700e-f75d-5b33-e063-1fc7a80a4d3b
STATUS:CONFIRMED
LAST-MODIFIED:20240809T113150Z
DESCRIPTION:2. Kreisklasse Herren Gruppe A\nBegegnungs-Nr: 134\nHeim: Barmstedter MTV II\nGast: TuS Esingen IV\n
LOCATION:
CATEGORIES:Saison 2023/24
END:VEVENT
BEGIN:VEVENT
DTSTAMP:20260419T143232Z
DTSTART;TZID=Europe/Berlin:20240325T201500
DTEND;TZID=Europe/Berlin:20240325T231500
SUMMARY:2. Kreisklasse Gruppe A TSV Ellerbek IV vs TuS Esingen IV (143)
UID:1f3f700e-f80c-5b33-e063-1fc7a80a4d3b
STATUS:CONFIRMED
LAST-MODIFIED:20240809T113150Z
DESCRIPTION:2. Kreisklasse Herren Gruppe A\nBegegnungs-Nr: 143\nHeim: TSV Ellerbek IV\nGast: TuS Esingen IV\n
LOCATION:
CATEGORIES:Saison 2023/24
END:VEVENT
END:VCALENDAR
