BEGIN:VCALENDAR
PRODID:-//nuDatenautomaten//framework iCal4j //DE
VERSION:2.0
CALSCALE:GREGORIAN
BEGIN:VTIMEZONE
TZID:Europe/Berlin
LAST-MODIFIED:20260306T231828Z
TZURL:https://www.tzurl.org/zoneinfo/Europe/Berlin
X-LIC-LOCATION:Europe/Berlin
X-PROLEPTIC-TZNAME:LMT
BEGIN:STANDARD
TZNAME:CET
TZOFFSETFROM:+005328
TZOFFSETTO:+0100
DTSTART:18930401T000000
END:STANDARD
BEGIN:DAYLIGHT
TZNAME:CEST
TZOFFSETFROM:+0100
TZOFFSETTO:+0200
DTSTART:19160430T230000
RDATE:19400401T020000
RDATE:19430329T020000
RDATE:19460414T020000
RDATE:19470406T030000
RDATE:19480418T020000
RDATE:19490410T020000
RDATE:19800406T020000
END:DAYLIGHT
BEGIN:STANDARD
TZNAME:CET
TZOFFSETFROM:+0200
TZOFFSETTO:+0100
DTSTART:19161001T010000
RDATE:19421102T030000
RDATE:19431004T030000
RDATE:19441002T030000
RDATE:19451118T030000
RDATE:19461007T030000
END:STANDARD
BEGIN:DAYLIGHT
TZNAME:CEST
TZOFFSETFROM:+0100
TZOFFSETTO:+0200
DTSTART:19170416T020000
RRULE:FREQ=YEARLY;UNTIL=19180415T010000Z;BYMONTH=4;BYDAY=3MO
END:DAYLIGHT
BEGIN:STANDARD
TZNAME:CET
TZOFFSETFROM:+0200
TZOFFSETTO:+0100
DTSTART:19170917T030000
RRULE:FREQ=YEARLY;UNTIL=19180916T010000Z;BYMONTH=9;BYDAY=3MO
END:STANDARD
BEGIN:DAYLIGHT
TZNAME:CEST
TZOFFSETFROM:+0100
TZOFFSETTO:+0200
DTSTART:19440403T020000
RRULE:FREQ=YEARLY;UNTIL=19450402T010000Z;BYMONTH=4;BYDAY=1MO
END:DAYLIGHT
BEGIN:DAYLIGHT
TZNAME:CEMT
TZOFFSETFROM:+0200
TZOFFSETTO:+0300
DTSTART:19450524T020000
RDATE:19470511T030000
END:DAYLIGHT
BEGIN:DAYLIGHT
TZNAME:CEST
TZOFFSETFROM:+0300
TZOFFSETTO:+0200
DTSTART:19450924T030000
RDATE:19470629T030000
END:DAYLIGHT
BEGIN:STANDARD
TZNAME:CET
TZOFFSETFROM:+0100
TZOFFSETTO:+0100
DTSTART:19460101T000000
RDATE:19800101T000000
END:STANDARD
BEGIN:STANDARD
TZNAME:CET
TZOFFSETFROM:+0200
TZOFFSETTO:+0100
DTSTART:19471005T030000
RRULE:FREQ=YEARLY;UNTIL=19491002T010000Z;BYMONTH=10;BYDAY=1SU
END:STANDARD
BEGIN:STANDARD
TZNAME:CET
TZOFFSETFROM:+0200
TZOFFSETTO:+0100
DTSTART:19800928T030000
RRULE:FREQ=YEARLY;UNTIL=19950924T010000Z;BYMONTH=9;BYDAY=-1SU
END:STANDARD
BEGIN:DAYLIGHT
TZNAME:CEST
TZOFFSETFROM:+0100
TZOFFSETTO:+0200
DTSTART:19810329T020000
RRULE:FREQ=YEARLY;BYMONTH=3;BYDAY=-1SU
END:DAYLIGHT
BEGIN:STANDARD
TZNAME:CET
TZOFFSETFROM:+0200
TZOFFSETTO:+0100
DTSTART:19961027T030000
RRULE:FREQ=YEARLY;BYMONTH=10;BYDAY=-1SU
END:STANDARD
END:VTIMEZONE
BEGIN:VEVENT
DTSTAMP:20260420T042500Z
DTSTART;TZID=Europe/Berlin:20231010T203000
DTEND;TZID=Europe/Berlin:20231010T233000
SUMMARY:1. Kreisklasse Gruppe A SC Cosmos Wedel II vs TSV Sparrieshoop III (17)
UID:1f3f700e-e584-5b33-e063-1fc7a80a4d3b
STATUS:CONFIRMED
LAST-MODIFIED:20240809T113148Z
DESCRIPTION:1. Kreisklasse Herren Gruppe A\nBegegnungs-Nr: 17\nHeim: SC Cosmos Wedel II\nGast: TSV Sparrieshoop III\n
LOCATION:
CATEGORIES:Saison 2023/24
END:VEVENT
BEGIN:VEVENT
DTSTAMP:20260420T042500Z
DTSTART;TZID=Europe/Berlin:20231116T203000
DTEND;TZID=Europe/Berlin:20231116T233000
SUMMARY:1. Kreisklasse Gruppe A SC Cosmos Wedel II vs SuS Waldenau II (25)
UID:1f3f700e-e61d-5b33-e063-1fc7a80a4d3b
STATUS:CONFIRMED
LAST-MODIFIED:20240809T113148Z
DESCRIPTION:1. Kreisklasse Herren Gruppe A\nBegegnungs-Nr: 25\nHeim: SC Cosmos Wedel II\nGast: SuS Waldenau II\n
LOCATION:
CATEGORIES:Saison 2023/24
END:VEVENT
BEGIN:VEVENT
DTSTAMP:20260420T042500Z
DTSTART;TZID=Europe/Berlin:20231130T201500
DTEND;TZID=Europe/Berlin:20231130T231500
SUMMARY:1. Kreisklasse Gruppe A SC Cosmos Wedel II vs Halstenbeker TS II (37)
UID:1f3f700e-e703-5b33-e063-1fc7a80a4d3b
STATUS:CONFIRMED
LAST-MODIFIED:20240809T113148Z
DESCRIPTION:1. Kreisklasse Herren Gruppe A\nBegegnungs-Nr: 37\nHeim: SC Cosmos Wedel II\nGast: Halstenbeker TS II\n
LOCATION:
CATEGORIES:Saison 2023/24
END:VEVENT
BEGIN:VEVENT
DTSTAMP:20260420T042500Z
DTSTART;TZID=Europe/Berlin:20231205T203000
DTEND;TZID=Europe/Berlin:20231205T233000
SUMMARY:1. Kreisklasse Gruppe A SC Cosmos Wedel II vs TSV Prisdorf II (38)
UID:1f3f700e-e716-5b33-e063-1fc7a80a4d3b
STATUS:CONFIRMED
LAST-MODIFIED:20240809T113148Z
DESCRIPTION:1. Kreisklasse Herren Gruppe A\nBegegnungs-Nr: 38\nHeim: SC Cosmos Wedel II\nGast: TSV Prisdorf II\n
LOCATION:
CATEGORIES:Saison 2023/24
END:VEVENT
BEGIN:VEVENT
DTSTAMP:20260420T042500Z
DTSTART;TZID=Europe/Berlin:20240220T203000
DTEND;TZID=Europe/Berlin:20240220T233000
SUMMARY:1. Kreisklasse Gruppe A SC Cosmos Wedel II vs Moorreger SV VI (106)
UID:1f3f700e-e807-5b33-e063-1fc7a80a4d3b
STATUS:CONFIRMED
LAST-MODIFIED:20240809T113148Z
DESCRIPTION:1. Kreisklasse Herren Gruppe A\nBegegnungs-Nr: 106\nHeim: SC Cosmos Wedel II\nGast: Moorreger SV VI\n
LOCATION:
CATEGORIES:Saison 2023/24
END:VEVENT
BEGIN:VEVENT
DTSTAMP:20260420T042500Z
DTSTART;TZID=Europe/Berlin:20240319T203000
DTEND;TZID=Europe/Berlin:20240319T233000
SUMMARY:1. Kreisklasse Gruppe A SC Cosmos Wedel II vs TuS Holstein Quickborn III (114)
UID:1f3f700e-e89e-5b33-e063-1fc7a80a4d3b
STATUS:CONFIRMED
LAST-MODIFIED:20240809T113148Z
DESCRIPTION:1. Kreisklasse Herren Gruppe A\nBegegnungs-Nr: 114\nHeim: SC Cosmos Wedel II\nGast: TuS Holstein Quickborn III\n
LOCATION:
CATEGORIES:Saison 2023/24
END:VEVENT
BEGIN:VEVENT
DTSTAMP:20260420T042500Z
DTSTART;TZID=Europe/Berlin:20240223T203000
DTEND;TZID=Europe/Berlin:20240223T233000
SUMMARY:1. Kreisklasse Gruppe A SC Cosmos Wedel II vs TSV Ellerbek III (121)
UID:1f3f700e-e925-5b33-e063-1fc7a80a4d3b
STATUS:CONFIRMED
LAST-MODIFIED:20240809T113148Z
DESCRIPTION:1. Kreisklasse Herren Gruppe A\nBegegnungs-Nr: 121\nHeim: SC Cosmos Wedel II\nGast: TSV Ellerbek III\n
LOCATION:
CATEGORIES:Saison 2023/24
END:VEVENT
BEGIN:VEVENT
DTSTAMP:20260420T042500Z
DTSTART;TZID=Europe/Berlin:20240308T203000
DTEND;TZID=Europe/Berlin:20240308T233000
SUMMARY:1. Kreisklasse Gruppe A SC Cosmos Wedel II vs SV Friedrichsgabe II (130)
UID:1f3f700e-e9cc-5b33-e063-1fc7a80a4d3b
STATUS:CONFIRMED
LAST-MODIFIED:20240809T113148Z
DESCRIPTION:1. Kreisklasse Herren Gruppe A\nBegegnungs-Nr: 130\nHeim: SC Cosmos Wedel II\nGast: SV Friedrichsgabe II\n
LOCATION:
CATEGORIES:Saison 2023/24
END:VEVENT
BEGIN:VEVENT
DTSTAMP:20260420T042500Z
DTSTART;TZID=Europe/Berlin:20240327T203000
DTEND;TZID=Europe/Berlin:20240327T233000
SUMMARY:1. Kreisklasse Gruppe A SC Cosmos Wedel II vs MTV Ellerhoop III (143)
UID:1f3f700e-eac0-5b33-e063-1fc7a80a4d3b
STATUS:CONFIRMED
LAST-MODIFIED:20240809T113148Z
DESCRIPTION:1. Kreisklasse Herren Gruppe A\nBegegnungs-Nr: 143\nHeim: SC Cosmos Wedel II\nGast: MTV Ellerhoop III\n
LOCATION:
CATEGORIES:Saison 2023/24
END:VEVENT
BEGIN:VEVENT
DTSTAMP:20260420T042500Z
DTSTART;TZID=Europe/Berlin:20230921T201500
DTEND;TZID=Europe/Berlin:20230921T231500
SUMMARY:1. Kreisklasse Gruppe A Moorreger SV VI vs SC Cosmos Wedel II (7)
UID:1f3f700e-e4c4-5b33-e063-1fc7a80a4d3b
STATUS:CONFIRMED
LAST-MODIFIED:20240809T113147Z
DESCRIPTION:1. Kreisklasse Herren Gruppe A\nBegegnungs-Nr: 7\nHeim: Moorreger SV VI\nGast: SC Cosmos Wedel II\n
LOCATION:
CATEGORIES:Saison 2023/24
END:VEVENT
BEGIN:VEVENT
DTSTAMP:20260420T042500Z
DTSTART;TZID=Europe/Berlin:20231004T201500
DTEND;TZID=Europe/Berlin:20231004T231500
SUMMARY:1. Kreisklasse Gruppe A TuS Holstein Quickborn III vs SC Cosmos Wedel II (13)
UID:1f3f700e-e537-5b33-e063-1fc7a80a4d3b
STATUS:CONFIRMED
LAST-MODIFIED:20240809T113147Z
DESCRIPTION:1. Kreisklasse Herren Gruppe A\nBegegnungs-Nr: 13\nHeim: TuS Holstein Quickborn III\nGast: SC Cosmos Wedel II\n
LOCATION:
CATEGORIES:Saison 2023/24
END:VEVENT
BEGIN:VEVENT
DTSTAMP:20260420T042500Z
DTSTART;TZID=Europe/Berlin:20231106T200000
DTEND;TZID=Europe/Berlin:20231106T230000
SUMMARY:1. Kreisklasse Gruppe A TSV Ellerbek III vs SC Cosmos Wedel II (21)
UID:1f3f700e-e5cf-5b33-e063-1fc7a80a4d3b
STATUS:CONFIRMED
LAST-MODIFIED:20240809T113148Z
DESCRIPTION:1. Kreisklasse Herren Gruppe A\nBegegnungs-Nr: 21\nHeim: TSV Ellerbek III\nGast: SC Cosmos Wedel II\n
LOCATION:
CATEGORIES:Saison 2023/24
END:VEVENT
BEGIN:VEVENT
DTSTAMP:20260420T042500Z
DTSTART;TZID=Europe/Berlin:20231128T200000
DTEND;TZID=Europe/Berlin:20231128T230000
SUMMARY:1. Kreisklasse Gruppe A SV Friedrichsgabe II vs SC Cosmos Wedel II (31)
UID:1f3f700e-e68e-5b33-e063-1fc7a80a4d3b
STATUS:CONFIRMED
LAST-MODIFIED:20240809T113148Z
DESCRIPTION:1. Kreisklasse Herren Gruppe A\nBegegnungs-Nr: 31\nHeim: SV Friedrichsgabe II\nGast: SC Cosmos Wedel II\n
LOCATION:
CATEGORIES:Saison 2023/24
END:VEVENT
BEGIN:VEVENT
DTSTAMP:20260420T042500Z
DTSTART;TZID=Europe/Berlin:20231214T200000
DTEND;TZID=Europe/Berlin:20231214T230000
SUMMARY:1. Kreisklasse Gruppe A MTV Ellerhoop III vs SC Cosmos Wedel II (43)
UID:1f3f700e-e778-5b33-e063-1fc7a80a4d3b
STATUS:CONFIRMED
LAST-MODIFIED:20240809T113148Z
DESCRIPTION:1. Kreisklasse Herren Gruppe A\nBegegnungs-Nr: 43\nHeim: MTV Ellerhoop III\nGast: SC Cosmos Wedel II\n
LOCATION:
CATEGORIES:Saison 2023/24
END:VEVENT
BEGIN:VEVENT
DTSTAMP:20260420T042500Z
DTSTART;TZID=Europe/Berlin:20240216T201500
DTEND;TZID=Europe/Berlin:20240216T231500
SUMMARY:1. Kreisklasse Gruppe A TSV Sparrieshoop III vs SC Cosmos Wedel II (120)
UID:1f3f700e-e910-5b33-e063-1fc7a80a4d3b
STATUS:CONFIRMED
LAST-MODIFIED:20240809T113148Z
DESCRIPTION:1. Kreisklasse Herren Gruppe A\nBegegnungs-Nr: 120\nHeim: TSV Sparrieshoop III\nGast: SC Cosmos Wedel II\n
LOCATION:
CATEGORIES:Saison 2023/24
END:VEVENT
BEGIN:VEVENT
DTSTAMP:20260420T042500Z
DTSTART;TZID=Europe/Berlin:20240301T201500
DTEND;TZID=Europe/Berlin:20240301T231500
SUMMARY:1. Kreisklasse Gruppe A SuS Waldenau II vs SC Cosmos Wedel II (128)
UID:1f3f700e-e9a8-5b33-e063-1fc7a80a4d3b
STATUS:CONFIRMED
LAST-MODIFIED:20240809T113148Z
DESCRIPTION:1. Kreisklasse Herren Gruppe A\nBegegnungs-Nr: 128\nHeim: SuS Waldenau II\nGast: SC Cosmos Wedel II\n
LOCATION:
CATEGORIES:Saison 2023/24
END:VEVENT
BEGIN:VEVENT
DTSTAMP:20260420T042500Z
DTSTART;TZID=Europe/Berlin:20240315T193000
DTEND;TZID=Europe/Berlin:20240315T223000
SUMMARY:1. Kreisklasse Gruppe A Halstenbeker TS II vs SC Cosmos Wedel II (135)
UID:1f3f700e-ea23-5b33-e063-1fc7a80a4d3b
STATUS:CONFIRMED
LAST-MODIFIED:20240809T113148Z
DESCRIPTION:1. Kreisklasse Herren Gruppe A\nBegegnungs-Nr: 135\nHeim: Halstenbeker TS II\nGast: SC Cosmos Wedel II\n
LOCATION:
CATEGORIES:Saison 2023/24
END:VEVENT
BEGIN:VEVENT
DTSTAMP:20260420T042500Z
DTSTART;TZID=Europe/Berlin:20240321T201500
DTEND;TZID=Europe/Berlin:20240321T231500
SUMMARY:1. Kreisklasse Gruppe A TSV Prisdorf II vs SC Cosmos Wedel II (140)
UID:1f3f700e-ea83-5b33-e063-1fc7a80a4d3b
STATUS:CONFIRMED
LAST-MODIFIED:20240809T113148Z
DESCRIPTION:1. Kreisklasse Herren Gruppe A\nBegegnungs-Nr: 140\nHeim: TSV Prisdorf II\nGast: SC Cosmos Wedel II\n
LOCATION:
CATEGORIES:Saison 2023/24
END:VEVENT
END:VCALENDAR
