BEGIN:VCALENDAR
PRODID:-//nuDatenautomaten//framework iCal4j //DE
VERSION:2.0
CALSCALE:GREGORIAN
BEGIN:VTIMEZONE
TZID:Europe/Berlin
LAST-MODIFIED:20260306T231828Z
TZURL:https://www.tzurl.org/zoneinfo/Europe/Berlin
X-LIC-LOCATION:Europe/Berlin
X-PROLEPTIC-TZNAME:LMT
BEGIN:STANDARD
TZNAME:CET
TZOFFSETFROM:+005328
TZOFFSETTO:+0100
DTSTART:18930401T000000
END:STANDARD
BEGIN:DAYLIGHT
TZNAME:CEST
TZOFFSETFROM:+0100
TZOFFSETTO:+0200
DTSTART:19160430T230000
RDATE:19400401T020000
RDATE:19430329T020000
RDATE:19460414T020000
RDATE:19470406T030000
RDATE:19480418T020000
RDATE:19490410T020000
RDATE:19800406T020000
END:DAYLIGHT
BEGIN:STANDARD
TZNAME:CET
TZOFFSETFROM:+0200
TZOFFSETTO:+0100
DTSTART:19161001T010000
RDATE:19421102T030000
RDATE:19431004T030000
RDATE:19441002T030000
RDATE:19451118T030000
RDATE:19461007T030000
END:STANDARD
BEGIN:DAYLIGHT
TZNAME:CEST
TZOFFSETFROM:+0100
TZOFFSETTO:+0200
DTSTART:19170416T020000
RRULE:FREQ=YEARLY;UNTIL=19180415T010000Z;BYMONTH=4;BYDAY=3MO
END:DAYLIGHT
BEGIN:STANDARD
TZNAME:CET
TZOFFSETFROM:+0200
TZOFFSETTO:+0100
DTSTART:19170917T030000
RRULE:FREQ=YEARLY;UNTIL=19180916T010000Z;BYMONTH=9;BYDAY=3MO
END:STANDARD
BEGIN:DAYLIGHT
TZNAME:CEST
TZOFFSETFROM:+0100
TZOFFSETTO:+0200
DTSTART:19440403T020000
RRULE:FREQ=YEARLY;UNTIL=19450402T010000Z;BYMONTH=4;BYDAY=1MO
END:DAYLIGHT
BEGIN:DAYLIGHT
TZNAME:CEMT
TZOFFSETFROM:+0200
TZOFFSETTO:+0300
DTSTART:19450524T020000
RDATE:19470511T030000
END:DAYLIGHT
BEGIN:DAYLIGHT
TZNAME:CEST
TZOFFSETFROM:+0300
TZOFFSETTO:+0200
DTSTART:19450924T030000
RDATE:19470629T030000
END:DAYLIGHT
BEGIN:STANDARD
TZNAME:CET
TZOFFSETFROM:+0100
TZOFFSETTO:+0100
DTSTART:19460101T000000
RDATE:19800101T000000
END:STANDARD
BEGIN:STANDARD
TZNAME:CET
TZOFFSETFROM:+0200
TZOFFSETTO:+0100
DTSTART:19471005T030000
RRULE:FREQ=YEARLY;UNTIL=19491002T010000Z;BYMONTH=10;BYDAY=1SU
END:STANDARD
BEGIN:STANDARD
TZNAME:CET
TZOFFSETFROM:+0200
TZOFFSETTO:+0100
DTSTART:19800928T030000
RRULE:FREQ=YEARLY;UNTIL=19950924T010000Z;BYMONTH=9;BYDAY=-1SU
END:STANDARD
BEGIN:DAYLIGHT
TZNAME:CEST
TZOFFSETFROM:+0100
TZOFFSETTO:+0200
DTSTART:19810329T020000
RRULE:FREQ=YEARLY;BYMONTH=3;BYDAY=-1SU
END:DAYLIGHT
BEGIN:STANDARD
TZNAME:CET
TZOFFSETFROM:+0200
TZOFFSETTO:+0100
DTSTART:19961027T030000
RRULE:FREQ=YEARLY;BYMONTH=10;BYDAY=-1SU
END:STANDARD
END:VTIMEZONE
BEGIN:VEVENT
DTSTAMP:20260424T014504Z
DTSTART;TZID=Europe/Berlin:20231115T201400
DTEND;TZID=Europe/Berlin:20231115T231400
SUMMARY:Kreisliga TTC Die Sterne Elmshorn II vs TuS Appen  (41)
UID:1f3f700e-dde8-5b33-e063-1fc7a80a4d3b
STATUS:CONFIRMED
LAST-MODIFIED:20240809T113147Z
DESCRIPTION:Kreisliga Herren\nBegegnungs-Nr: 41\nHeim: TTC Die Sterne Elmshorn II\nGast: TuS Appen \n
LOCATION:
CATEGORIES:Saison 2023/24
END:VEVENT
BEGIN:VEVENT
DTSTAMP:20260424T014504Z
DTSTART;TZID=Europe/Berlin:20231129T201400
DTEND;TZID=Europe/Berlin:20231129T231400
SUMMARY:Kreisliga TTC Die Sterne Elmshorn II vs TuS Esingen III (53)
UID:1f3f700e-deca-5b33-e063-1fc7a80a4d3b
STATUS:CONFIRMED
LAST-MODIFIED:20240809T113147Z
DESCRIPTION:Kreisliga Herren\nBegegnungs-Nr: 53\nHeim: TTC Die Sterne Elmshorn II\nGast: TuS Esingen III\n
LOCATION:
CATEGORIES:Saison 2023/24
END:VEVENT
BEGIN:VEVENT
DTSTAMP:20260424T014504Z
DTSTART;TZID=Europe/Berlin:20231213T201400
DTEND;TZID=Europe/Berlin:20231213T231400
SUMMARY:Kreisliga TTC Die Sterne Elmshorn II vs TSV Uetersen II (65)
UID:1f3f700e-df99-5b33-e063-1fc7a80a4d3b
STATUS:CONFIRMED
LAST-MODIFIED:20240809T113147Z
DESCRIPTION:Kreisliga Herren\nBegegnungs-Nr: 65\nHeim: TTC Die Sterne Elmshorn II\nGast: TSV Uetersen II\n
LOCATION:
CATEGORIES:Saison 2023/24
END:VEVENT
BEGIN:VEVENT
DTSTAMP:20260424T014504Z
DTSTART;TZID=Europe/Berlin:20240203T140400
DTEND;TZID=Europe/Berlin:20240203T170400
SUMMARY:Kreisliga TTC Die Sterne Elmshorn II vs TSV Gut-Heil Heist  (116)
UID:1f3f700e-e0c6-5b33-e063-1fc7a80a4d3b
STATUS:CONFIRMED
LAST-MODIFIED:20240809T113147Z
DESCRIPTION:Kreisliga Herren\nBegegnungs-Nr: 116\nHeim: TTC Die Sterne Elmshorn II\nGast: TSV Gut-Heil Heist \n
LOCATION:
CATEGORIES:Saison 2023/24
END:VEVENT
BEGIN:VEVENT
DTSTAMP:20260424T014504Z
DTSTART;TZID=Europe/Berlin:20240210T140400
DTEND;TZID=Europe/Berlin:20240210T170400
SUMMARY:Kreisliga TTC Die Sterne Elmshorn II vs SG Kölln-Reisiek III (119)
UID:1f3f700e-e0fe-5b33-e063-1fc7a80a4d3b
STATUS:CONFIRMED
LAST-MODIFIED:20240809T113147Z
DESCRIPTION:Kreisliga Herren\nBegegnungs-Nr: 119\nHeim: TTC Die Sterne Elmshorn II\nGast: SG Kölln-Reisiek III\n
LOCATION:
CATEGORIES:Saison 2023/24
END:VEVENT
BEGIN:VEVENT
DTSTAMP:20260424T014504Z
DTSTART;TZID=Europe/Berlin:20231020T201400
DTEND;TZID=Europe/Berlin:20231020T231400
SUMMARY:Kreisliga TTC Die Sterne Elmshorn II vs FTSV Fortuna Elmshorn II (11)
UID:1f3f700e-dbb9-5b33-e063-1fc7a80a4d3b
STATUS:CONFIRMED
LAST-MODIFIED:20240809T113146Z
DESCRIPTION:Kreisliga Herren\nBegegnungs-Nr: 11\nHeim: TTC Die Sterne Elmshorn II\nGast: FTSV Fortuna Elmshorn II\n
LOCATION:
CATEGORIES:Saison 2023/24
END:VEVENT
BEGIN:VEVENT
DTSTAMP:20260424T014504Z
DTSTART;TZID=Europe/Berlin:20231013T201400
DTEND;TZID=Europe/Berlin:20231013T231400
SUMMARY:Kreisliga TTC Die Sterne Elmshorn II vs TTC Seeth-Ekholt II (28)
UID:1f3f700e-dcf7-5b33-e063-1fc7a80a4d3b
STATUS:CONFIRMED
LAST-MODIFIED:20240809T113146Z
DESCRIPTION:Kreisliga Herren\nBegegnungs-Nr: 28\nHeim: TTC Die Sterne Elmshorn II\nGast: TTC Seeth-Ekholt II\n
LOCATION:
CATEGORIES:Saison 2023/24
END:VEVENT
BEGIN:VEVENT
DTSTAMP:20260424T014504Z
DTSTART;TZID=Europe/Berlin:20231107T201500
DTEND;TZID=Europe/Berlin:20231107T231500
SUMMARY:Kreisliga SuS Waldenau  vs TTC Die Sterne Elmshorn II (32)
UID:1f3f700e-dd3f-5b33-e063-1fc7a80a4d3b
STATUS:CONFIRMED
LAST-MODIFIED:20240809T113146Z
DESCRIPTION:Kreisliga Herren\nBegegnungs-Nr: 32\nHeim: SuS Waldenau \nGast: TTC Die Sterne Elmshorn II\n
LOCATION:
CATEGORIES:Saison 2023/24
END:VEVENT
BEGIN:VEVENT
DTSTAMP:20260424T014504Z
DTSTART;TZID=Europe/Berlin:20231124T194500
DTEND;TZID=Europe/Berlin:20231124T224500
SUMMARY:Kreisliga TSV Prisdorf  vs TTC Die Sterne Elmshorn II (45)
UID:1f3f700e-de35-5b33-e063-1fc7a80a4d3b
STATUS:CONFIRMED
LAST-MODIFIED:20240809T113147Z
DESCRIPTION:Kreisliga Herren\nBegegnungs-Nr: 45\nHeim: TSV Prisdorf \nGast: TTC Die Sterne Elmshorn II\n
LOCATION:
CATEGORIES:Saison 2023/24
END:VEVENT
BEGIN:VEVENT
DTSTAMP:20260424T014504Z
DTSTART;TZID=Europe/Berlin:20230915T200000
DTEND;TZID=Europe/Berlin:20230915T230000
SUMMARY:Kreisliga Barmstedter MTV  vs TTC Die Sterne Elmshorn II (3)
UID:1f3f700e-db28-5b33-e063-1fc7a80a4d3b
STATUS:CONFIRMED
LAST-MODIFIED:20240809T113146Z
DESCRIPTION:Kreisliga Herren\nBegegnungs-Nr: 3\nHeim: Barmstedter MTV \nGast: TTC Die Sterne Elmshorn II\n
LOCATION:
CATEGORIES:Saison 2023/24
END:VEVENT
BEGIN:VEVENT
DTSTAMP:20260424T014504Z
DTSTART;TZID=Europe/Berlin:20240126T200000
DTEND;TZID=Europe/Berlin:20240126T230000
SUMMARY:Kreisliga FTSV Fortuna Elmshorn II vs TTC Die Sterne Elmshorn II (108)
UID:1f3f700e-e031-5b33-e063-1fc7a80a4d3b
STATUS:CONFIRMED
LAST-MODIFIED:20240809T113147Z
DESCRIPTION:Kreisliga Herren\nBegegnungs-Nr: 108\nHeim: FTSV Fortuna Elmshorn II\nGast: TTC Die Sterne Elmshorn II\n
LOCATION:
CATEGORIES:Saison 2023/24
END:VEVENT
BEGIN:VEVENT
DTSTAMP:20260424T014504Z
DTSTART;TZID=Europe/Berlin:20240216T201500
DTEND;TZID=Europe/Berlin:20240216T231500
SUMMARY:Kreisliga TTC Seeth-Ekholt II vs TTC Die Sterne Elmshorn II (129)
UID:1f3f700e-e1b6-5b33-e063-1fc7a80a4d3b
STATUS:CONFIRMED
LAST-MODIFIED:20240809T113147Z
DESCRIPTION:Kreisliga Herren\nBegegnungs-Nr: 129\nHeim: TTC Seeth-Ekholt II\nGast: TTC Die Sterne Elmshorn II\n
LOCATION:
CATEGORIES:Saison 2023/24
END:VEVENT
BEGIN:VEVENT
DTSTAMP:20260424T014504Z
DTSTART;TZID=Europe/Berlin:20240227T201500
DTEND;TZID=Europe/Berlin:20240227T231500
SUMMARY:Kreisliga TuS Appen  vs TTC Die Sterne Elmshorn II (137)
UID:1f3f700e-e234-5b33-e063-1fc7a80a4d3b
STATUS:CONFIRMED
LAST-MODIFIED:20240809T113147Z
DESCRIPTION:Kreisliga Herren\nBegegnungs-Nr: 137\nHeim: TuS Appen \nGast: TTC Die Sterne Elmshorn II\n
LOCATION:
CATEGORIES:Saison 2023/24
END:VEVENT
BEGIN:VEVENT
DTSTAMP:20260424T014504Z
DTSTART;TZID=Europe/Berlin:20240315T203000
DTEND;TZID=Europe/Berlin:20240315T233000
SUMMARY:Kreisliga TuS Esingen III vs TTC Die Sterne Elmshorn II (154)
UID:1f3f700e-e358-5b33-e063-1fc7a80a4d3b
STATUS:CONFIRMED
LAST-MODIFIED:20240809T113147Z
DESCRIPTION:Kreisliga Herren\nBegegnungs-Nr: 154\nHeim: TuS Esingen III\nGast: TTC Die Sterne Elmshorn II\n
LOCATION:
CATEGORIES:Saison 2023/24
END:VEVENT
BEGIN:VEVENT
DTSTAMP:20260424T014504Z
DTSTART;TZID=Europe/Berlin:20240321T203000
DTEND;TZID=Europe/Berlin:20240321T233000
SUMMARY:Kreisliga SC Cosmos Wedel  vs TTC Die Sterne Elmshorn II (159)
UID:1f3f700e-e3b8-5b33-e063-1fc7a80a4d3b
STATUS:CONFIRMED
LAST-MODIFIED:20240809T113147Z
DESCRIPTION:Kreisliga Herren\nBegegnungs-Nr: 159\nHeim: SC Cosmos Wedel \nGast: TTC Die Sterne Elmshorn II\n
LOCATION:
CATEGORIES:Saison 2023/24
END:VEVENT
BEGIN:VEVENT
DTSTAMP:20260424T014504Z
DTSTART;TZID=Europe/Berlin:20240112T201500
DTEND;TZID=Europe/Berlin:20240112T231500
SUMMARY:Kreisliga TSV Uetersen II vs TTC Die Sterne Elmshorn II (164)
UID:1f3f700e-e41a-5b33-e063-1fc7a80a4d3b
STATUS:CONFIRMED
LAST-MODIFIED:20240809T113147Z
DESCRIPTION:Kreisliga Herren\nBegegnungs-Nr: 164\nHeim: TSV Uetersen II\nGast: TTC Die Sterne Elmshorn II\n
LOCATION:
CATEGORIES:Saison 2023/24
END:VEVENT
BEGIN:VEVENT
DTSTAMP:20260424T014504Z
DTSTART;TZID=Europe/Berlin:20230929T201500
DTEND;TZID=Europe/Berlin:20230929T231500
SUMMARY:Kreisliga TSV Gut-Heil Heist  vs TTC Die Sterne Elmshorn II (18)
UID:1f3f700e-dc44-5b33-e063-1fc7a80a4d3b
STATUS:CONFIRMED
LAST-MODIFIED:20240809T113146Z
DESCRIPTION:Kreisliga Herren\nBegegnungs-Nr: 18\nHeim: TSV Gut-Heil Heist \nGast: TTC Die Sterne Elmshorn II\n
LOCATION:
CATEGORIES:Saison 2023/24
END:VEVENT
BEGIN:VEVENT
DTSTAMP:20260424T014504Z
DTSTART;TZID=Europe/Berlin:20231010T201500
DTEND;TZID=Europe/Berlin:20231010T231500
SUMMARY:Kreisliga SG Kölln-Reisiek III vs TTC Die Sterne Elmshorn II (22)
UID:1f3f700e-dc89-5b33-e063-1fc7a80a4d3b
STATUS:CONFIRMED
LAST-MODIFIED:20240809T113146Z
DESCRIPTION:Kreisliga Herren\nBegegnungs-Nr: 22\nHeim: SG Kölln-Reisiek III\nGast: TTC Die Sterne Elmshorn II\n
LOCATION:
CATEGORIES:Saison 2023/24
END:VEVENT
END:VCALENDAR
