BEGIN:VCALENDAR
PRODID:-//nuDatenautomaten//framework iCal4j //DE
VERSION:2.0
CALSCALE:GREGORIAN
BEGIN:VTIMEZONE
TZID:Europe/Berlin
LAST-MODIFIED:20260306T231828Z
TZURL:https://www.tzurl.org/zoneinfo/Europe/Berlin
X-LIC-LOCATION:Europe/Berlin
X-PROLEPTIC-TZNAME:LMT
BEGIN:STANDARD
TZNAME:CET
TZOFFSETFROM:+005328
TZOFFSETTO:+0100
DTSTART:18930401T000000
END:STANDARD
BEGIN:DAYLIGHT
TZNAME:CEST
TZOFFSETFROM:+0100
TZOFFSETTO:+0200
DTSTART:19160430T230000
RDATE:19400401T020000
RDATE:19430329T020000
RDATE:19460414T020000
RDATE:19470406T030000
RDATE:19480418T020000
RDATE:19490410T020000
RDATE:19800406T020000
END:DAYLIGHT
BEGIN:STANDARD
TZNAME:CET
TZOFFSETFROM:+0200
TZOFFSETTO:+0100
DTSTART:19161001T010000
RDATE:19421102T030000
RDATE:19431004T030000
RDATE:19441002T030000
RDATE:19451118T030000
RDATE:19461007T030000
END:STANDARD
BEGIN:DAYLIGHT
TZNAME:CEST
TZOFFSETFROM:+0100
TZOFFSETTO:+0200
DTSTART:19170416T020000
RRULE:FREQ=YEARLY;UNTIL=19180415T010000Z;BYMONTH=4;BYDAY=3MO
END:DAYLIGHT
BEGIN:STANDARD
TZNAME:CET
TZOFFSETFROM:+0200
TZOFFSETTO:+0100
DTSTART:19170917T030000
RRULE:FREQ=YEARLY;UNTIL=19180916T010000Z;BYMONTH=9;BYDAY=3MO
END:STANDARD
BEGIN:DAYLIGHT
TZNAME:CEST
TZOFFSETFROM:+0100
TZOFFSETTO:+0200
DTSTART:19440403T020000
RRULE:FREQ=YEARLY;UNTIL=19450402T010000Z;BYMONTH=4;BYDAY=1MO
END:DAYLIGHT
BEGIN:DAYLIGHT
TZNAME:CEMT
TZOFFSETFROM:+0200
TZOFFSETTO:+0300
DTSTART:19450524T020000
RDATE:19470511T030000
END:DAYLIGHT
BEGIN:DAYLIGHT
TZNAME:CEST
TZOFFSETFROM:+0300
TZOFFSETTO:+0200
DTSTART:19450924T030000
RDATE:19470629T030000
END:DAYLIGHT
BEGIN:STANDARD
TZNAME:CET
TZOFFSETFROM:+0100
TZOFFSETTO:+0100
DTSTART:19460101T000000
RDATE:19800101T000000
END:STANDARD
BEGIN:STANDARD
TZNAME:CET
TZOFFSETFROM:+0200
TZOFFSETTO:+0100
DTSTART:19471005T030000
RRULE:FREQ=YEARLY;UNTIL=19491002T010000Z;BYMONTH=10;BYDAY=1SU
END:STANDARD
BEGIN:STANDARD
TZNAME:CET
TZOFFSETFROM:+0200
TZOFFSETTO:+0100
DTSTART:19800928T030000
RRULE:FREQ=YEARLY;UNTIL=19950924T010000Z;BYMONTH=9;BYDAY=-1SU
END:STANDARD
BEGIN:DAYLIGHT
TZNAME:CEST
TZOFFSETFROM:+0100
TZOFFSETTO:+0200
DTSTART:19810329T020000
RRULE:FREQ=YEARLY;BYMONTH=3;BYDAY=-1SU
END:DAYLIGHT
BEGIN:STANDARD
TZNAME:CET
TZOFFSETFROM:+0200
TZOFFSETTO:+0100
DTSTART:19961027T030000
RRULE:FREQ=YEARLY;BYMONTH=10;BYDAY=-1SU
END:STANDARD
END:VTIMEZONE
BEGIN:VEVENT
DTSTAMP:20260424T030007Z
DTSTART;TZID=Europe/Berlin:20231019T201500
DTEND;TZID=Europe/Berlin:20231019T231500
SUMMARY:7. Kreisklasse TSV Bargteheide XII vs TSV Mollhagen III (40)
UID:1f3f700f-f267-5b33-e063-1fc7a80a4d3b
STATUS:CONFIRMED
LAST-MODIFIED:20240809T113218Z
DESCRIPTION:7. Kreisklasse Herren\nBegegnungs-Nr: 40\nHeim: TSV Bargteheide XII\nGast: TSV Mollhagen III\n
LOCATION:
CATEGORIES:Saison 2023/24
END:VEVENT
BEGIN:VEVENT
DTSTAMP:20260424T030007Z
DTSTART;TZID=Europe/Berlin:20231109T201500
DTEND;TZID=Europe/Berlin:20231109T231500
SUMMARY:7. Kreisklasse TSV Bargteheide XII vs SV Grün-Weiß Neritz  (53)
UID:1f3f700f-f35c-5b33-e063-1fc7a80a4d3b
STATUS:CONFIRMED
LAST-MODIFIED:20240809T113218Z
DESCRIPTION:7. Kreisklasse Herren\nBegegnungs-Nr: 53\nHeim: TSV Bargteheide XII\nGast: SV Grün-Weiß Neritz \n
LOCATION:
CATEGORIES:Saison 2023/24
END:VEVENT
BEGIN:VEVENT
DTSTAMP:20260424T030007Z
DTSTART;TZID=Europe/Berlin:20231123T201500
DTEND;TZID=Europe/Berlin:20231123T231500
SUMMARY:7. Kreisklasse TSV Bargteheide XII vs SV Meddewade III (67)
UID:1f3f700f-f448-5b33-e063-1fc7a80a4d3b
STATUS:CONFIRMED
LAST-MODIFIED:20240809T113218Z
DESCRIPTION:7. Kreisklasse Herren\nBegegnungs-Nr: 67\nHeim: TSV Bargteheide XII\nGast: SV Meddewade III\n
LOCATION:
CATEGORIES:Saison 2023/24
END:VEVENT
BEGIN:VEVENT
DTSTAMP:20260424T030007Z
DTSTART;TZID=Europe/Berlin:20240125T201500
DTEND;TZID=Europe/Berlin:20240125T231500
SUMMARY:7. Kreisklasse TSV Bargteheide XII vs TSV Bargteheide XI (103)
UID:1f3f700f-f610-5b33-e063-1fc7a80a4d3b
STATUS:CONFIRMED
LAST-MODIFIED:20240809T113218Z
DESCRIPTION:7. Kreisklasse Herren\nBegegnungs-Nr: 103\nHeim: TSV Bargteheide XII\nGast: TSV Bargteheide XI\n
LOCATION:
CATEGORIES:Saison 2023/24
END:VEVENT
BEGIN:VEVENT
DTSTAMP:20260424T030007Z
DTSTART;TZID=Europe/Berlin:20240201T201500
DTEND;TZID=Europe/Berlin:20240201T231500
SUMMARY:7. Kreisklasse TSV Bargteheide XII vs TSV Trittau III (109)
UID:1f3f700f-f66c-5b33-e063-1fc7a80a4d3b
STATUS:CONFIRMED
LAST-MODIFIED:20240809T113218Z
DESCRIPTION:7. Kreisklasse Herren\nBegegnungs-Nr: 109\nHeim: TSV Bargteheide XII\nGast: TSV Trittau III\n
LOCATION:
CATEGORIES:Saison 2023/24
END:VEVENT
BEGIN:VEVENT
DTSTAMP:20260424T030007Z
DTSTART;TZID=Europe/Berlin:20230907T201500
DTEND;TZID=Europe/Berlin:20230907T231500
SUMMARY:7. Kreisklasse TSV Bargteheide XII vs SV Preußen Reinfeld IV (5)
UID:1f3f700f-efdc-5b33-e063-1fc7a80a4d3b
STATUS:CONFIRMED
LAST-MODIFIED:20240809T113217Z
DESCRIPTION:7. Kreisklasse Herren\nBegegnungs-Nr: 5\nHeim: TSV Bargteheide XII\nGast: SV Preußen Reinfeld IV\n
LOCATION:
CATEGORIES:Saison 2023/24
END:VEVENT
BEGIN:VEVENT
DTSTAMP:20260424T030007Z
DTSTART;TZID=Europe/Berlin:20230928T201500
DTEND;TZID=Europe/Berlin:20230928T231500
SUMMARY:7. Kreisklasse TSV Bargteheide XII vs TTG Elmenh./Fischbek VII (25)
UID:1f3f700f-f148-5b33-e063-1fc7a80a4d3b
STATUS:CONFIRMED
LAST-MODIFIED:20240809T113218Z
DESCRIPTION:7. Kreisklasse Herren\nBegegnungs-Nr: 25\nHeim: TSV Bargteheide XII\nGast: TTG Elmenh./Fischbek VII\n
LOCATION:
CATEGORIES:Saison 2023/24
END:VEVENT
BEGIN:VEVENT
DTSTAMP:20260424T030007Z
DTSTART;TZID=Europe/Berlin:20231207T201500
DTEND;TZID=Europe/Berlin:20231207T231500
SUMMARY:7. Kreisklasse TSV Bargteheide XII vs Delingsdorfer SV III (81)
UID:1f3f700f-f549-5b33-e063-1fc7a80a4d3b
STATUS:CONFIRMED
LAST-MODIFIED:20240809T113218Z
DESCRIPTION:7. Kreisklasse Herren\nBegegnungs-Nr: 81\nHeim: TSV Bargteheide XII\nGast: Delingsdorfer SV III\n
LOCATION:
CATEGORIES:Saison 2023/24
END:VEVENT
BEGIN:VEVENT
DTSTAMP:20260424T030007Z
DTSTART;TZID=Europe/Berlin:20240328T201500
DTEND;TZID=Europe/Berlin:20240328T231500
SUMMARY:7. Kreisklasse TSV Bargteheide XII vs Bargfelder SV IV (165)
UID:1f3f700f-fa8a-5b33-e063-1fc7a80a4d3b
STATUS:CONFIRMED
LAST-MODIFIED:20240809T113219Z
DESCRIPTION:7. Kreisklasse Herren\nBegegnungs-Nr: 165\nHeim: TSV Bargteheide XII\nGast: Bargfelder SV IV\n
LOCATION:
CATEGORIES:Saison 2023/24
END:VEVENT
BEGIN:VEVENT
DTSTAMP:20260424T030007Z
DTSTART;TZID=Europe/Berlin:20240215T201500
DTEND;TZID=Europe/Berlin:20240215T231500
SUMMARY:7. Kreisklasse TSV Bargteheide XII vs TSV Lütjensee V (123)
UID:1f3f700f-f76e-5b33-e063-1fc7a80a4d3b
STATUS:CONFIRMED
LAST-MODIFIED:20240809T113218Z
DESCRIPTION:7. Kreisklasse Herren\nBegegnungs-Nr: 123\nHeim: TSV Bargteheide XII\nGast: TSV Lütjensee V\n
LOCATION:
CATEGORIES:Saison 2023/24
END:VEVENT
BEGIN:VEVENT
DTSTAMP:20260424T030007Z
DTSTART;TZID=Europe/Berlin:20240229T201500
DTEND;TZID=Europe/Berlin:20240229T231500
SUMMARY:7. Kreisklasse TSV Bargteheide XII vs SSC Hagen Ahrensburg VIII (138)
UID:1f3f700f-f88e-5b33-e063-1fc7a80a4d3b
STATUS:CONFIRMED
LAST-MODIFIED:20240809T113218Z
DESCRIPTION:7. Kreisklasse Herren\nBegegnungs-Nr: 138\nHeim: TSV Bargteheide XII\nGast: SSC Hagen Ahrensburg VIII\n
LOCATION:
CATEGORIES:Saison 2023/24
END:VEVENT
BEGIN:VEVENT
DTSTAMP:20260424T030007Z
DTSTART;TZID=Europe/Berlin:20240314T201500
DTEND;TZID=Europe/Berlin:20240314T231500
SUMMARY:7. Kreisklasse TSV Bargteheide XII vs Sportfreunde Grande-Kuddewörde III (151)
UID:1f3f700f-f97c-5b33-e063-1fc7a80a4d3b
STATUS:CONFIRMED
LAST-MODIFIED:20240809T113218Z
DESCRIPTION:7. Kreisklasse Herren\nBegegnungs-Nr: 151\nHeim: TSV Bargteheide XII\nGast: Sportfreunde Grande-Kuddewörde III\n
LOCATION:
CATEGORIES:Saison 2023/24
END:VEVENT
BEGIN:VEVENT
DTSTAMP:20260424T030007Z
DTSTART;TZID=Europe/Berlin:20231103T200000
DTEND;TZID=Europe/Berlin:20231103T230000
SUMMARY:7. Kreisklasse SSC Hagen Ahrensburg VIII vs TSV Bargteheide XII (47)
UID:1f3f700f-f2e5-5b33-e063-1fc7a80a4d3b
STATUS:CONFIRMED
LAST-MODIFIED:20240809T113218Z
DESCRIPTION:7. Kreisklasse Herren\nBegegnungs-Nr: 47\nHeim: SSC Hagen Ahrensburg VIII\nGast: TSV Bargteheide XII\n
LOCATION:
CATEGORIES:Saison 2023/24
END:VEVENT
BEGIN:VEVENT
DTSTAMP:20260424T030007Z
DTSTART;TZID=Europe/Berlin:20231114T200000
DTEND;TZID=Europe/Berlin:20231114T230000
SUMMARY:7. Kreisklasse Sportfreunde Grande-Kuddewörde III vs TSV Bargteheide XII (59)
UID:1f3f700f-f3c5-5b33-e063-1fc7a80a4d3b
STATUS:CONFIRMED
LAST-MODIFIED:20240809T113218Z
DESCRIPTION:7. Kreisklasse Herren\nBegegnungs-Nr: 59\nHeim: Sportfreunde Grande-Kuddewörde III\nGast: TSV Bargteheide XII\n
LOCATION:
CATEGORIES:Saison 2023/24
END:VEVENT
BEGIN:VEVENT
DTSTAMP:20260424T030007Z
DTSTART;TZID=Europe/Berlin:20240205T200000
DTEND;TZID=Europe/Berlin:20240205T230000
SUMMARY:7. Kreisklasse TTG Elmenh./Fischbek VII vs TSV Bargteheide XII (113)
UID:1f3f700f-f6b6-5b33-e063-1fc7a80a4d3b
STATUS:CONFIRMED
LAST-MODIFIED:20240809T113218Z
DESCRIPTION:7. Kreisklasse Herren\nBegegnungs-Nr: 113\nHeim: TTG Elmenh./Fischbek VII\nGast: TSV Bargteheide XII\n
LOCATION:
CATEGORIES:Saison 2023/24
END:VEVENT
BEGIN:VEVENT
DTSTAMP:20260424T030007Z
DTSTART;TZID=Europe/Berlin:20230914T201500
DTEND;TZID=Europe/Berlin:20230914T231500
SUMMARY:7. Kreisklasse TSV Bargteheide XI vs TSV Bargteheide XII (11)
UID:1f3f700f-f046-5b33-e063-1fc7a80a4d3b
STATUS:CONFIRMED
LAST-MODIFIED:20240809T113218Z
DESCRIPTION:7. Kreisklasse Herren\nBegegnungs-Nr: 11\nHeim: TSV Bargteheide XI\nGast: TSV Bargteheide XII\n
LOCATION:
CATEGORIES:Saison 2023/24
END:VEVENT
BEGIN:VEVENT
DTSTAMP:20260424T030007Z
DTSTART;TZID=Europe/Berlin:20230919T201500
DTEND;TZID=Europe/Berlin:20230919T231500
SUMMARY:7. Kreisklasse TSV Trittau III vs TSV Bargteheide XII (17)
UID:1f3f700f-f0b5-5b33-e063-1fc7a80a4d3b
STATUS:CONFIRMED
LAST-MODIFIED:20240809T113218Z
DESCRIPTION:7. Kreisklasse Herren\nBegegnungs-Nr: 17\nHeim: TSV Trittau III\nGast: TSV Bargteheide XII\n
LOCATION:
CATEGORIES:Saison 2023/24
END:VEVENT
BEGIN:VEVENT
DTSTAMP:20260424T030007Z
DTSTART;TZID=Europe/Berlin:20231004T200000
DTEND;TZID=Europe/Berlin:20231004T230000
SUMMARY:7. Kreisklasse TSV Lütjensee V vs TSV Bargteheide XII (32)
UID:1f3f700f-f1cf-5b33-e063-1fc7a80a4d3b
STATUS:CONFIRMED
LAST-MODIFIED:20240809T113218Z
DESCRIPTION:7. Kreisklasse Herren\nBegegnungs-Nr: 32\nHeim: TSV Lütjensee V\nGast: TSV Bargteheide XII\n
LOCATION:
CATEGORIES:Saison 2023/24
END:VEVENT
BEGIN:VEVENT
DTSTAMP:20260424T030007Z
DTSTART;TZID=Europe/Berlin:20231201T200000
DTEND;TZID=Europe/Berlin:20231201T230000
SUMMARY:7. Kreisklasse Bargfelder SV IV vs TSV Bargteheide XII (76)
UID:1f3f700f-f4f8-5b33-e063-1fc7a80a4d3b
STATUS:CONFIRMED
LAST-MODIFIED:20240809T113218Z
DESCRIPTION:7. Kreisklasse Herren\nBegegnungs-Nr: 76\nHeim: Bargfelder SV IV\nGast: TSV Bargteheide XII\n
LOCATION:
CATEGORIES:Saison 2023/24
END:VEVENT
BEGIN:VEVENT
DTSTAMP:20260424T030007Z
DTSTART;TZID=Europe/Berlin:20231213T200000
DTEND;TZID=Europe/Berlin:20231213T230000
SUMMARY:7. Kreisklasse SV Hamberge III vs TSV Bargteheide XII (87)
UID:1f3f700f-f5aa-5b33-e063-1fc7a80a4d3b
STATUS:CONFIRMED
LAST-MODIFIED:20240809T113218Z
DESCRIPTION:7. Kreisklasse Herren\nBegegnungs-Nr: 87\nHeim: SV Hamberge III\nGast: TSV Bargteheide XII\n
LOCATION:
CATEGORIES:Saison 2023/24
END:VEVENT
BEGIN:VEVENT
DTSTAMP:20260424T030007Z
DTSTART;TZID=Europe/Berlin:20240405T200000
DTEND;TZID=Europe/Berlin:20240405T230000
SUMMARY:7. Kreisklasse Delingsdorfer SV III vs TSV Bargteheide XII (174)
UID:1f3f700f-fb37-5b33-e063-1fc7a80a4d3b
STATUS:CONFIRMED
LAST-MODIFIED:20240809T113219Z
DESCRIPTION:7. Kreisklasse Herren\nBegegnungs-Nr: 174\nHeim: Delingsdorfer SV III\nGast: TSV Bargteheide XII\n
LOCATION:
CATEGORIES:Saison 2023/24
END:VEVENT
BEGIN:VEVENT
DTSTAMP:20260424T030007Z
DTSTART;TZID=Europe/Berlin:20240429T201500
DTEND;TZID=Europe/Berlin:20240429T231500
SUMMARY:7. Kreisklasse SV Hamberge III vs TSV Bargteheide XII (179)
UID:1f3f700f-fb96-5b33-e063-1fc7a80a4d3b
STATUS:CONFIRMED
LAST-MODIFIED:20240809T113219Z
DESCRIPTION:7. Kreisklasse Herren\nBegegnungs-Nr: 179\nHeim: SV Hamberge III\nGast: TSV Bargteheide XII\n
LOCATION:
CATEGORIES:Saison 2023/24
END:VEVENT
BEGIN:VEVENT
DTSTAMP:20260424T030007Z
DTSTART;TZID=Europe/Berlin:20240115T200000
DTEND;TZID=Europe/Berlin:20240115T230000
SUMMARY:7. Kreisklasse SV Preußen Reinfeld IV vs TSV Bargteheide XII (98)
UID:1f3f700f-fc51-5b33-e063-1fc7a80a4d3b
STATUS:CONFIRMED
LAST-MODIFIED:20240809T113219Z
DESCRIPTION:7. Kreisklasse Herren\nBegegnungs-Nr: 98\nHeim: SV Preußen Reinfeld IV\nGast: TSV Bargteheide XII\n
LOCATION:
CATEGORIES:Saison 2023/24
END:VEVENT
BEGIN:VEVENT
DTSTAMP:20260424T030007Z
DTSTART;TZID=Europe/Berlin:20240223T200000
DTEND;TZID=Europe/Berlin:20240223T230000
SUMMARY:7. Kreisklasse TSV Mollhagen III vs TSV Bargteheide XII (132)
UID:1f3f700f-f814-5b33-e063-1fc7a80a4d3b
STATUS:CONFIRMED
LAST-MODIFIED:20240809T113218Z
DESCRIPTION:7. Kreisklasse Herren\nBegegnungs-Nr: 132\nHeim: TSV Mollhagen III\nGast: TSV Bargteheide XII\n
LOCATION:
CATEGORIES:Saison 2023/24
END:VEVENT
BEGIN:VEVENT
DTSTAMP:20260424T030007Z
DTSTART;TZID=Europe/Berlin:20240307T200000
DTEND;TZID=Europe/Berlin:20240307T230000
SUMMARY:7. Kreisklasse SV Grün-Weiß Neritz  vs TSV Bargteheide XII (144)
UID:1f3f700f-f8f8-5b33-e063-1fc7a80a4d3b
STATUS:CONFIRMED
LAST-MODIFIED:20240809T113218Z
DESCRIPTION:7. Kreisklasse Herren\nBegegnungs-Nr: 144\nHeim: SV Grün-Weiß Neritz \nGast: TSV Bargteheide XII\n
LOCATION:
CATEGORIES:Saison 2023/24
END:VEVENT
BEGIN:VEVENT
DTSTAMP:20260424T030007Z
DTSTART;TZID=Europe/Berlin:20240318T193000
DTEND;TZID=Europe/Berlin:20240318T223000
SUMMARY:7. Kreisklasse SV Meddewade III vs TSV Bargteheide XII (155)
UID:1f3f700f-f9cb-5b33-e063-1fc7a80a4d3b
STATUS:CONFIRMED
LAST-MODIFIED:20240809T113218Z
DESCRIPTION:7. Kreisklasse Herren\nBegegnungs-Nr: 155\nHeim: SV Meddewade III\nGast: TSV Bargteheide XII\n
LOCATION:
CATEGORIES:Saison 2023/24
END:VEVENT
END:VCALENDAR
