BEGIN:VCALENDAR
PRODID:-//nuDatenautomaten//framework iCal4j //DE
VERSION:2.0
CALSCALE:GREGORIAN
BEGIN:VTIMEZONE
TZID:Europe/Berlin
LAST-MODIFIED:20260306T231828Z
TZURL:https://www.tzurl.org/zoneinfo/Europe/Berlin
X-LIC-LOCATION:Europe/Berlin
X-PROLEPTIC-TZNAME:LMT
BEGIN:STANDARD
TZNAME:CET
TZOFFSETFROM:+005328
TZOFFSETTO:+0100
DTSTART:18930401T000000
END:STANDARD
BEGIN:DAYLIGHT
TZNAME:CEST
TZOFFSETFROM:+0100
TZOFFSETTO:+0200
DTSTART:19160430T230000
RDATE:19400401T020000
RDATE:19430329T020000
RDATE:19460414T020000
RDATE:19470406T030000
RDATE:19480418T020000
RDATE:19490410T020000
RDATE:19800406T020000
END:DAYLIGHT
BEGIN:STANDARD
TZNAME:CET
TZOFFSETFROM:+0200
TZOFFSETTO:+0100
DTSTART:19161001T010000
RDATE:19421102T030000
RDATE:19431004T030000
RDATE:19441002T030000
RDATE:19451118T030000
RDATE:19461007T030000
END:STANDARD
BEGIN:DAYLIGHT
TZNAME:CEST
TZOFFSETFROM:+0100
TZOFFSETTO:+0200
DTSTART:19170416T020000
RRULE:FREQ=YEARLY;UNTIL=19180415T010000Z;BYMONTH=4;BYDAY=3MO
END:DAYLIGHT
BEGIN:STANDARD
TZNAME:CET
TZOFFSETFROM:+0200
TZOFFSETTO:+0100
DTSTART:19170917T030000
RRULE:FREQ=YEARLY;UNTIL=19180916T010000Z;BYMONTH=9;BYDAY=3MO
END:STANDARD
BEGIN:DAYLIGHT
TZNAME:CEST
TZOFFSETFROM:+0100
TZOFFSETTO:+0200
DTSTART:19440403T020000
RRULE:FREQ=YEARLY;UNTIL=19450402T010000Z;BYMONTH=4;BYDAY=1MO
END:DAYLIGHT
BEGIN:DAYLIGHT
TZNAME:CEMT
TZOFFSETFROM:+0200
TZOFFSETTO:+0300
DTSTART:19450524T020000
RDATE:19470511T030000
END:DAYLIGHT
BEGIN:DAYLIGHT
TZNAME:CEST
TZOFFSETFROM:+0300
TZOFFSETTO:+0200
DTSTART:19450924T030000
RDATE:19470629T030000
END:DAYLIGHT
BEGIN:STANDARD
TZNAME:CET
TZOFFSETFROM:+0100
TZOFFSETTO:+0100
DTSTART:19460101T000000
RDATE:19800101T000000
END:STANDARD
BEGIN:STANDARD
TZNAME:CET
TZOFFSETFROM:+0200
TZOFFSETTO:+0100
DTSTART:19471005T030000
RRULE:FREQ=YEARLY;UNTIL=19491002T010000Z;BYMONTH=10;BYDAY=1SU
END:STANDARD
BEGIN:STANDARD
TZNAME:CET
TZOFFSETFROM:+0200
TZOFFSETTO:+0100
DTSTART:19800928T030000
RRULE:FREQ=YEARLY;UNTIL=19950924T010000Z;BYMONTH=9;BYDAY=-1SU
END:STANDARD
BEGIN:DAYLIGHT
TZNAME:CEST
TZOFFSETFROM:+0100
TZOFFSETTO:+0200
DTSTART:19810329T020000
RRULE:FREQ=YEARLY;BYMONTH=3;BYDAY=-1SU
END:DAYLIGHT
BEGIN:STANDARD
TZNAME:CET
TZOFFSETFROM:+0200
TZOFFSETTO:+0100
DTSTART:19961027T030000
RRULE:FREQ=YEARLY;BYMONTH=10;BYDAY=-1SU
END:STANDARD
END:VTIMEZONE
BEGIN:VEVENT
DTSTAMP:20260424T150009Z
DTSTART;TZID=Europe/Berlin:20231114T200000
DTEND;TZID=Europe/Berlin:20231114T230000
SUMMARY:3. Kreisklasse TSV Brunsbüttel VI vs TSV Schwarz-Rot Schülp IV (128)
UID:1f3f700d-4f6d-5b33-e063-1fc7a80a4d3b
STATUS:CONFIRMED
LAST-MODIFIED:20240809T113100Z
DESCRIPTION:3. Kreisklasse Herren\nBegegnungs-Nr: 128\nHeim: TSV Brunsbüttel VI\nGast: TSV Schwarz-Rot Schülp IV\n
LOCATION:
CATEGORIES:Saison 2023/24
END:VEVENT
BEGIN:VEVENT
DTSTAMP:20260424T150009Z
DTSTART;TZID=Europe/Berlin:20231121T200000
DTEND;TZID=Europe/Berlin:20231121T230000
SUMMARY:3. Kreisklasse TSV Brunsbüttel VI vs Bargenstedter SC II (132)
UID:1f3f700d-4fa5-5b33-e063-1fc7a80a4d3b
STATUS:CONFIRMED
LAST-MODIFIED:20240809T113100Z
DESCRIPTION:3. Kreisklasse Herren\nBegegnungs-Nr: 132\nHeim: TSV Brunsbüttel VI\nGast: Bargenstedter SC II\n
LOCATION:
CATEGORIES:Saison 2023/24
END:VEVENT
BEGIN:VEVENT
DTSTAMP:20260424T150009Z
DTSTART;TZID=Europe/Berlin:20231205T200000
DTEND;TZID=Europe/Berlin:20231205T230000
SUMMARY:3. Kreisklasse TSV Brunsbüttel VI vs TSV Eddelak III (142)
UID:1f3f700d-505b-5b33-e063-1fc7a80a4d3b
STATUS:CONFIRMED
LAST-MODIFIED:20240809T113100Z
DESCRIPTION:3. Kreisklasse Herren\nBegegnungs-Nr: 142\nHeim: TSV Brunsbüttel VI\nGast: TSV Eddelak III\n
LOCATION:
CATEGORIES:Saison 2023/24
END:VEVENT
BEGIN:VEVENT
DTSTAMP:20260424T150009Z
DTSTART;TZID=Europe/Berlin:20240123T200000
DTEND;TZID=Europe/Berlin:20240123T230000
SUMMARY:3. Kreisklasse TSV Brunsbüttel VI vs TSV Brunsbüttel V (202)
UID:1f3f700d-50ab-5b33-e063-1fc7a80a4d3b
STATUS:CONFIRMED
LAST-MODIFIED:20240809T113100Z
DESCRIPTION:3. Kreisklasse Herren\nBegegnungs-Nr: 202\nHeim: TSV Brunsbüttel VI\nGast: TSV Brunsbüttel V\n
LOCATION:
CATEGORIES:Saison 2023/24
END:VEVENT
BEGIN:VEVENT
DTSTAMP:20260424T150009Z
DTSTART;TZID=Europe/Berlin:20240220T200000
DTEND;TZID=Europe/Berlin:20240220T230000
SUMMARY:3. Kreisklasse TSV Brunsbüttel VI vs SSV Lunden III (223)
UID:1f3f700d-51e5-5b33-e063-1fc7a80a4d3b
STATUS:CONFIRMED
LAST-MODIFIED:20240809T113100Z
DESCRIPTION:3. Kreisklasse Herren\nBegegnungs-Nr: 223\nHeim: TSV Brunsbüttel VI\nGast: SSV Lunden III\n
LOCATION:
CATEGORIES:Saison 2023/24
END:VEVENT
BEGIN:VEVENT
DTSTAMP:20260424T150009Z
DTSTART;TZID=Europe/Berlin:20240312T200000
DTEND;TZID=Europe/Berlin:20240312T230000
SUMMARY:3. Kreisklasse TSV Brunsbüttel VI vs MTV Heide V (237)
UID:1f3f700d-52b8-5b33-e063-1fc7a80a4d3b
STATUS:CONFIRMED
LAST-MODIFIED:20240809T113100Z
DESCRIPTION:3. Kreisklasse Herren\nBegegnungs-Nr: 237\nHeim: TSV Brunsbüttel VI\nGast: MTV Heide V\n
LOCATION:
CATEGORIES:Saison 2023/24
END:VEVENT
BEGIN:VEVENT
DTSTAMP:20260424T150009Z
DTSTART;TZID=Europe/Berlin:20230919T200000
DTEND;TZID=Europe/Berlin:20230919T230000
SUMMARY:3. Kreisklasse TSV Brunsbüttel VI vs SV Hemmingstedt  (107)
UID:1f3f700d-4df2-5b33-e063-1fc7a80a4d3b
STATUS:CONFIRMED
LAST-MODIFIED:20240809T113100Z
DESCRIPTION:3. Kreisklasse Herren\nBegegnungs-Nr: 107\nHeim: TSV Brunsbüttel VI\nGast: SV Hemmingstedt \n
LOCATION:
CATEGORIES:Saison 2023/24
END:VEVENT
BEGIN:VEVENT
DTSTAMP:20260424T150009Z
DTSTART;TZID=Europe/Berlin:20231010T200000
DTEND;TZID=Europe/Berlin:20231010T230000
SUMMARY:3. Kreisklasse TSV Brunsbüttel VI vs MTV St. Michaelisdonn II (118)
UID:1f3f700d-4ec5-5b33-e063-1fc7a80a4d3b
STATUS:CONFIRMED
LAST-MODIFIED:20240809T113100Z
DESCRIPTION:3. Kreisklasse Herren\nBegegnungs-Nr: 118\nHeim: TSV Brunsbüttel VI\nGast: MTV St. Michaelisdonn II\n
LOCATION:
CATEGORIES:Saison 2023/24
END:VEVENT
BEGIN:VEVENT
DTSTAMP:20260424T150009Z
DTSTART;TZID=Europe/Berlin:20231127T193000
DTEND;TZID=Europe/Berlin:20231127T223000
SUMMARY:3. Kreisklasse MTV Heide V vs TSV Brunsbüttel VI (136)
UID:1f3f700d-4ff7-5b33-e063-1fc7a80a4d3b
STATUS:CONFIRMED
LAST-MODIFIED:20240809T113100Z
DESCRIPTION:3. Kreisklasse Herren\nBegegnungs-Nr: 136\nHeim: MTV Heide V\nGast: TSV Brunsbüttel VI\n
LOCATION:
CATEGORIES:Saison 2023/24
END:VEVENT
BEGIN:VEVENT
DTSTAMP:20260424T150009Z
DTSTART;TZID=Europe/Berlin:20240130T200000
DTEND;TZID=Europe/Berlin:20240130T230000
SUMMARY:3. Kreisklasse SV Hemmingstedt  vs TSV Brunsbüttel VI (208)
UID:1f3f700d-50fd-5b33-e063-1fc7a80a4d3b
STATUS:CONFIRMED
LAST-MODIFIED:20240809T113100Z
DESCRIPTION:3. Kreisklasse Herren\nBegegnungs-Nr: 208\nHeim: SV Hemmingstedt \nGast: TSV Brunsbüttel VI\n
LOCATION:
CATEGORIES:Saison 2023/24
END:VEVENT
BEGIN:VEVENT
DTSTAMP:20260424T150009Z
DTSTART;TZID=Europe/Berlin:20240214T193000
DTEND;TZID=Europe/Berlin:20240214T223000
SUMMARY:3. Kreisklasse MTV St. Michaelisdonn II vs TSV Brunsbüttel VI (218)
UID:1f3f700d-5199-5b33-e063-1fc7a80a4d3b
STATUS:CONFIRMED
LAST-MODIFIED:20240809T113100Z
DESCRIPTION:3. Kreisklasse Herren\nBegegnungs-Nr: 218\nHeim: MTV St. Michaelisdonn II\nGast: TSV Brunsbüttel VI\n
LOCATION:
CATEGORIES:Saison 2023/24
END:VEVENT
BEGIN:VEVENT
DTSTAMP:20260424T150009Z
DTSTART;TZID=Europe/Berlin:20240301T200000
DTEND;TZID=Europe/Berlin:20240301T230000
SUMMARY:3. Kreisklasse TSV Schwarz-Rot Schülp IV vs TSV Brunsbüttel VI (230)
UID:1f3f700d-5256-5b33-e063-1fc7a80a4d3b
STATUS:CONFIRMED
LAST-MODIFIED:20240809T113100Z
DESCRIPTION:3. Kreisklasse Herren\nBegegnungs-Nr: 230\nHeim: TSV Schwarz-Rot Schülp IV\nGast: TSV Brunsbüttel VI\n
LOCATION:
CATEGORIES:Saison 2023/24
END:VEVENT
BEGIN:VEVENT
DTSTAMP:20260424T150009Z
DTSTART;TZID=Europe/Berlin:20240306T201500
DTEND;TZID=Europe/Berlin:20240306T231500
SUMMARY:3. Kreisklasse Bargenstedter SC II vs TSV Brunsbüttel VI (234)
UID:1f3f700d-5292-5b33-e063-1fc7a80a4d3b
STATUS:CONFIRMED
LAST-MODIFIED:20240809T113100Z
DESCRIPTION:3. Kreisklasse Herren\nBegegnungs-Nr: 234\nHeim: Bargenstedter SC II\nGast: TSV Brunsbüttel VI\n
LOCATION:
CATEGORIES:Saison 2023/24
END:VEVENT
BEGIN:VEVENT
DTSTAMP:20260424T150009Z
DTSTART;TZID=Europe/Berlin:20240318T201500
DTEND;TZID=Europe/Berlin:20240318T231500
SUMMARY:3. Kreisklasse TSV Eddelak III vs TSV Brunsbüttel VI (242)
UID:1f3f700d-5309-5b33-e063-1fc7a80a4d3b
STATUS:CONFIRMED
LAST-MODIFIED:20240809T113100Z
DESCRIPTION:3. Kreisklasse Herren\nBegegnungs-Nr: 242\nHeim: TSV Eddelak III\nGast: TSV Brunsbüttel VI\n
LOCATION:
CATEGORIES:Saison 2023/24
END:VEVENT
BEGIN:VEVENT
DTSTAMP:20260424T150009Z
DTSTART;TZID=Europe/Berlin:20230915T200000
DTEND;TZID=Europe/Berlin:20230915T230000
SUMMARY:3. Kreisklasse TSV Brunsbüttel V vs TSV Brunsbüttel VI (105)
UID:1f3f700d-4dcb-5b33-e063-1fc7a80a4d3b
STATUS:CONFIRMED
LAST-MODIFIED:20240809T113059Z
DESCRIPTION:3. Kreisklasse Herren\nBegegnungs-Nr: 105\nHeim: TSV Brunsbüttel V\nGast: TSV Brunsbüttel VI\n
LOCATION:
CATEGORIES:Saison 2023/24
END:VEVENT
BEGIN:VEVENT
DTSTAMP:20260424T150009Z
DTSTART;TZID=Europe/Berlin:20230925T200000
DTEND;TZID=Europe/Berlin:20230925T230000
SUMMARY:3. Kreisklasse Marner TV II vs TSV Brunsbüttel VI (111)
UID:1f3f700d-4e40-5b33-e063-1fc7a80a4d3b
STATUS:CONFIRMED
LAST-MODIFIED:20240809T113100Z
DESCRIPTION:3. Kreisklasse Herren\nBegegnungs-Nr: 111\nHeim: Marner TV II\nGast: TSV Brunsbüttel VI\n
LOCATION:
CATEGORIES:Saison 2023/24
END:VEVENT
BEGIN:VEVENT
DTSTAMP:20260424T150009Z
DTSTART;TZID=Europe/Berlin:20231108T193000
DTEND;TZID=Europe/Berlin:20231108T223000
SUMMARY:3. Kreisklasse SSV Lunden III vs TSV Brunsbüttel VI (123)
UID:1f3f700d-4f24-5b33-e063-1fc7a80a4d3b
STATUS:CONFIRMED
LAST-MODIFIED:20240809T113100Z
DESCRIPTION:3. Kreisklasse Herren\nBegegnungs-Nr: 123\nHeim: SSV Lunden III\nGast: TSV Brunsbüttel VI\n
LOCATION:
CATEGORIES:Saison 2023/24
END:VEVENT
END:VCALENDAR
