BEGIN:VCALENDAR
PRODID:-//nuDatenautomaten//framework iCal4j //DE
VERSION:2.0
CALSCALE:GREGORIAN
BEGIN:VTIMEZONE
TZID:Europe/Berlin
LAST-MODIFIED:20260306T231828Z
TZURL:https://www.tzurl.org/zoneinfo/Europe/Berlin
X-LIC-LOCATION:Europe/Berlin
X-PROLEPTIC-TZNAME:LMT
BEGIN:STANDARD
TZNAME:CET
TZOFFSETFROM:+005328
TZOFFSETTO:+0100
DTSTART:18930401T000000
END:STANDARD
BEGIN:DAYLIGHT
TZNAME:CEST
TZOFFSETFROM:+0100
TZOFFSETTO:+0200
DTSTART:19160430T230000
RDATE:19400401T020000
RDATE:19430329T020000
RDATE:19460414T020000
RDATE:19470406T030000
RDATE:19480418T020000
RDATE:19490410T020000
RDATE:19800406T020000
END:DAYLIGHT
BEGIN:STANDARD
TZNAME:CET
TZOFFSETFROM:+0200
TZOFFSETTO:+0100
DTSTART:19161001T010000
RDATE:19421102T030000
RDATE:19431004T030000
RDATE:19441002T030000
RDATE:19451118T030000
RDATE:19461007T030000
END:STANDARD
BEGIN:DAYLIGHT
TZNAME:CEST
TZOFFSETFROM:+0100
TZOFFSETTO:+0200
DTSTART:19170416T020000
RRULE:FREQ=YEARLY;UNTIL=19180415T010000Z;BYMONTH=4;BYDAY=3MO
END:DAYLIGHT
BEGIN:STANDARD
TZNAME:CET
TZOFFSETFROM:+0200
TZOFFSETTO:+0100
DTSTART:19170917T030000
RRULE:FREQ=YEARLY;UNTIL=19180916T010000Z;BYMONTH=9;BYDAY=3MO
END:STANDARD
BEGIN:DAYLIGHT
TZNAME:CEST
TZOFFSETFROM:+0100
TZOFFSETTO:+0200
DTSTART:19440403T020000
RRULE:FREQ=YEARLY;UNTIL=19450402T010000Z;BYMONTH=4;BYDAY=1MO
END:DAYLIGHT
BEGIN:DAYLIGHT
TZNAME:CEMT
TZOFFSETFROM:+0200
TZOFFSETTO:+0300
DTSTART:19450524T020000
RDATE:19470511T030000
END:DAYLIGHT
BEGIN:DAYLIGHT
TZNAME:CEST
TZOFFSETFROM:+0300
TZOFFSETTO:+0200
DTSTART:19450924T030000
RDATE:19470629T030000
END:DAYLIGHT
BEGIN:STANDARD
TZNAME:CET
TZOFFSETFROM:+0100
TZOFFSETTO:+0100
DTSTART:19460101T000000
RDATE:19800101T000000
END:STANDARD
BEGIN:STANDARD
TZNAME:CET
TZOFFSETFROM:+0200
TZOFFSETTO:+0100
DTSTART:19471005T030000
RRULE:FREQ=YEARLY;UNTIL=19491002T010000Z;BYMONTH=10;BYDAY=1SU
END:STANDARD
BEGIN:STANDARD
TZNAME:CET
TZOFFSETFROM:+0200
TZOFFSETTO:+0100
DTSTART:19800928T030000
RRULE:FREQ=YEARLY;UNTIL=19950924T010000Z;BYMONTH=9;BYDAY=-1SU
END:STANDARD
BEGIN:DAYLIGHT
TZNAME:CEST
TZOFFSETFROM:+0100
TZOFFSETTO:+0200
DTSTART:19810329T020000
RRULE:FREQ=YEARLY;BYMONTH=3;BYDAY=-1SU
END:DAYLIGHT
BEGIN:STANDARD
TZNAME:CET
TZOFFSETFROM:+0200
TZOFFSETTO:+0100
DTSTART:19961027T030000
RRULE:FREQ=YEARLY;BYMONTH=10;BYDAY=-1SU
END:STANDARD
END:VTIMEZONE
BEGIN:VEVENT
DTSTAMP:20260423T213005Z
DTSTART;TZID=Europe/Berlin:20230908T193000
DTEND;TZID=Europe/Berlin:20230908T223000
SUMMARY:Kreisliga MTV Heide II vs TSV Eddelak  (103)
UID:1f3f700d-3f3c-5b33-e063-1fc7a80a4d3b
STATUS:CONFIRMED
LAST-MODIFIED:20240809T113056Z
DESCRIPTION:Kreisliga Herren\nBegegnungs-Nr: 103\nHeim: MTV Heide II\nGast: TSV Eddelak \n
LOCATION:
CATEGORIES:Saison 2023/24
END:VEVENT
BEGIN:VEVENT
DTSTAMP:20260423T213005Z
DTSTART;TZID=Europe/Berlin:20230929T193000
DTEND;TZID=Europe/Berlin:20230929T223000
SUMMARY:Kreisliga MTV Heide II vs SV Farnewinkel-Nindorf  (111)
UID:1f3f700d-3fca-5b33-e063-1fc7a80a4d3b
STATUS:CONFIRMED
LAST-MODIFIED:20240809T113056Z
DESCRIPTION:Kreisliga Herren\nBegegnungs-Nr: 111\nHeim: MTV Heide II\nGast: SV Farnewinkel-Nindorf \n
LOCATION:
CATEGORIES:Saison 2023/24
END:VEVENT
BEGIN:VEVENT
DTSTAMP:20260423T213005Z
DTSTART;TZID=Europe/Berlin:20231117T193000
DTEND;TZID=Europe/Berlin:20231117T223000
SUMMARY:Kreisliga MTV Heide II vs Marner TV  (123)
UID:1f3f700d-40ab-5b33-e063-1fc7a80a4d3b
STATUS:CONFIRMED
LAST-MODIFIED:20240809T113056Z
DESCRIPTION:Kreisliga Herren\nBegegnungs-Nr: 123\nHeim: MTV Heide II\nGast: Marner TV \n
LOCATION:
CATEGORIES:Saison 2023/24
END:VEVENT
BEGIN:VEVENT
DTSTAMP:20260423T213005Z
DTSTART;TZID=Europe/Berlin:20240202T195000
DTEND;TZID=Europe/Berlin:20240202T225000
SUMMARY:Kreisliga MTV Heide II vs SG Offenbüttel / Albersdorf  (206)
UID:1f3f700d-4206-5b33-e063-1fc7a80a4d3b
STATUS:CONFIRMED
LAST-MODIFIED:20240809T113056Z
DESCRIPTION:Kreisliga Herren\nBegegnungs-Nr: 206\nHeim: MTV Heide II\nGast: SG Offenbüttel / Albersdorf \n
LOCATION:
CATEGORIES:Saison 2023/24
END:VEVENT
BEGIN:VEVENT
DTSTAMP:20260423T213005Z
DTSTART;TZID=Europe/Berlin:20240216T193000
DTEND;TZID=Europe/Berlin:20240216T223000
SUMMARY:Kreisliga MTV Heide II vs TSV Schwarz-Rot Schülp II (215)
UID:1f3f700d-42ac-5b33-e063-1fc7a80a4d3b
STATUS:CONFIRMED
LAST-MODIFIED:20240809T113056Z
DESCRIPTION:Kreisliga Herren\nBegegnungs-Nr: 215\nHeim: MTV Heide II\nGast: TSV Schwarz-Rot Schülp II\n
LOCATION:
CATEGORIES:Saison 2023/24
END:VEVENT
BEGIN:VEVENT
DTSTAMP:20260423T213005Z
DTSTART;TZID=Europe/Berlin:20240308T193000
DTEND;TZID=Europe/Berlin:20240308T223000
SUMMARY:Kreisliga MTV Heide II vs TSV Schwarz-Rot Schülp  (228)
UID:1f3f700d-438e-5b33-e063-1fc7a80a4d3b
STATUS:CONFIRMED
LAST-MODIFIED:20240809T113056Z
DESCRIPTION:Kreisliga Herren\nBegegnungs-Nr: 228\nHeim: MTV Heide II\nGast: TSV Schwarz-Rot Schülp \n
LOCATION:
CATEGORIES:Saison 2023/24
END:VEVENT
BEGIN:VEVENT
DTSTAMP:20260423T213005Z
DTSTART;TZID=Europe/Berlin:20240322T193000
DTEND;TZID=Europe/Berlin:20240322T223000
SUMMARY:Kreisliga MTV Heide II vs TTSG Weddingstedt/Wesseln III (234)
UID:1f3f700d-4401-5b33-e063-1fc7a80a4d3b
STATUS:CONFIRMED
LAST-MODIFIED:20240809T113056Z
DESCRIPTION:Kreisliga Herren\nBegegnungs-Nr: 234\nHeim: MTV Heide II\nGast: TTSG Weddingstedt/Wesseln III\n
LOCATION:
CATEGORIES:Saison 2023/24
END:VEVENT
BEGIN:VEVENT
DTSTAMP:20260423T213005Z
DTSTART;TZID=Europe/Berlin:20230921T200000
DTEND;TZID=Europe/Berlin:20230921T230000
SUMMARY:Kreisliga SG Offenbüttel / Albersdorf  vs MTV Heide II (106)
UID:1f3f700d-3f6f-5b33-e063-1fc7a80a4d3b
STATUS:CONFIRMED
LAST-MODIFIED:20240809T113056Z
DESCRIPTION:Kreisliga Herren\nBegegnungs-Nr: 106\nHeim: SG Offenbüttel / Albersdorf \nGast: MTV Heide II\n
LOCATION:
CATEGORIES:Saison 2023/24
END:VEVENT
BEGIN:VEVENT
DTSTAMP:20260423T213005Z
DTSTART;TZID=Europe/Berlin:20231103T200000
DTEND;TZID=Europe/Berlin:20231103T230000
SUMMARY:Kreisliga TSV Schwarz-Rot Schülp II vs MTV Heide II (113)
UID:1f3f700d-3ff3-5b33-e063-1fc7a80a4d3b
STATUS:CONFIRMED
LAST-MODIFIED:20240809T113056Z
DESCRIPTION:Kreisliga Herren\nBegegnungs-Nr: 113\nHeim: TSV Schwarz-Rot Schülp II\nGast: MTV Heide II\n
LOCATION:
CATEGORIES:Saison 2023/24
END:VEVENT
BEGIN:VEVENT
DTSTAMP:20260423T213005Z
DTSTART;TZID=Europe/Berlin:20231109T200000
DTEND;TZID=Europe/Berlin:20231109T230000
SUMMARY:Kreisliga MTV Burg  vs MTV Heide II (118)
UID:1f3f700d-404c-5b33-e063-1fc7a80a4d3b
STATUS:CONFIRMED
LAST-MODIFIED:20240809T113056Z
DESCRIPTION:Kreisliga Herren\nBegegnungs-Nr: 118\nHeim: MTV Burg \nGast: MTV Heide II\n
LOCATION:
CATEGORIES:Saison 2023/24
END:VEVENT
BEGIN:VEVENT
DTSTAMP:20260423T213005Z
DTSTART;TZID=Europe/Berlin:20231121T190000
DTEND;TZID=Europe/Berlin:20231121T220000
SUMMARY:Kreisliga TSV Schwarz-Rot Schülp  vs MTV Heide II (125)
UID:1f3f700d-40d1-5b33-e063-1fc7a80a4d3b
STATUS:CONFIRMED
LAST-MODIFIED:20240809T113056Z
DESCRIPTION:Kreisliga Herren\nBegegnungs-Nr: 125\nHeim: TSV Schwarz-Rot Schülp \nGast: MTV Heide II\n
LOCATION:
CATEGORIES:Saison 2023/24
END:VEVENT
BEGIN:VEVENT
DTSTAMP:20260423T213005Z
DTSTART;TZID=Europe/Berlin:20231208T200000
DTEND;TZID=Europe/Berlin:20231208T230000
SUMMARY:Kreisliga TTSG Weddingstedt/Wesseln III vs MTV Heide II (136)
UID:1f3f700d-4199-5b33-e063-1fc7a80a4d3b
STATUS:CONFIRMED
LAST-MODIFIED:20240809T113056Z
DESCRIPTION:Kreisliga Herren\nBegegnungs-Nr: 136\nHeim: TTSG Weddingstedt/Wesseln III\nGast: MTV Heide II\n
LOCATION:
CATEGORIES:Saison 2023/24
END:VEVENT
BEGIN:VEVENT
DTSTAMP:20260423T213005Z
DTSTART;TZID=Europe/Berlin:20240122T201500
DTEND;TZID=Europe/Berlin:20240122T231500
SUMMARY:Kreisliga TSV Eddelak  vs MTV Heide II (203)
UID:1f3f700d-41cd-5b33-e063-1fc7a80a4d3b
STATUS:CONFIRMED
LAST-MODIFIED:20240809T113056Z
DESCRIPTION:Kreisliga Herren\nBegegnungs-Nr: 203\nHeim: TSV Eddelak \nGast: MTV Heide II\n
LOCATION:
CATEGORIES:Saison 2023/24
END:VEVENT
BEGIN:VEVENT
DTSTAMP:20260423T213005Z
DTSTART;TZID=Europe/Berlin:20240209T193000
DTEND;TZID=Europe/Berlin:20240209T223000
SUMMARY:Kreisliga SV Farnewinkel-Nindorf  vs MTV Heide II (211)
UID:1f3f700d-425f-5b33-e063-1fc7a80a4d3b
STATUS:CONFIRMED
LAST-MODIFIED:20240809T113056Z
DESCRIPTION:Kreisliga Herren\nBegegnungs-Nr: 211\nHeim: SV Farnewinkel-Nindorf \nGast: MTV Heide II\n
LOCATION:
CATEGORIES:Saison 2023/24
END:VEVENT
BEGIN:VEVENT
DTSTAMP:20260423T213005Z
DTSTART;TZID=Europe/Berlin:20240301T200000
DTEND;TZID=Europe/Berlin:20240301T230000
SUMMARY:Kreisliga Marner TV  vs MTV Heide II (223)
UID:1f3f700d-4336-5b33-e063-1fc7a80a4d3b
STATUS:CONFIRMED
LAST-MODIFIED:20240809T113056Z
DESCRIPTION:Kreisliga Herren\nBegegnungs-Nr: 223\nHeim: Marner TV \nGast: MTV Heide II\n
LOCATION:
CATEGORIES:Saison 2023/24
END:VEVENT
END:VCALENDAR
