BEGIN:VCALENDAR
PRODID:-//nuDatenautomaten//framework iCal4j //DE
VERSION:2.0
CALSCALE:GREGORIAN
BEGIN:VTIMEZONE
TZID:Europe/Berlin
LAST-MODIFIED:20260306T231828Z
TZURL:https://www.tzurl.org/zoneinfo/Europe/Berlin
X-LIC-LOCATION:Europe/Berlin
X-PROLEPTIC-TZNAME:LMT
BEGIN:STANDARD
TZNAME:CET
TZOFFSETFROM:+005328
TZOFFSETTO:+0100
DTSTART:18930401T000000
END:STANDARD
BEGIN:DAYLIGHT
TZNAME:CEST
TZOFFSETFROM:+0100
TZOFFSETTO:+0200
DTSTART:19160430T230000
RDATE:19400401T020000
RDATE:19430329T020000
RDATE:19460414T020000
RDATE:19470406T030000
RDATE:19480418T020000
RDATE:19490410T020000
RDATE:19800406T020000
END:DAYLIGHT
BEGIN:STANDARD
TZNAME:CET
TZOFFSETFROM:+0200
TZOFFSETTO:+0100
DTSTART:19161001T010000
RDATE:19421102T030000
RDATE:19431004T030000
RDATE:19441002T030000
RDATE:19451118T030000
RDATE:19461007T030000
END:STANDARD
BEGIN:DAYLIGHT
TZNAME:CEST
TZOFFSETFROM:+0100
TZOFFSETTO:+0200
DTSTART:19170416T020000
RRULE:FREQ=YEARLY;UNTIL=19180415T010000Z;BYMONTH=4;BYDAY=3MO
END:DAYLIGHT
BEGIN:STANDARD
TZNAME:CET
TZOFFSETFROM:+0200
TZOFFSETTO:+0100
DTSTART:19170917T030000
RRULE:FREQ=YEARLY;UNTIL=19180916T010000Z;BYMONTH=9;BYDAY=3MO
END:STANDARD
BEGIN:DAYLIGHT
TZNAME:CEST
TZOFFSETFROM:+0100
TZOFFSETTO:+0200
DTSTART:19440403T020000
RRULE:FREQ=YEARLY;UNTIL=19450402T010000Z;BYMONTH=4;BYDAY=1MO
END:DAYLIGHT
BEGIN:DAYLIGHT
TZNAME:CEMT
TZOFFSETFROM:+0200
TZOFFSETTO:+0300
DTSTART:19450524T020000
RDATE:19470511T030000
END:DAYLIGHT
BEGIN:DAYLIGHT
TZNAME:CEST
TZOFFSETFROM:+0300
TZOFFSETTO:+0200
DTSTART:19450924T030000
RDATE:19470629T030000
END:DAYLIGHT
BEGIN:STANDARD
TZNAME:CET
TZOFFSETFROM:+0100
TZOFFSETTO:+0100
DTSTART:19460101T000000
RDATE:19800101T000000
END:STANDARD
BEGIN:STANDARD
TZNAME:CET
TZOFFSETFROM:+0200
TZOFFSETTO:+0100
DTSTART:19471005T030000
RRULE:FREQ=YEARLY;UNTIL=19491002T010000Z;BYMONTH=10;BYDAY=1SU
END:STANDARD
BEGIN:STANDARD
TZNAME:CET
TZOFFSETFROM:+0200
TZOFFSETTO:+0100
DTSTART:19800928T030000
RRULE:FREQ=YEARLY;UNTIL=19950924T010000Z;BYMONTH=9;BYDAY=-1SU
END:STANDARD
BEGIN:DAYLIGHT
TZNAME:CEST
TZOFFSETFROM:+0100
TZOFFSETTO:+0200
DTSTART:19810329T020000
RRULE:FREQ=YEARLY;BYMONTH=3;BYDAY=-1SU
END:DAYLIGHT
BEGIN:STANDARD
TZNAME:CET
TZOFFSETFROM:+0200
TZOFFSETTO:+0100
DTSTART:19961027T030000
RRULE:FREQ=YEARLY;BYMONTH=10;BYDAY=-1SU
END:STANDARD
END:VTIMEZONE
BEGIN:VEVENT
DTSTAMP:20260421T181821Z
DTSTART;TZID=Europe/Berlin:20230324T190000
DTEND;TZID=Europe/Berlin:20230324T220000
SUMMARY:Kreisklasse Gruppe 2 TSV Herwigsdorf 1891 IV vs SV Koweg Görlitz III (54)
UID:02ac31fd-7879-7811-e063-1fc7a80a9a89
STATUS:CONFIRMED
LAST-MODIFIED:20230811T200438Z
DESCRIPTION:Kreisklasse Herren Gruppe 2\nBegegnungs-Nr: 54\nHeim: TSV Herwigsdorf 1891 IV\nGast: SV Koweg Görlitz III\n
LOCATION:
CATEGORIES:Saison 2022/23
END:VEVENT
BEGIN:VEVENT
DTSTAMP:20260421T181821Z
DTSTART;TZID=Europe/Berlin:20230310T193000
DTEND;TZID=Europe/Berlin:20230310T223000
SUMMARY:Kreisklasse Gruppe 2 TSV Herwigsdorf 1891 IV vs SG Strahwalde II (60)
UID:02ac31fd-7904-7811-e063-1fc7a80a9a89
STATUS:CONFIRMED
LAST-MODIFIED:20230811T200438Z
DESCRIPTION:Kreisklasse Herren Gruppe 2\nBegegnungs-Nr: 60\nHeim: TSV Herwigsdorf 1891 IV\nGast: SG Strahwalde II\n
LOCATION:
CATEGORIES:Saison 2022/23
END:VEVENT
BEGIN:VEVENT
DTSTAMP:20260421T181821Z
DTSTART;TZID=Europe/Berlin:20230331T193000
DTEND;TZID=Europe/Berlin:20230331T223000
SUMMARY:Kreisklasse Gruppe 2 TSV Herwigsdorf 1891 IV vs TTSV Ostritz II (68)
UID:02ac31fd-79bc-7811-e063-1fc7a80a9a89
STATUS:CONFIRMED
LAST-MODIFIED:20230811T200438Z
DESCRIPTION:Kreisklasse Herren Gruppe 2\nBegegnungs-Nr: 68\nHeim: TSV Herwigsdorf 1891 IV\nGast: TTSV Ostritz II\n
LOCATION:
CATEGORIES:Saison 2022/23
END:VEVENT
BEGIN:VEVENT
DTSTAMP:20260421T181821Z
DTSTART;TZID=Europe/Berlin:20220902T193000
DTEND;TZID=Europe/Berlin:20220902T223000
SUMMARY:Kreisklasse Gruppe 2 TSV Herwigsdorf 1891 IV vs TSV Herwigsdorf 1891 III (1)
UID:02ac31fd-73ae-7811-e063-1fc7a80a9a89
STATUS:CONFIRMED
LAST-MODIFIED:20230811T200438Z
DESCRIPTION:Kreisklasse Herren Gruppe 2\nBegegnungs-Nr: 1\nHeim: TSV Herwigsdorf 1891 IV\nGast: TSV Herwigsdorf 1891 III\n
LOCATION:
CATEGORIES:Saison 2022/23
END:VEVENT
BEGIN:VEVENT
DTSTAMP:20260421T181821Z
DTSTART;TZID=Europe/Berlin:20221104T193000
DTEND;TZID=Europe/Berlin:20221104T223000
SUMMARY:Kreisklasse Gruppe 2 TSV Herwigsdorf 1891 IV vs TTC Neusalza-Spremberg 02 III (28)
UID:02ac31fd-757b-7811-e063-1fc7a80a9a89
STATUS:CONFIRMED
LAST-MODIFIED:20230811T200438Z
DESCRIPTION:Kreisklasse Herren Gruppe 2\nBegegnungs-Nr: 28\nHeim: TSV Herwigsdorf 1891 IV\nGast: TTC Neusalza-Spremberg 02 III\n
LOCATION:
CATEGORIES:Saison 2022/23
END:VEVENT
BEGIN:VEVENT
DTSTAMP:20260421T181821Z
DTSTART;TZID=Europe/Berlin:20221205T193000
DTEND;TZID=Europe/Berlin:20221205T223000
SUMMARY:Kreisklasse Gruppe 2 TSV Herwigsdorf 1891 IV vs LSV Friedersdorf  (37)
UID:02ac31fd-7663-7811-e063-1fc7a80a9a89
STATUS:CONFIRMED
LAST-MODIFIED:20230811T200438Z
DESCRIPTION:Kreisklasse Herren Gruppe 2\nBegegnungs-Nr: 37\nHeim: TSV Herwigsdorf 1891 IV\nGast: LSV Friedersdorf \n
LOCATION:
CATEGORIES:Saison 2022/23
END:VEVENT
BEGIN:VEVENT
DTSTAMP:20260421T181821Z
DTSTART;TZID=Europe/Berlin:20220916T193000
DTEND;TZID=Europe/Berlin:20220916T223000
SUMMARY:Kreisklasse Gruppe 2 TSV Herwigsdorf 1891 IV vs Hirschfelder SV  (9)
UID:02ac31fd-76ed-7811-e063-1fc7a80a9a89
STATUS:CONFIRMED
LAST-MODIFIED:20230811T200438Z
DESCRIPTION:Kreisklasse Herren Gruppe 2\nBegegnungs-Nr: 9\nHeim: TSV Herwigsdorf 1891 IV\nGast: Hirschfelder SV \n
LOCATION:
CATEGORIES:Saison 2022/23
END:VEVENT
BEGIN:VEVENT
DTSTAMP:20260421T181821Z
DTSTART;TZID=Europe/Berlin:20230217T193000
DTEND;TZID=Europe/Berlin:20230217T223000
SUMMARY:Kreisklasse Gruppe 2 TSV Herwigsdorf 1891 IV vs SG Blau-Weiß Obercunnersdorf  (50)
UID:02ac31fd-781c-7811-e063-1fc7a80a9a89
STATUS:CONFIRMED
LAST-MODIFIED:20230811T200438Z
DESCRIPTION:Kreisklasse Herren Gruppe 2\nBegegnungs-Nr: 50\nHeim: TSV Herwigsdorf 1891 IV\nGast: SG Blau-Weiß Obercunnersdorf \n
LOCATION:
CATEGORIES:Saison 2022/23
END:VEVENT
BEGIN:VEVENT
DTSTAMP:20260421T181821Z
DTSTART;TZID=Europe/Berlin:20230317T193000
DTEND;TZID=Europe/Berlin:20230317T223000
SUMMARY:Kreisklasse Gruppe 2 TTC Neusalza-Spremberg 02 III vs TSV Herwigsdorf 1891 IV (63)
UID:02ac31fd-7949-7811-e063-1fc7a80a9a89
STATUS:CONFIRMED
LAST-MODIFIED:20230811T200438Z
DESCRIPTION:Kreisklasse Herren Gruppe 2\nBegegnungs-Nr: 63\nHeim: TTC Neusalza-Spremberg 02 III\nGast: TSV Herwigsdorf 1891 IV\n
LOCATION:
CATEGORIES:Saison 2022/23
END:VEVENT
BEGIN:VEVENT
DTSTAMP:20260421T181821Z
DTSTART;TZID=Europe/Berlin:20230422T140000
DTEND;TZID=Europe/Berlin:20230422T170000
SUMMARY:Kreisklasse Gruppe 2 LSV Friedersdorf  vs TSV Herwigsdorf 1891 IV (72)
UID:02ac31fd-7a19-7811-e063-1fc7a80a9a89
STATUS:CONFIRMED
LAST-MODIFIED:20230811T200438Z
DESCRIPTION:Kreisklasse Herren Gruppe 2\nBegegnungs-Nr: 72\nHeim: LSV Friedersdorf \nGast: TSV Herwigsdorf 1891 IV\n
LOCATION:
CATEGORIES:Saison 2022/23
END:VEVENT
BEGIN:VEVENT
DTSTAMP:20260421T181821Z
DTSTART;TZID=Europe/Berlin:20220927T190000
DTEND;TZID=Europe/Berlin:20220927T220000
SUMMARY:Kreisklasse Gruppe 2 SG Blau-Weiß Obercunnersdorf  vs TSV Herwigsdorf 1891 IV (15)
UID:02ac31fd-7438-7811-e063-1fc7a80a9a89
STATUS:CONFIRMED
LAST-MODIFIED:20230811T200438Z
DESCRIPTION:Kreisklasse Herren Gruppe 2\nBegegnungs-Nr: 15\nHeim: SG Blau-Weiß Obercunnersdorf \nGast: TSV Herwigsdorf 1891 IV\n
LOCATION:
CATEGORIES:Saison 2022/23
END:VEVENT
BEGIN:VEVENT
DTSTAMP:20260421T181821Z
DTSTART;TZID=Europe/Berlin:20221006T193000
DTEND;TZID=Europe/Berlin:20221006T223000
SUMMARY:Kreisklasse Gruppe 2 SV Koweg Görlitz III vs TSV Herwigsdorf 1891 IV (20)
UID:02ac31fd-74c3-7811-e063-1fc7a80a9a89
STATUS:CONFIRMED
LAST-MODIFIED:20230811T200438Z
DESCRIPTION:Kreisklasse Herren Gruppe 2\nBegegnungs-Nr: 20\nHeim: SV Koweg Görlitz III\nGast: TSV Herwigsdorf 1891 IV\n
LOCATION:
CATEGORIES:Saison 2022/23
END:VEVENT
BEGIN:VEVENT
DTSTAMP:20260421T181821Z
DTSTART;TZID=Europe/Berlin:20221013T190000
DTEND;TZID=Europe/Berlin:20221013T220000
SUMMARY:Kreisklasse Gruppe 2 SG Strahwalde II vs TSV Herwigsdorf 1891 IV (24)
UID:02ac31fd-751f-7811-e063-1fc7a80a9a89
STATUS:CONFIRMED
LAST-MODIFIED:20230811T200438Z
DESCRIPTION:Kreisklasse Herren Gruppe 2\nBegegnungs-Nr: 24\nHeim: SG Strahwalde II\nGast: TSV Herwigsdorf 1891 IV\n
LOCATION:
CATEGORIES:Saison 2022/23
END:VEVENT
BEGIN:VEVENT
DTSTAMP:20260421T181821Z
DTSTART;TZID=Europe/Berlin:20221107T190000
DTEND;TZID=Europe/Berlin:20221107T220000
SUMMARY:Kreisklasse Gruppe 2 TTSV Ostritz II vs TSV Herwigsdorf 1891 IV (30)
UID:02ac31fd-75c0-7811-e063-1fc7a80a9a89
STATUS:CONFIRMED
LAST-MODIFIED:20230811T200438Z
DESCRIPTION:Kreisklasse Herren Gruppe 2\nBegegnungs-Nr: 30\nHeim: TTSV Ostritz II\nGast: TSV Herwigsdorf 1891 IV\n
LOCATION:
CATEGORIES:Saison 2022/23
END:VEVENT
BEGIN:VEVENT
DTSTAMP:20260421T181821Z
DTSTART;TZID=Europe/Berlin:20220909T193000
DTEND;TZID=Europe/Berlin:20220909T223000
SUMMARY:Kreisklasse Gruppe 2 TSV Herwigsdorf 1891 III vs TSV Herwigsdorf 1891 IV (4)
UID:02ac31fd-767a-7811-e063-1fc7a80a9a89
STATUS:CONFIRMED
LAST-MODIFIED:20230811T200438Z
DESCRIPTION:Kreisklasse Herren Gruppe 2\nBegegnungs-Nr: 4\nHeim: TSV Herwigsdorf 1891 III\nGast: TSV Herwigsdorf 1891 IV\n
LOCATION:
CATEGORIES:Saison 2022/23
END:VEVENT
BEGIN:VEVENT
DTSTAMP:20260421T181821Z
DTSTART;TZID=Europe/Berlin:20230117T190000
DTEND;TZID=Europe/Berlin:20230117T220000
SUMMARY:Kreisklasse Gruppe 2 Hirschfelder SV  vs TSV Herwigsdorf 1891 IV (42)
UID:02ac31fd-7762-7811-e063-1fc7a80a9a89
STATUS:CONFIRMED
LAST-MODIFIED:20230811T200438Z
DESCRIPTION:Kreisklasse Herren Gruppe 2\nBegegnungs-Nr: 42\nHeim: Hirschfelder SV \nGast: TSV Herwigsdorf 1891 IV\n
LOCATION:
CATEGORIES:Saison 2022/23
END:VEVENT
END:VCALENDAR
