BEGIN:VCALENDAR
PRODID:-//nuDatenautomaten//framework iCal4j //DE
VERSION:2.0
CALSCALE:GREGORIAN
BEGIN:VTIMEZONE
TZID:Europe/Berlin
LAST-MODIFIED:20260306T231828Z
TZURL:https://www.tzurl.org/zoneinfo/Europe/Berlin
X-LIC-LOCATION:Europe/Berlin
X-PROLEPTIC-TZNAME:LMT
BEGIN:STANDARD
TZNAME:CET
TZOFFSETFROM:+005328
TZOFFSETTO:+0100
DTSTART:18930401T000000
END:STANDARD
BEGIN:DAYLIGHT
TZNAME:CEST
TZOFFSETFROM:+0100
TZOFFSETTO:+0200
DTSTART:19160430T230000
RDATE:19400401T020000
RDATE:19430329T020000
RDATE:19460414T020000
RDATE:19470406T030000
RDATE:19480418T020000
RDATE:19490410T020000
RDATE:19800406T020000
END:DAYLIGHT
BEGIN:STANDARD
TZNAME:CET
TZOFFSETFROM:+0200
TZOFFSETTO:+0100
DTSTART:19161001T010000
RDATE:19421102T030000
RDATE:19431004T030000
RDATE:19441002T030000
RDATE:19451118T030000
RDATE:19461007T030000
END:STANDARD
BEGIN:DAYLIGHT
TZNAME:CEST
TZOFFSETFROM:+0100
TZOFFSETTO:+0200
DTSTART:19170416T020000
RRULE:FREQ=YEARLY;UNTIL=19180415T010000Z;BYMONTH=4;BYDAY=3MO
END:DAYLIGHT
BEGIN:STANDARD
TZNAME:CET
TZOFFSETFROM:+0200
TZOFFSETTO:+0100
DTSTART:19170917T030000
RRULE:FREQ=YEARLY;UNTIL=19180916T010000Z;BYMONTH=9;BYDAY=3MO
END:STANDARD
BEGIN:DAYLIGHT
TZNAME:CEST
TZOFFSETFROM:+0100
TZOFFSETTO:+0200
DTSTART:19440403T020000
RRULE:FREQ=YEARLY;UNTIL=19450402T010000Z;BYMONTH=4;BYDAY=1MO
END:DAYLIGHT
BEGIN:DAYLIGHT
TZNAME:CEMT
TZOFFSETFROM:+0200
TZOFFSETTO:+0300
DTSTART:19450524T020000
RDATE:19470511T030000
END:DAYLIGHT
BEGIN:DAYLIGHT
TZNAME:CEST
TZOFFSETFROM:+0300
TZOFFSETTO:+0200
DTSTART:19450924T030000
RDATE:19470629T030000
END:DAYLIGHT
BEGIN:STANDARD
TZNAME:CET
TZOFFSETFROM:+0100
TZOFFSETTO:+0100
DTSTART:19460101T000000
RDATE:19800101T000000
END:STANDARD
BEGIN:STANDARD
TZNAME:CET
TZOFFSETFROM:+0200
TZOFFSETTO:+0100
DTSTART:19471005T030000
RRULE:FREQ=YEARLY;UNTIL=19491002T010000Z;BYMONTH=10;BYDAY=1SU
END:STANDARD
BEGIN:STANDARD
TZNAME:CET
TZOFFSETFROM:+0200
TZOFFSETTO:+0100
DTSTART:19800928T030000
RRULE:FREQ=YEARLY;UNTIL=19950924T010000Z;BYMONTH=9;BYDAY=-1SU
END:STANDARD
BEGIN:DAYLIGHT
TZNAME:CEST
TZOFFSETFROM:+0100
TZOFFSETTO:+0200
DTSTART:19810329T020000
RRULE:FREQ=YEARLY;BYMONTH=3;BYDAY=-1SU
END:DAYLIGHT
BEGIN:STANDARD
TZNAME:CET
TZOFFSETFROM:+0200
TZOFFSETTO:+0100
DTSTART:19961027T030000
RRULE:FREQ=YEARLY;BYMONTH=10;BYDAY=-1SU
END:STANDARD
END:VTIMEZONE
BEGIN:VEVENT
DTSTAMP:20260422T094723Z
DTSTART;TZID=Europe/Berlin:20230307T190000
DTEND;TZID=Europe/Berlin:20230307T220000
SUMMARY:Kreisklasse Gruppe 2 Hirschfelder SV  vs TTC Neusalza-Spremberg 02 III (58)
UID:02ac31fd-78d5-7811-e063-1fc7a80a9a89
STATUS:CONFIRMED
LAST-MODIFIED:20230811T200438Z
DESCRIPTION:Kreisklasse Herren Gruppe 2\nBegegnungs-Nr: 58\nHeim: Hirschfelder SV \nGast: TTC Neusalza-Spremberg 02 III\n
LOCATION:
CATEGORIES:Saison 2022/23
END:VEVENT
BEGIN:VEVENT
DTSTAMP:20260422T094723Z
DTSTART;TZID=Europe/Berlin:20230328T190000
DTEND;TZID=Europe/Berlin:20230328T220000
SUMMARY:Kreisklasse Gruppe 2 Hirschfelder SV  vs LSV Friedersdorf  (66)
UID:02ac31fd-798e-7811-e063-1fc7a80a9a89
STATUS:CONFIRMED
LAST-MODIFIED:20230811T200438Z
DESCRIPTION:Kreisklasse Herren Gruppe 2\nBegegnungs-Nr: 66\nHeim: Hirschfelder SV \nGast: LSV Friedersdorf \n
LOCATION:
CATEGORIES:Saison 2022/23
END:VEVENT
BEGIN:VEVENT
DTSTAMP:20260422T094723Z
DTSTART;TZID=Europe/Berlin:20220920T190000
DTEND;TZID=Europe/Berlin:20220920T220000
SUMMARY:Kreisklasse Gruppe 2 Hirschfelder SV  vs SG Blau-Weiß Obercunnersdorf  (11)
UID:02ac31fd-73dc-7811-e063-1fc7a80a9a89
STATUS:CONFIRMED
LAST-MODIFIED:20230811T200438Z
DESCRIPTION:Kreisklasse Herren Gruppe 2\nBegegnungs-Nr: 11\nHeim: Hirschfelder SV \nGast: SG Blau-Weiß Obercunnersdorf \n
LOCATION:
CATEGORIES:Saison 2022/23
END:VEVENT
BEGIN:VEVENT
DTSTAMP:20260422T094723Z
DTSTART;TZID=Europe/Berlin:20221004T190000
DTEND;TZID=Europe/Berlin:20221004T220000
SUMMARY:Kreisklasse Gruppe 2 Hirschfelder SV  vs SG Strahwalde II (18)
UID:02ac31fd-747d-7811-e063-1fc7a80a9a89
STATUS:CONFIRMED
LAST-MODIFIED:20230811T200438Z
DESCRIPTION:Kreisklasse Herren Gruppe 2\nBegegnungs-Nr: 18\nHeim: Hirschfelder SV \nGast: SG Strahwalde II\n
LOCATION:
CATEGORIES:Saison 2022/23
END:VEVENT
BEGIN:VEVENT
DTSTAMP:20260422T094723Z
DTSTART;TZID=Europe/Berlin:20221101T190000
DTEND;TZID=Europe/Berlin:20221101T220000
SUMMARY:Kreisklasse Gruppe 2 Hirschfelder SV  vs TTSV Ostritz II (26)
UID:02ac31fd-754d-7811-e063-1fc7a80a9a89
STATUS:CONFIRMED
LAST-MODIFIED:20230811T200438Z
DESCRIPTION:Kreisklasse Herren Gruppe 2\nBegegnungs-Nr: 26\nHeim: Hirschfelder SV \nGast: TTSV Ostritz II\n
LOCATION:
CATEGORIES:Saison 2022/23
END:VEVENT
BEGIN:VEVENT
DTSTAMP:20260422T094723Z
DTSTART;TZID=Europe/Berlin:20221129T190000
DTEND;TZID=Europe/Berlin:20221129T220000
SUMMARY:Kreisklasse Gruppe 2 Hirschfelder SV  vs TSV Herwigsdorf 1891 III (36)
UID:02ac31fd-764c-7811-e063-1fc7a80a9a89
STATUS:CONFIRMED
LAST-MODIFIED:20230811T200438Z
DESCRIPTION:Kreisklasse Herren Gruppe 2\nBegegnungs-Nr: 36\nHeim: Hirschfelder SV \nGast: TSV Herwigsdorf 1891 III\n
LOCATION:
CATEGORIES:Saison 2022/23
END:VEVENT
BEGIN:VEVENT
DTSTAMP:20260422T094723Z
DTSTART;TZID=Europe/Berlin:20230117T190000
DTEND;TZID=Europe/Berlin:20230117T220000
SUMMARY:Kreisklasse Gruppe 2 Hirschfelder SV  vs TSV Herwigsdorf 1891 IV (42)
UID:02ac31fd-7762-7811-e063-1fc7a80a9a89
STATUS:CONFIRMED
LAST-MODIFIED:20230811T200438Z
DESCRIPTION:Kreisklasse Herren Gruppe 2\nBegegnungs-Nr: 42\nHeim: Hirschfelder SV \nGast: TSV Herwigsdorf 1891 IV\n
LOCATION:
CATEGORIES:Saison 2022/23
END:VEVENT
BEGIN:VEVENT
DTSTAMP:20260422T094723Z
DTSTART;TZID=Europe/Berlin:20230207T190000
DTEND;TZID=Europe/Berlin:20230207T220000
SUMMARY:Kreisklasse Gruppe 2 Hirschfelder SV  vs SV Koweg Görlitz III (49)
UID:02ac31fd-7805-7811-e063-1fc7a80a9a89
STATUS:CONFIRMED
LAST-MODIFIED:20230811T200438Z
DESCRIPTION:Kreisklasse Herren Gruppe 2\nBegegnungs-Nr: 49\nHeim: Hirschfelder SV \nGast: SV Koweg Görlitz III\n
LOCATION:
CATEGORIES:Saison 2022/23
END:VEVENT
BEGIN:VEVENT
DTSTAMP:20260422T094723Z
DTSTART;TZID=Europe/Berlin:20230302T190000
DTEND;TZID=Europe/Berlin:20230302T220000
SUMMARY:Kreisklasse Gruppe 2 SG Strahwalde II vs Hirschfelder SV  (55)
UID:02ac31fd-7890-7811-e063-1fc7a80a9a89
STATUS:CONFIRMED
LAST-MODIFIED:20230811T200438Z
DESCRIPTION:Kreisklasse Herren Gruppe 2\nBegegnungs-Nr: 55\nHeim: SG Strahwalde II\nGast: Hirschfelder SV \n
LOCATION:
CATEGORIES:Saison 2022/23
END:VEVENT
BEGIN:VEVENT
DTSTAMP:20260422T094723Z
DTSTART;TZID=Europe/Berlin:20230313T190000
DTEND;TZID=Europe/Berlin:20230313T220000
SUMMARY:Kreisklasse Gruppe 2 TTSV Ostritz II vs Hirschfelder SV  (61)
UID:02ac31fd-791b-7811-e063-1fc7a80a9a89
STATUS:CONFIRMED
LAST-MODIFIED:20230811T200438Z
DESCRIPTION:Kreisklasse Herren Gruppe 2\nBegegnungs-Nr: 61\nHeim: TTSV Ostritz II\nGast: Hirschfelder SV \n
LOCATION:
CATEGORIES:Saison 2022/23
END:VEVENT
BEGIN:VEVENT
DTSTAMP:20260422T094723Z
DTSTART;TZID=Europe/Berlin:20230428T193000
DTEND;TZID=Europe/Berlin:20230428T223000
SUMMARY:Kreisklasse Gruppe 2 TSV Herwigsdorf 1891 III vs Hirschfelder SV  (70)
UID:02ac31fd-79ea-7811-e063-1fc7a80a9a89
STATUS:CONFIRMED
LAST-MODIFIED:20230811T200438Z
DESCRIPTION:Kreisklasse Herren Gruppe 2\nBegegnungs-Nr: 70\nHeim: TSV Herwigsdorf 1891 III\nGast: Hirschfelder SV \n
LOCATION:
CATEGORIES:Saison 2022/23
END:VEVENT
BEGIN:VEVENT
DTSTAMP:20260422T094723Z
DTSTART;TZID=Europe/Berlin:20220926T193000
DTEND;TZID=Europe/Berlin:20220926T223000
SUMMARY:Kreisklasse Gruppe 2 SV Koweg Görlitz III vs Hirschfelder SV  (14)
UID:02ac31fd-7421-7811-e063-1fc7a80a9a89
STATUS:CONFIRMED
LAST-MODIFIED:20230811T200438Z
DESCRIPTION:Kreisklasse Herren Gruppe 2\nBegegnungs-Nr: 14\nHeim: SV Koweg Görlitz III\nGast: Hirschfelder SV \n
LOCATION:
CATEGORIES:Saison 2022/23
END:VEVENT
BEGIN:VEVENT
DTSTAMP:20260422T094723Z
DTSTART;TZID=Europe/Berlin:20221014T193000
DTEND;TZID=Europe/Berlin:20221014T223000
SUMMARY:Kreisklasse Gruppe 2 TTC Neusalza-Spremberg 02 III vs Hirschfelder SV  (25)
UID:02ac31fd-7536-7811-e063-1fc7a80a9a89
STATUS:CONFIRMED
LAST-MODIFIED:20230811T200438Z
DESCRIPTION:Kreisklasse Herren Gruppe 2\nBegegnungs-Nr: 25\nHeim: TTC Neusalza-Spremberg 02 III\nGast: Hirschfelder SV \n
LOCATION:
CATEGORIES:Saison 2022/23
END:VEVENT
BEGIN:VEVENT
DTSTAMP:20260422T094723Z
DTSTART;TZID=Europe/Berlin:20221112T140000
DTEND;TZID=Europe/Berlin:20221112T170000
SUMMARY:Kreisklasse Gruppe 2 LSV Friedersdorf  vs Hirschfelder SV  (32)
UID:02ac31fd-75ef-7811-e063-1fc7a80a9a89
STATUS:CONFIRMED
LAST-MODIFIED:20230811T200438Z
DESCRIPTION:Kreisklasse Herren Gruppe 2\nBegegnungs-Nr: 32\nHeim: LSV Friedersdorf \nGast: Hirschfelder SV \n
LOCATION:
CATEGORIES:Saison 2022/23
END:VEVENT
BEGIN:VEVENT
DTSTAMP:20260422T094723Z
DTSTART;TZID=Europe/Berlin:20220916T193000
DTEND;TZID=Europe/Berlin:20220916T223000
SUMMARY:Kreisklasse Gruppe 2 TSV Herwigsdorf 1891 IV vs Hirschfelder SV  (9)
UID:02ac31fd-76ed-7811-e063-1fc7a80a9a89
STATUS:CONFIRMED
LAST-MODIFIED:20230811T200438Z
DESCRIPTION:Kreisklasse Herren Gruppe 2\nBegegnungs-Nr: 9\nHeim: TSV Herwigsdorf 1891 IV\nGast: Hirschfelder SV \n
LOCATION:
CATEGORIES:Saison 2022/23
END:VEVENT
BEGIN:VEVENT
DTSTAMP:20260422T094723Z
DTSTART;TZID=Europe/Berlin:20230124T190000
DTEND;TZID=Europe/Berlin:20230124T220000
SUMMARY:Kreisklasse Gruppe 2 SG Blau-Weiß Obercunnersdorf  vs Hirschfelder SV  (46)
UID:02ac31fd-77bf-7811-e063-1fc7a80a9a89
STATUS:CONFIRMED
LAST-MODIFIED:20230811T200438Z
DESCRIPTION:Kreisklasse Herren Gruppe 2\nBegegnungs-Nr: 46\nHeim: SG Blau-Weiß Obercunnersdorf \nGast: Hirschfelder SV \n
LOCATION:
CATEGORIES:Saison 2022/23
END:VEVENT
END:VCALENDAR
