BEGIN:VCALENDAR
PRODID:-//nuDatenautomaten//framework iCal4j //DE
VERSION:2.0
CALSCALE:GREGORIAN
BEGIN:VTIMEZONE
TZID:Europe/Berlin
LAST-MODIFIED:20260306T231828Z
TZURL:https://www.tzurl.org/zoneinfo/Europe/Berlin
X-LIC-LOCATION:Europe/Berlin
X-PROLEPTIC-TZNAME:LMT
BEGIN:STANDARD
TZNAME:CET
TZOFFSETFROM:+005328
TZOFFSETTO:+0100
DTSTART:18930401T000000
END:STANDARD
BEGIN:DAYLIGHT
TZNAME:CEST
TZOFFSETFROM:+0100
TZOFFSETTO:+0200
DTSTART:19160430T230000
RDATE:19400401T020000
RDATE:19430329T020000
RDATE:19460414T020000
RDATE:19470406T030000
RDATE:19480418T020000
RDATE:19490410T020000
RDATE:19800406T020000
END:DAYLIGHT
BEGIN:STANDARD
TZNAME:CET
TZOFFSETFROM:+0200
TZOFFSETTO:+0100
DTSTART:19161001T010000
RDATE:19421102T030000
RDATE:19431004T030000
RDATE:19441002T030000
RDATE:19451118T030000
RDATE:19461007T030000
END:STANDARD
BEGIN:DAYLIGHT
TZNAME:CEST
TZOFFSETFROM:+0100
TZOFFSETTO:+0200
DTSTART:19170416T020000
RRULE:FREQ=YEARLY;UNTIL=19180415T010000Z;BYMONTH=4;BYDAY=3MO
END:DAYLIGHT
BEGIN:STANDARD
TZNAME:CET
TZOFFSETFROM:+0200
TZOFFSETTO:+0100
DTSTART:19170917T030000
RRULE:FREQ=YEARLY;UNTIL=19180916T010000Z;BYMONTH=9;BYDAY=3MO
END:STANDARD
BEGIN:DAYLIGHT
TZNAME:CEST
TZOFFSETFROM:+0100
TZOFFSETTO:+0200
DTSTART:19440403T020000
RRULE:FREQ=YEARLY;UNTIL=19450402T010000Z;BYMONTH=4;BYDAY=1MO
END:DAYLIGHT
BEGIN:DAYLIGHT
TZNAME:CEMT
TZOFFSETFROM:+0200
TZOFFSETTO:+0300
DTSTART:19450524T020000
RDATE:19470511T030000
END:DAYLIGHT
BEGIN:DAYLIGHT
TZNAME:CEST
TZOFFSETFROM:+0300
TZOFFSETTO:+0200
DTSTART:19450924T030000
RDATE:19470629T030000
END:DAYLIGHT
BEGIN:STANDARD
TZNAME:CET
TZOFFSETFROM:+0100
TZOFFSETTO:+0100
DTSTART:19460101T000000
RDATE:19800101T000000
END:STANDARD
BEGIN:STANDARD
TZNAME:CET
TZOFFSETFROM:+0200
TZOFFSETTO:+0100
DTSTART:19471005T030000
RRULE:FREQ=YEARLY;UNTIL=19491002T010000Z;BYMONTH=10;BYDAY=1SU
END:STANDARD
BEGIN:STANDARD
TZNAME:CET
TZOFFSETFROM:+0200
TZOFFSETTO:+0100
DTSTART:19800928T030000
RRULE:FREQ=YEARLY;UNTIL=19950924T010000Z;BYMONTH=9;BYDAY=-1SU
END:STANDARD
BEGIN:DAYLIGHT
TZNAME:CEST
TZOFFSETFROM:+0100
TZOFFSETTO:+0200
DTSTART:19810329T020000
RRULE:FREQ=YEARLY;BYMONTH=3;BYDAY=-1SU
END:DAYLIGHT
BEGIN:STANDARD
TZNAME:CET
TZOFFSETFROM:+0200
TZOFFSETTO:+0100
DTSTART:19961027T030000
RRULE:FREQ=YEARLY;BYMONTH=10;BYDAY=-1SU
END:STANDARD
END:VTIMEZONE
BEGIN:VEVENT
DTSTAMP:20260426T043035Z
DTSTART;TZID=Europe/Berlin:20221121T201500
DTEND;TZID=Europe/Berlin:20221121T231500
SUMMARY:1. Kreisklasse Gruppe B TSV Prisdorf vs TSV Uetersen II (24)
UID:02ac3200-1885-7811-e063-1fc7a80a9a89
STATUS:CONFIRMED
LAST-MODIFIED:20230811T200552Z
DESCRIPTION:1. Kreisklasse Herren Gruppe B\nBegegnungs-Nr: 24\nHeim: TSV Prisdorf\nGast: TSV Uetersen II\n
LOCATION:
CATEGORIES:Saison 2022/23
END:VEVENT
BEGIN:VEVENT
DTSTAMP:20260426T043035Z
DTSTART;TZID=Europe/Berlin:20220916T194500
DTEND;TZID=Europe/Berlin:20220916T224500
SUMMARY:1. Kreisklasse Gruppe B TSV Prisdorf vs SG Kölln-Reisiek III (3)
UID:02ac3200-1901-7811-e063-1fc7a80a9a89
STATUS:CONFIRMED
LAST-MODIFIED:20230811T200552Z
DESCRIPTION:1. Kreisklasse Herren Gruppe B\nBegegnungs-Nr: 3\nHeim: TSV Prisdorf\nGast: SG Kölln-Reisiek III\n
LOCATION:
CATEGORIES:Saison 2022/23
END:VEVENT
BEGIN:VEVENT
DTSTAMP:20260426T043035Z
DTSTART;TZID=Europe/Berlin:20221209T194500
DTEND;TZID=Europe/Berlin:20221209T224500
SUMMARY:1. Kreisklasse Gruppe B TSV Prisdorf vs Moorreger SV VI (30)
UID:02ac3200-1916-7811-e063-1fc7a80a9a89
STATUS:CONFIRMED
LAST-MODIFIED:20230811T200552Z
DESCRIPTION:1. Kreisklasse Herren Gruppe B\nBegegnungs-Nr: 30\nHeim: TSV Prisdorf\nGast: Moorreger SV VI\n
LOCATION:
CATEGORIES:Saison 2022/23
END:VEVENT
BEGIN:VEVENT
DTSTAMP:20260426T043035Z
DTSTART;TZID=Europe/Berlin:20230317T194500
DTEND;TZID=Europe/Berlin:20230317T224500
SUMMARY:1. Kreisklasse Gruppe B TSV Prisdorf vs SV Rugenbergen (10)
UID:02ac3200-1a34-7811-e063-1fc7a80a9a89
STATUS:CONFIRMED
LAST-MODIFIED:20230811T200552Z
DESCRIPTION:1. Kreisklasse Herren Gruppe B\nBegegnungs-Nr: 10\nHeim: TSV Prisdorf\nGast: SV Rugenbergen\n
LOCATION:
CATEGORIES:Saison 2022/23
END:VEVENT
BEGIN:VEVENT
DTSTAMP:20260426T043035Z
DTSTART;TZID=Europe/Berlin:20230421T201500
DTEND;TZID=Europe/Berlin:20230421T231500
SUMMARY:1. Kreisklasse Gruppe B TSV Prisdorf vs Post SV Elmshorn (13)
UID:02ac3200-1a71-7811-e063-1fc7a80a9a89
STATUS:CONFIRMED
LAST-MODIFIED:20230811T200552Z
DESCRIPTION:1. Kreisklasse Herren Gruppe B\nBegegnungs-Nr: 13\nHeim: TSV Prisdorf\nGast: Post SV Elmshorn\n
LOCATION:
CATEGORIES:Saison 2022/23
END:VEVENT
BEGIN:VEVENT
DTSTAMP:20260426T043035Z
DTSTART;TZID=Europe/Berlin:20230310T194500
DTEND;TZID=Europe/Berlin:20230310T224500
SUMMARY:1. Kreisklasse Gruppe B TSV Prisdorf vs TTC Die Sterne Elmshorn III (17)
UID:02ac3200-1ac4-7811-e063-1fc7a80a9a89
STATUS:CONFIRMED
LAST-MODIFIED:20230811T200552Z
DESCRIPTION:1. Kreisklasse Herren Gruppe B\nBegegnungs-Nr: 17\nHeim: TSV Prisdorf\nGast: TTC Die Sterne Elmshorn III\n
LOCATION:
CATEGORIES:Saison 2022/23
END:VEVENT
BEGIN:VEVENT
DTSTAMP:20260426T043035Z
DTSTART;TZID=Europe/Berlin:20230303T194500
DTEND;TZID=Europe/Berlin:20230303T224500
SUMMARY:1. Kreisklasse Gruppe B TSV Prisdorf vs TSV Gut-Heil Heist II (23)
UID:02ac3200-1b4d-7811-e063-1fc7a80a9a89
STATUS:CONFIRMED
LAST-MODIFIED:20230811T200552Z
DESCRIPTION:1. Kreisklasse Herren Gruppe B\nBegegnungs-Nr: 23\nHeim: TSV Prisdorf\nGast: TSV Gut-Heil Heist II\n
LOCATION:
CATEGORIES:Saison 2022/23
END:VEVENT
BEGIN:VEVENT
DTSTAMP:20260426T043035Z
DTSTART;TZID=Europe/Berlin:20230120T194500
DTEND;TZID=Europe/Berlin:20230120T224500
SUMMARY:1. Kreisklasse Gruppe B TSV Prisdorf vs TSV Ellerbek IV (3)
UID:02ac3200-1bdc-7811-e063-1fc7a80a9a89
STATUS:CONFIRMED
LAST-MODIFIED:20230811T200552Z
DESCRIPTION:1. Kreisklasse Herren Gruppe B\nBegegnungs-Nr: 3\nHeim: TSV Prisdorf\nGast: TSV Ellerbek IV\n
LOCATION:
CATEGORIES:Saison 2022/23
END:VEVENT
BEGIN:VEVENT
DTSTAMP:20260426T043035Z
DTSTART;TZID=Europe/Berlin:20221006T201500
DTEND;TZID=Europe/Berlin:20221006T231500
SUMMARY:1. Kreisklasse Gruppe B TSV Ellerbek IV vs TSV Prisdorf (13)
UID:02ac3200-1793-7811-e063-1fc7a80a9a89
STATUS:CONFIRMED
LAST-MODIFIED:20230811T200552Z
DESCRIPTION:1. Kreisklasse Herren Gruppe B\nBegegnungs-Nr: 13\nHeim: TSV Ellerbek IV\nGast: TSV Prisdorf\n
LOCATION:
CATEGORIES:Saison 2022/23
END:VEVENT
BEGIN:VEVENT
DTSTAMP:20260426T043035Z
DTSTART;TZID=Europe/Berlin:20221026T200400
DTEND;TZID=Europe/Berlin:20221026T230400
SUMMARY:1. Kreisklasse Gruppe B TTC Die Sterne Elmshorn III vs TSV Prisdorf (15)
UID:02ac3200-17bc-7811-e063-1fc7a80a9a89
STATUS:CONFIRMED
LAST-MODIFIED:20230811T200552Z
DESCRIPTION:1. Kreisklasse Herren Gruppe B\nBegegnungs-Nr: 15\nHeim: TTC Die Sterne Elmshorn III\nGast: TSV Prisdorf\n
LOCATION:
CATEGORIES:Saison 2022/23
END:VEVENT
BEGIN:VEVENT
DTSTAMP:20260426T043035Z
DTSTART;TZID=Europe/Berlin:20221118T201500
DTEND;TZID=Europe/Berlin:20221118T231500
SUMMARY:1. Kreisklasse Gruppe B TSV Gut-Heil Heist II vs TSV Prisdorf (27)
UID:02ac3200-18c3-7811-e063-1fc7a80a9a89
STATUS:CONFIRMED
LAST-MODIFIED:20230811T200552Z
DESCRIPTION:1. Kreisklasse Herren Gruppe B\nBegegnungs-Nr: 27\nHeim: TSV Gut-Heil Heist II\nGast: TSV Prisdorf\n
LOCATION:
CATEGORIES:Saison 2022/23
END:VEVENT
BEGIN:VEVENT
DTSTAMP:20260426T043035Z
DTSTART;TZID=Europe/Berlin:20220923T201500
DTEND;TZID=Europe/Berlin:20220923T231500
SUMMARY:1. Kreisklasse Gruppe B SV Rugenbergen vs TSV Prisdorf (7)
UID:02ac3200-19e6-7811-e063-1fc7a80a9a89
STATUS:CONFIRMED
LAST-MODIFIED:20230811T200552Z
DESCRIPTION:1. Kreisklasse Herren Gruppe B\nBegegnungs-Nr: 7\nHeim: SV Rugenbergen\nGast: TSV Prisdorf\n
LOCATION:
CATEGORIES:Saison 2022/23
END:VEVENT
BEGIN:VEVENT
DTSTAMP:20260426T043035Z
DTSTART;TZID=Europe/Berlin:20221207T194500
DTEND;TZID=Europe/Berlin:20221207T224500
SUMMARY:1. Kreisklasse Gruppe B Post SV Elmshorn vs TSV Prisdorf (9)
UID:02ac3200-1a0d-7811-e063-1fc7a80a9a89
STATUS:CONFIRMED
LAST-MODIFIED:20230811T200552Z
DESCRIPTION:1. Kreisklasse Herren Gruppe B\nBegegnungs-Nr: 9\nHeim: Post SV Elmshorn\nGast: TSV Prisdorf\n
LOCATION:
CATEGORIES:Saison 2022/23
END:VEVENT
BEGIN:VEVENT
DTSTAMP:20260426T043035Z
DTSTART;TZID=Europe/Berlin:20230223T201500
DTEND;TZID=Europe/Berlin:20230223T231500
SUMMARY:1. Kreisklasse Gruppe B TSV Uetersen II vs TSV Prisdorf (19)
UID:02ac3200-1ae8-7811-e063-1fc7a80a9a89
STATUS:CONFIRMED
LAST-MODIFIED:20230811T200552Z
DESCRIPTION:1. Kreisklasse Herren Gruppe B\nBegegnungs-Nr: 19\nHeim: TSV Uetersen II\nGast: TSV Prisdorf\n
LOCATION:
CATEGORIES:Saison 2022/23
END:VEVENT
BEGIN:VEVENT
DTSTAMP:20260426T043035Z
DTSTART;TZID=Europe/Berlin:20230221T193000
DTEND;TZID=Europe/Berlin:20230221T223000
SUMMARY:1. Kreisklasse Gruppe B Moorreger SV VI vs TSV Prisdorf (24)
UID:02ac3200-1b64-7811-e063-1fc7a80a9a89
STATUS:CONFIRMED
LAST-MODIFIED:20230811T200552Z
DESCRIPTION:1. Kreisklasse Herren Gruppe B\nBegegnungs-Nr: 24\nHeim: Moorreger SV VI\nGast: TSV Prisdorf\n
LOCATION:
CATEGORIES:Saison 2022/23
END:VEVENT
BEGIN:VEVENT
DTSTAMP:20260426T043035Z
DTSTART;TZID=Europe/Berlin:20230125T201500
DTEND;TZID=Europe/Berlin:20230125T231500
SUMMARY:1. Kreisklasse Gruppe B SG Kölln-Reisiek III vs TSV Prisdorf (7)
UID:02ac3200-1cb7-7811-e063-1fc7a80a9a89
STATUS:CONFIRMED
LAST-MODIFIED:20230811T200553Z
DESCRIPTION:1. Kreisklasse Herren Gruppe B\nBegegnungs-Nr: 7\nHeim: SG Kölln-Reisiek III\nGast: TSV Prisdorf\n
LOCATION:
CATEGORIES:Saison 2022/23
END:VEVENT
END:VCALENDAR
