BEGIN:VCALENDAR
PRODID:-//nuDatenautomaten//framework iCal4j //DE
VERSION:2.0
CALSCALE:GREGORIAN
BEGIN:VTIMEZONE
TZID:Europe/Berlin
LAST-MODIFIED:20260306T231828Z
TZURL:https://www.tzurl.org/zoneinfo/Europe/Berlin
X-LIC-LOCATION:Europe/Berlin
X-PROLEPTIC-TZNAME:LMT
BEGIN:STANDARD
TZNAME:CET
TZOFFSETFROM:+005328
TZOFFSETTO:+0100
DTSTART:18930401T000000
END:STANDARD
BEGIN:DAYLIGHT
TZNAME:CEST
TZOFFSETFROM:+0100
TZOFFSETTO:+0200
DTSTART:19160430T230000
RDATE:19400401T020000
RDATE:19430329T020000
RDATE:19460414T020000
RDATE:19470406T030000
RDATE:19480418T020000
RDATE:19490410T020000
RDATE:19800406T020000
END:DAYLIGHT
BEGIN:STANDARD
TZNAME:CET
TZOFFSETFROM:+0200
TZOFFSETTO:+0100
DTSTART:19161001T010000
RDATE:19421102T030000
RDATE:19431004T030000
RDATE:19441002T030000
RDATE:19451118T030000
RDATE:19461007T030000
END:STANDARD
BEGIN:DAYLIGHT
TZNAME:CEST
TZOFFSETFROM:+0100
TZOFFSETTO:+0200
DTSTART:19170416T020000
RRULE:FREQ=YEARLY;UNTIL=19180415T010000Z;BYMONTH=4;BYDAY=3MO
END:DAYLIGHT
BEGIN:STANDARD
TZNAME:CET
TZOFFSETFROM:+0200
TZOFFSETTO:+0100
DTSTART:19170917T030000
RRULE:FREQ=YEARLY;UNTIL=19180916T010000Z;BYMONTH=9;BYDAY=3MO
END:STANDARD
BEGIN:DAYLIGHT
TZNAME:CEST
TZOFFSETFROM:+0100
TZOFFSETTO:+0200
DTSTART:19440403T020000
RRULE:FREQ=YEARLY;UNTIL=19450402T010000Z;BYMONTH=4;BYDAY=1MO
END:DAYLIGHT
BEGIN:DAYLIGHT
TZNAME:CEMT
TZOFFSETFROM:+0200
TZOFFSETTO:+0300
DTSTART:19450524T020000
RDATE:19470511T030000
END:DAYLIGHT
BEGIN:DAYLIGHT
TZNAME:CEST
TZOFFSETFROM:+0300
TZOFFSETTO:+0200
DTSTART:19450924T030000
RDATE:19470629T030000
END:DAYLIGHT
BEGIN:STANDARD
TZNAME:CET
TZOFFSETFROM:+0100
TZOFFSETTO:+0100
DTSTART:19460101T000000
RDATE:19800101T000000
END:STANDARD
BEGIN:STANDARD
TZNAME:CET
TZOFFSETFROM:+0200
TZOFFSETTO:+0100
DTSTART:19471005T030000
RRULE:FREQ=YEARLY;UNTIL=19491002T010000Z;BYMONTH=10;BYDAY=1SU
END:STANDARD
BEGIN:STANDARD
TZNAME:CET
TZOFFSETFROM:+0200
TZOFFSETTO:+0100
DTSTART:19800928T030000
RRULE:FREQ=YEARLY;UNTIL=19950924T010000Z;BYMONTH=9;BYDAY=-1SU
END:STANDARD
BEGIN:DAYLIGHT
TZNAME:CEST
TZOFFSETFROM:+0100
TZOFFSETTO:+0200
DTSTART:19810329T020000
RRULE:FREQ=YEARLY;BYMONTH=3;BYDAY=-1SU
END:DAYLIGHT
BEGIN:STANDARD
TZNAME:CET
TZOFFSETFROM:+0200
TZOFFSETTO:+0100
DTSTART:19961027T030000
RRULE:FREQ=YEARLY;BYMONTH=10;BYDAY=-1SU
END:STANDARD
END:VTIMEZONE
BEGIN:VEVENT
DTSTAMP:20260424T213343Z
DTSTART;TZID=Europe/Berlin:20221006T200000
DTEND;TZID=Europe/Berlin:20221006T230000
SUMMARY:5. Kreisklasse TTSG Schwabstedt/Oldersbek IV vs SZ Arlewatt V (12)
UID:02ac31ff-df5c-7811-e063-1fc7a80a9a89
STATUS:CONFIRMED
LAST-MODIFIED:20230811T200546Z
DESCRIPTION:5. Kreisklasse Herren\nBegegnungs-Nr: 12\nHeim: TTSG Schwabstedt/Oldersbek IV\nGast: SZ Arlewatt V\n
LOCATION:
CATEGORIES:Saison 2022/23
END:VEVENT
BEGIN:VEVENT
DTSTAMP:20260424T213343Z
DTSTART;TZID=Europe/Berlin:20221103T200000
DTEND;TZID=Europe/Berlin:20221103T230000
SUMMARY:5. Kreisklasse TTSG Schwabstedt/Oldersbek IV vs Husumer SV VI (19)
UID:02ac31ff-dfea-7811-e063-1fc7a80a9a89
STATUS:CONFIRMED
LAST-MODIFIED:20230811T200546Z
DESCRIPTION:5. Kreisklasse Herren\nBegegnungs-Nr: 19\nHeim: TTSG Schwabstedt/Oldersbek IV\nGast: Husumer SV VI\n
LOCATION:
CATEGORIES:Saison 2022/23
END:VEVENT
BEGIN:VEVENT
DTSTAMP:20260424T213343Z
DTSTART;TZID=Europe/Berlin:20220915T200000
DTEND;TZID=Europe/Berlin:20220915T230000
SUMMARY:5. Kreisklasse TTSG Schwabstedt/Oldersbek IV vs SZ Arlewatt VI (3)
UID:02ac31ff-e0d3-7811-e063-1fc7a80a9a89
STATUS:CONFIRMED
LAST-MODIFIED:20230811T200546Z
DESCRIPTION:5. Kreisklasse Herren\nBegegnungs-Nr: 3\nHeim: TTSG Schwabstedt/Oldersbek IV\nGast: SZ Arlewatt VI\n
LOCATION:
CATEGORIES:Saison 2022/23
END:VEVENT
BEGIN:VEVENT
DTSTAMP:20260424T213343Z
DTSTART;TZID=Europe/Berlin:20220929T200000
DTEND;TZID=Europe/Berlin:20220929T230000
SUMMARY:5. Kreisklasse TTSG Schwabstedt/Oldersbek IV vs Breklumer SV Germania VII (9)
UID:02ac31ff-e13d-7811-e063-1fc7a80a9a89
STATUS:CONFIRMED
LAST-MODIFIED:20230811T200546Z
DESCRIPTION:5. Kreisklasse Herren\nBegegnungs-Nr: 9\nHeim: TTSG Schwabstedt/Oldersbek IV\nGast: Breklumer SV Germania VII\n
LOCATION:
CATEGORIES:Saison 2022/23
END:VEVENT
BEGIN:VEVENT
DTSTAMP:20260424T213343Z
DTSTART;TZID=Europe/Berlin:20230216T200000
DTEND;TZID=Europe/Berlin:20230216T230000
SUMMARY:5. Kreisklasse TTSG Schwabstedt/Oldersbek IV vs Breklumer SV Germania VI (17)
UID:02ac31ff-e1fc-7811-e063-1fc7a80a9a89
STATUS:CONFIRMED
LAST-MODIFIED:20230811T200546Z
DESCRIPTION:5. Kreisklasse Herren\nBegegnungs-Nr: 17\nHeim: TTSG Schwabstedt/Oldersbek IV\nGast: Breklumer SV Germania VI\n
LOCATION:
CATEGORIES:Saison 2022/23
END:VEVENT
BEGIN:VEVENT
DTSTAMP:20260424T213343Z
DTSTART;TZID=Europe/Berlin:20230302T200000
DTEND;TZID=Europe/Berlin:20230302T230000
SUMMARY:5. Kreisklasse TTSG Schwabstedt/Oldersbek IV vs TTV Koldenbüttel VI (25)
UID:02ac31ff-e2b2-7811-e063-1fc7a80a9a89
STATUS:CONFIRMED
LAST-MODIFIED:20230811T200546Z
DESCRIPTION:5. Kreisklasse Herren\nBegegnungs-Nr: 25\nHeim: TTSG Schwabstedt/Oldersbek IV\nGast: TTV Koldenbüttel VI\n
LOCATION:
CATEGORIES:Saison 2022/23
END:VEVENT
BEGIN:VEVENT
DTSTAMP:20260424T213343Z
DTSTART;TZID=Europe/Berlin:20221111T193000
DTEND;TZID=Europe/Berlin:20221111T223000
SUMMARY:5. Kreisklasse TTV Koldenbüttel VI vs TTSG Schwabstedt/Oldersbek IV (23)
UID:02ac31ff-e054-7811-e063-1fc7a80a9a89
STATUS:CONFIRMED
LAST-MODIFIED:20230811T200546Z
DESCRIPTION:5. Kreisklasse Herren\nBegegnungs-Nr: 23\nHeim: TTV Koldenbüttel VI\nGast: TTSG Schwabstedt/Oldersbek IV\n
LOCATION:
CATEGORIES:Saison 2022/23
END:VEVENT
BEGIN:VEVENT
DTSTAMP:20260424T213343Z
DTSTART;TZID=Europe/Berlin:20221128T201500
DTEND;TZID=Europe/Berlin:20221128T231500
SUMMARY:5. Kreisklasse Breklumer SV Germania VI vs TTSG Schwabstedt/Oldersbek IV (27)
UID:02ac31ff-e0ac-7811-e063-1fc7a80a9a89
STATUS:CONFIRMED
LAST-MODIFIED:20230811T200546Z
DESCRIPTION:5. Kreisklasse Herren\nBegegnungs-Nr: 27\nHeim: Breklumer SV Germania VI\nGast: TTSG Schwabstedt/Oldersbek IV\n
LOCATION:
CATEGORIES:Saison 2022/23
END:VEVENT
BEGIN:VEVENT
DTSTAMP:20260424T213343Z
DTSTART;TZID=Europe/Berlin:20230203T201500
DTEND;TZID=Europe/Berlin:20230203T231500
SUMMARY:5. Kreisklasse Breklumer SV Germania VII vs TTSG Schwabstedt/Oldersbek IV (12)
UID:02ac31ff-e194-7811-e063-1fc7a80a9a89
STATUS:CONFIRMED
LAST-MODIFIED:20230811T200546Z
DESCRIPTION:5. Kreisklasse Herren\nBegegnungs-Nr: 12\nHeim: Breklumer SV Germania VII\nGast: TTSG Schwabstedt/Oldersbek IV\n
LOCATION:
CATEGORIES:Saison 2022/23
END:VEVENT
BEGIN:VEVENT
DTSTAMP:20260424T213343Z
DTSTART;TZID=Europe/Berlin:20230208T200000
DTEND;TZID=Europe/Berlin:20230208T230000
SUMMARY:5. Kreisklasse SZ Arlewatt V vs TTSG Schwabstedt/Oldersbek IV (14)
UID:02ac31ff-e1bc-7811-e063-1fc7a80a9a89
STATUS:CONFIRMED
LAST-MODIFIED:20230811T200546Z
DESCRIPTION:5. Kreisklasse Herren\nBegegnungs-Nr: 14\nHeim: SZ Arlewatt V\nGast: TTSG Schwabstedt/Oldersbek IV\n
LOCATION:
CATEGORIES:Saison 2022/23
END:VEVENT
BEGIN:VEVENT
DTSTAMP:20260424T213343Z
DTSTART;TZID=Europe/Berlin:20230222T193000
DTEND;TZID=Europe/Berlin:20230222T223000
SUMMARY:5. Kreisklasse Husumer SV VI vs TTSG Schwabstedt/Oldersbek IV (20)
UID:02ac31ff-e24a-7811-e063-1fc7a80a9a89
STATUS:CONFIRMED
LAST-MODIFIED:20230811T200546Z
DESCRIPTION:5. Kreisklasse Herren\nBegegnungs-Nr: 20\nHeim: Husumer SV VI\nGast: TTSG Schwabstedt/Oldersbek IV\n
LOCATION:
CATEGORIES:Saison 2022/23
END:VEVENT
BEGIN:VEVENT
DTSTAMP:20260424T213343Z
DTSTART;TZID=Europe/Berlin:20230118T200000
DTEND;TZID=Europe/Berlin:20230118T230000
SUMMARY:5. Kreisklasse SZ Arlewatt VI vs TTSG Schwabstedt/Oldersbek IV (4)
UID:02ac31ff-e306-7811-e063-1fc7a80a9a89
STATUS:CONFIRMED
LAST-MODIFIED:20230811T200546Z
DESCRIPTION:5. Kreisklasse Herren\nBegegnungs-Nr: 4\nHeim: SZ Arlewatt VI\nGast: TTSG Schwabstedt/Oldersbek IV\n
LOCATION:
CATEGORIES:Saison 2022/23
END:VEVENT
BEGIN:VEVENT
DTSTAMP:20260424T213343Z
DTSTART;TZID=Europe/Berlin:20230127T203000
DTEND;TZID=Europe/Berlin:20230127T233000
SUMMARY:5. Kreisklasse MTV Leck II vs TTSG Schwabstedt/Oldersbek IV (9)
UID:02ac31ff-e373-7811-e063-1fc7a80a9a89
STATUS:CONFIRMED
LAST-MODIFIED:20230811T200546Z
DESCRIPTION:5. Kreisklasse Herren\nBegegnungs-Nr: 9\nHeim: MTV Leck II\nGast: TTSG Schwabstedt/Oldersbek IV\n
LOCATION:
CATEGORIES:Saison 2022/23
END:VEVENT
END:VCALENDAR
