BEGIN:VCALENDAR
PRODID:-//nuDatenautomaten//framework iCal4j //DE
VERSION:2.0
CALSCALE:GREGORIAN
BEGIN:VTIMEZONE
TZID:Europe/Berlin
LAST-MODIFIED:20260306T231828Z
TZURL:https://www.tzurl.org/zoneinfo/Europe/Berlin
X-LIC-LOCATION:Europe/Berlin
X-PROLEPTIC-TZNAME:LMT
BEGIN:STANDARD
TZNAME:CET
TZOFFSETFROM:+005328
TZOFFSETTO:+0100
DTSTART:18930401T000000
END:STANDARD
BEGIN:DAYLIGHT
TZNAME:CEST
TZOFFSETFROM:+0100
TZOFFSETTO:+0200
DTSTART:19160430T230000
RDATE:19400401T020000
RDATE:19430329T020000
RDATE:19460414T020000
RDATE:19470406T030000
RDATE:19480418T020000
RDATE:19490410T020000
RDATE:19800406T020000
END:DAYLIGHT
BEGIN:STANDARD
TZNAME:CET
TZOFFSETFROM:+0200
TZOFFSETTO:+0100
DTSTART:19161001T010000
RDATE:19421102T030000
RDATE:19431004T030000
RDATE:19441002T030000
RDATE:19451118T030000
RDATE:19461007T030000
END:STANDARD
BEGIN:DAYLIGHT
TZNAME:CEST
TZOFFSETFROM:+0100
TZOFFSETTO:+0200
DTSTART:19170416T020000
RRULE:FREQ=YEARLY;UNTIL=19180415T010000Z;BYMONTH=4;BYDAY=3MO
END:DAYLIGHT
BEGIN:STANDARD
TZNAME:CET
TZOFFSETFROM:+0200
TZOFFSETTO:+0100
DTSTART:19170917T030000
RRULE:FREQ=YEARLY;UNTIL=19180916T010000Z;BYMONTH=9;BYDAY=3MO
END:STANDARD
BEGIN:DAYLIGHT
TZNAME:CEST
TZOFFSETFROM:+0100
TZOFFSETTO:+0200
DTSTART:19440403T020000
RRULE:FREQ=YEARLY;UNTIL=19450402T010000Z;BYMONTH=4;BYDAY=1MO
END:DAYLIGHT
BEGIN:DAYLIGHT
TZNAME:CEMT
TZOFFSETFROM:+0200
TZOFFSETTO:+0300
DTSTART:19450524T020000
RDATE:19470511T030000
END:DAYLIGHT
BEGIN:DAYLIGHT
TZNAME:CEST
TZOFFSETFROM:+0300
TZOFFSETTO:+0200
DTSTART:19450924T030000
RDATE:19470629T030000
END:DAYLIGHT
BEGIN:STANDARD
TZNAME:CET
TZOFFSETFROM:+0100
TZOFFSETTO:+0100
DTSTART:19460101T000000
RDATE:19800101T000000
END:STANDARD
BEGIN:STANDARD
TZNAME:CET
TZOFFSETFROM:+0200
TZOFFSETTO:+0100
DTSTART:19471005T030000
RRULE:FREQ=YEARLY;UNTIL=19491002T010000Z;BYMONTH=10;BYDAY=1SU
END:STANDARD
BEGIN:STANDARD
TZNAME:CET
TZOFFSETFROM:+0200
TZOFFSETTO:+0100
DTSTART:19800928T030000
RRULE:FREQ=YEARLY;UNTIL=19950924T010000Z;BYMONTH=9;BYDAY=-1SU
END:STANDARD
BEGIN:DAYLIGHT
TZNAME:CEST
TZOFFSETFROM:+0100
TZOFFSETTO:+0200
DTSTART:19810329T020000
RRULE:FREQ=YEARLY;BYMONTH=3;BYDAY=-1SU
END:DAYLIGHT
BEGIN:STANDARD
TZNAME:CET
TZOFFSETFROM:+0200
TZOFFSETTO:+0100
DTSTART:19961027T030000
RRULE:FREQ=YEARLY;BYMONTH=10;BYDAY=-1SU
END:STANDARD
END:VTIMEZONE
BEGIN:VEVENT
DTSTAMP:20260423T210643Z
DTSTART;TZID=Europe/Berlin:20230313T200000
DTEND;TZID=Europe/Berlin:20230313T230000
SUMMARY:4. Kreisklasse TSV Glückauf Linden II vs TSV Schwarz-Rot Schülp V (224)
UID:02ac31fe-8dee-7811-e063-1fc7a80a9a89
STATUS:CONFIRMED
LAST-MODIFIED:20230811T200510Z
DESCRIPTION:4. Kreisklasse Herren\nBegegnungs-Nr: 224\nHeim: TSV Glückauf Linden II\nGast: TSV Schwarz-Rot Schülp V\n
LOCATION:
CATEGORIES:Saison 2022/23
END:VEVENT
BEGIN:VEVENT
DTSTAMP:20260423T210643Z
DTSTART;TZID=Europe/Berlin:20220912T193000
DTEND;TZID=Europe/Berlin:20220912T223000
SUMMARY:4. Kreisklasse TSV Glückauf Linden II vs MTV Heide VI (103)
UID:02ac31fe-8a31-7811-e063-1fc7a80a9a89
STATUS:CONFIRMED
LAST-MODIFIED:20230811T200509Z
DESCRIPTION:4. Kreisklasse Herren\nBegegnungs-Nr: 103\nHeim: TSV Glückauf Linden II\nGast: MTV Heide VI\n
LOCATION:
CATEGORIES:Saison 2022/23
END:VEVENT
BEGIN:VEVENT
DTSTAMP:20260423T210643Z
DTSTART;TZID=Europe/Berlin:20220919T193000
DTEND;TZID=Europe/Berlin:20220919T223000
SUMMARY:4. Kreisklasse TSV Glückauf Linden II vs TSV Schwarz-Rot Schülp V (106)
UID:02ac31fe-8a6b-7811-e063-1fc7a80a9a89
STATUS:CONFIRMED
LAST-MODIFIED:20230811T200509Z
DESCRIPTION:4. Kreisklasse Herren\nBegegnungs-Nr: 106\nHeim: TSV Glückauf Linden II\nGast: TSV Schwarz-Rot Schülp V\n
LOCATION:
CATEGORIES:Saison 2022/23
END:VEVENT
BEGIN:VEVENT
DTSTAMP:20260423T210643Z
DTSTART;TZID=Europe/Berlin:20221121T193000
DTEND;TZID=Europe/Berlin:20221121T223000
SUMMARY:4. Kreisklasse TSV Glückauf Linden II vs TSV Erfde  (121)
UID:02ac31fe-8b89-7811-e063-1fc7a80a9a89
STATUS:CONFIRMED
LAST-MODIFIED:20230811T200509Z
DESCRIPTION:4. Kreisklasse Herren\nBegegnungs-Nr: 121\nHeim: TSV Glückauf Linden II\nGast: TSV Erfde \n
LOCATION:
CATEGORIES:Saison 2022/23
END:VEVENT
BEGIN:VEVENT
DTSTAMP:20260423T210643Z
DTSTART;TZID=Europe/Berlin:20221205T193000
DTEND;TZID=Europe/Berlin:20221205T223000
SUMMARY:4. Kreisklasse TSV Glückauf Linden II vs MTV Burg II (127)
UID:02ac31fe-8be4-7811-e063-1fc7a80a9a89
STATUS:CONFIRMED
LAST-MODIFIED:20230811T200509Z
DESCRIPTION:4. Kreisklasse Herren\nBegegnungs-Nr: 127\nHeim: TSV Glückauf Linden II\nGast: MTV Burg II\n
LOCATION:
CATEGORIES:Saison 2022/23
END:VEVENT
BEGIN:VEVENT
DTSTAMP:20260423T210643Z
DTSTART;TZID=Europe/Berlin:20221212T193000
DTEND;TZID=Europe/Berlin:20221212T223000
SUMMARY:4. Kreisklasse TSV Glückauf Linden II vs TSV Eddelak III (129)
UID:02ac31fe-8c09-7811-e063-1fc7a80a9a89
STATUS:CONFIRMED
LAST-MODIFIED:20230811T200509Z
DESCRIPTION:4. Kreisklasse Herren\nBegegnungs-Nr: 129\nHeim: TSV Glückauf Linden II\nGast: TSV Eddelak III\n
LOCATION:
CATEGORIES:Saison 2022/23
END:VEVENT
BEGIN:VEVENT
DTSTAMP:20260423T210643Z
DTSTART;TZID=Europe/Berlin:20230130T200000
DTEND;TZID=Europe/Berlin:20230130T230000
SUMMARY:4. Kreisklasse TSV Glückauf Linden II vs MTV St. Michaelisdonn II (207)
UID:02ac31fe-8cad-7811-e063-1fc7a80a9a89
STATUS:CONFIRMED
LAST-MODIFIED:20230811T200509Z
DESCRIPTION:4. Kreisklasse Herren\nBegegnungs-Nr: 207\nHeim: TSV Glückauf Linden II\nGast: MTV St. Michaelisdonn II\n
LOCATION:
CATEGORIES:Saison 2022/23
END:VEVENT
BEGIN:VEVENT
DTSTAMP:20260423T210643Z
DTSTART;TZID=Europe/Berlin:20230206T200000
DTEND;TZID=Europe/Berlin:20230206T230000
SUMMARY:4. Kreisklasse TSV Glückauf Linden II vs TSV Erfde  (210)
UID:02ac31fe-8ce6-7811-e063-1fc7a80a9a89
STATUS:CONFIRMED
LAST-MODIFIED:20230811T200509Z
DESCRIPTION:4. Kreisklasse Herren\nBegegnungs-Nr: 210\nHeim: TSV Glückauf Linden II\nGast: TSV Erfde \n
LOCATION:
CATEGORIES:Saison 2022/23
END:VEVENT
BEGIN:VEVENT
DTSTAMP:20260423T210643Z
DTSTART;TZID=Europe/Berlin:20230213T200000
DTEND;TZID=Europe/Berlin:20230213T230000
SUMMARY:4. Kreisklasse TSV Glückauf Linden II vs MTV Heide VI (213)
UID:02ac31fe-8d20-7811-e063-1fc7a80a9a89
STATUS:CONFIRMED
LAST-MODIFIED:20230811T200509Z
DESCRIPTION:4. Kreisklasse Herren\nBegegnungs-Nr: 213\nHeim: TSV Glückauf Linden II\nGast: MTV Heide VI\n
LOCATION:
CATEGORIES:Saison 2022/23
END:VEVENT
BEGIN:VEVENT
DTSTAMP:20260423T210643Z
DTSTART;TZID=Europe/Berlin:20230222T193000
DTEND;TZID=Europe/Berlin:20230222T223000
SUMMARY:4. Kreisklasse MTV St. Michaelisdonn II vs TSV Glückauf Linden II (216)
UID:02ac31fe-8d56-7811-e063-1fc7a80a9a89
STATUS:CONFIRMED
LAST-MODIFIED:20230811T200509Z
DESCRIPTION:4. Kreisklasse Herren\nBegegnungs-Nr: 216\nHeim: MTV St. Michaelisdonn II\nGast: TSV Glückauf Linden II\n
LOCATION:
CATEGORIES:Saison 2022/23
END:VEVENT
BEGIN:VEVENT
DTSTAMP:20260423T210643Z
DTSTART;TZID=Europe/Berlin:20230309T200000
DTEND;TZID=Europe/Berlin:20230309T230000
SUMMARY:4. Kreisklasse TSV Erfde  vs TSV Glückauf Linden II (222)
UID:02ac31fe-8dc9-7811-e063-1fc7a80a9a89
STATUS:CONFIRMED
LAST-MODIFIED:20230811T200510Z
DESCRIPTION:4. Kreisklasse Herren\nBegegnungs-Nr: 222\nHeim: TSV Erfde \nGast: TSV Glückauf Linden II\n
LOCATION:
CATEGORIES:Saison 2022/23
END:VEVENT
BEGIN:VEVENT
DTSTAMP:20260423T210643Z
DTSTART;TZID=Europe/Berlin:20230320T200000
DTEND;TZID=Europe/Berlin:20230320T230000
SUMMARY:4. Kreisklasse MTV Burg II vs TSV Glückauf Linden II (227)
UID:02ac31fe-8e28-7811-e063-1fc7a80a9a89
STATUS:CONFIRMED
LAST-MODIFIED:20230811T200510Z
DESCRIPTION:4. Kreisklasse Herren\nBegegnungs-Nr: 227\nHeim: MTV Burg II\nGast: TSV Glückauf Linden II\n
LOCATION:
CATEGORIES:Saison 2022/23
END:VEVENT
BEGIN:VEVENT
DTSTAMP:20260423T210643Z
DTSTART;TZID=Europe/Berlin:20230327T201500
DTEND;TZID=Europe/Berlin:20230327T231500
SUMMARY:4. Kreisklasse TSV Eddelak III vs TSV Glückauf Linden II (231)
UID:02ac31fe-8e76-7811-e063-1fc7a80a9a89
STATUS:CONFIRMED
LAST-MODIFIED:20230811T200510Z
DESCRIPTION:4. Kreisklasse Herren\nBegegnungs-Nr: 231\nHeim: TSV Eddelak III\nGast: TSV Glückauf Linden II\n
LOCATION:
CATEGORIES:Saison 2022/23
END:VEVENT
BEGIN:VEVENT
DTSTAMP:20260423T210643Z
DTSTART;TZID=Europe/Berlin:20220926T200000
DTEND;TZID=Europe/Berlin:20220926T230000
SUMMARY:4. Kreisklasse MTV Burg II vs TSV Glückauf Linden II (108)
UID:02ac31fe-8a93-7811-e063-1fc7a80a9a89
STATUS:CONFIRMED
LAST-MODIFIED:20230811T200509Z
DESCRIPTION:4. Kreisklasse Herren\nBegegnungs-Nr: 108\nHeim: MTV Burg II\nGast: TSV Glückauf Linden II\n
LOCATION:
CATEGORIES:Saison 2022/23
END:VEVENT
BEGIN:VEVENT
DTSTAMP:20260423T210643Z
DTSTART;TZID=Europe/Berlin:20221110T201500
DTEND;TZID=Europe/Berlin:20221110T231500
SUMMARY:4. Kreisklasse TSV Eddelak III vs TSV Glückauf Linden II (117)
UID:02ac31fe-8b42-7811-e063-1fc7a80a9a89
STATUS:CONFIRMED
LAST-MODIFIED:20230811T200509Z
DESCRIPTION:4. Kreisklasse Herren\nBegegnungs-Nr: 117\nHeim: TSV Eddelak III\nGast: TSV Glückauf Linden II\n
LOCATION:
CATEGORIES:Saison 2022/23
END:VEVENT
BEGIN:VEVENT
DTSTAMP:20260423T210643Z
DTSTART;TZID=Europe/Berlin:20221116T193000
DTEND;TZID=Europe/Berlin:20221116T223000
SUMMARY:4. Kreisklasse MTV St. Michaelisdonn II vs TSV Glückauf Linden II (118)
UID:02ac31fe-8b53-7811-e063-1fc7a80a9a89
STATUS:CONFIRMED
LAST-MODIFIED:20230811T200509Z
DESCRIPTION:4. Kreisklasse Herren\nBegegnungs-Nr: 118\nHeim: MTV St. Michaelisdonn II\nGast: TSV Glückauf Linden II\n
LOCATION:
CATEGORIES:Saison 2022/23
END:VEVENT
BEGIN:VEVENT
DTSTAMP:20260423T210643Z
DTSTART;TZID=Europe/Berlin:20221202T200000
DTEND;TZID=Europe/Berlin:20221202T230000
SUMMARY:4. Kreisklasse TSV Schwarz-Rot Schülp V vs TSV Glückauf Linden II (126)
UID:02ac31fe-8bd4-7811-e063-1fc7a80a9a89
STATUS:CONFIRMED
LAST-MODIFIED:20230811T200509Z
DESCRIPTION:4. Kreisklasse Herren\nBegegnungs-Nr: 126\nHeim: TSV Schwarz-Rot Schülp V\nGast: TSV Glückauf Linden II\n
LOCATION:
CATEGORIES:Saison 2022/23
END:VEVENT
BEGIN:VEVENT
DTSTAMP:20260423T210643Z
DTSTART;TZID=Europe/Berlin:20230301T193000
DTEND;TZID=Europe/Berlin:20230301T223000
SUMMARY:4. Kreisklasse MTV Heide VI vs TSV Glückauf Linden II (204)
UID:02ac31fe-8c79-7811-e063-1fc7a80a9a89
STATUS:CONFIRMED
LAST-MODIFIED:20230811T200509Z
DESCRIPTION:4. Kreisklasse Herren\nBegegnungs-Nr: 204\nHeim: MTV Heide VI\nGast: TSV Glückauf Linden II\n
LOCATION:
CATEGORIES:Saison 2022/23
END:VEVENT
END:VCALENDAR
