BEGIN:VCALENDAR
PRODID:-//nuDatenautomaten//framework iCal4j //DE
VERSION:2.0
CALSCALE:GREGORIAN
BEGIN:VTIMEZONE
TZID:Europe/Berlin
LAST-MODIFIED:20260306T231828Z
TZURL:https://www.tzurl.org/zoneinfo/Europe/Berlin
X-LIC-LOCATION:Europe/Berlin
X-PROLEPTIC-TZNAME:LMT
BEGIN:STANDARD
TZNAME:CET
TZOFFSETFROM:+005328
TZOFFSETTO:+0100
DTSTART:18930401T000000
END:STANDARD
BEGIN:DAYLIGHT
TZNAME:CEST
TZOFFSETFROM:+0100
TZOFFSETTO:+0200
DTSTART:19160430T230000
RDATE:19400401T020000
RDATE:19430329T020000
RDATE:19460414T020000
RDATE:19470406T030000
RDATE:19480418T020000
RDATE:19490410T020000
RDATE:19800406T020000
END:DAYLIGHT
BEGIN:STANDARD
TZNAME:CET
TZOFFSETFROM:+0200
TZOFFSETTO:+0100
DTSTART:19161001T010000
RDATE:19421102T030000
RDATE:19431004T030000
RDATE:19441002T030000
RDATE:19451118T030000
RDATE:19461007T030000
END:STANDARD
BEGIN:DAYLIGHT
TZNAME:CEST
TZOFFSETFROM:+0100
TZOFFSETTO:+0200
DTSTART:19170416T020000
RRULE:FREQ=YEARLY;UNTIL=19180415T010000Z;BYMONTH=4;BYDAY=3MO
END:DAYLIGHT
BEGIN:STANDARD
TZNAME:CET
TZOFFSETFROM:+0200
TZOFFSETTO:+0100
DTSTART:19170917T030000
RRULE:FREQ=YEARLY;UNTIL=19180916T010000Z;BYMONTH=9;BYDAY=3MO
END:STANDARD
BEGIN:DAYLIGHT
TZNAME:CEST
TZOFFSETFROM:+0100
TZOFFSETTO:+0200
DTSTART:19440403T020000
RRULE:FREQ=YEARLY;UNTIL=19450402T010000Z;BYMONTH=4;BYDAY=1MO
END:DAYLIGHT
BEGIN:DAYLIGHT
TZNAME:CEMT
TZOFFSETFROM:+0200
TZOFFSETTO:+0300
DTSTART:19450524T020000
RDATE:19470511T030000
END:DAYLIGHT
BEGIN:DAYLIGHT
TZNAME:CEST
TZOFFSETFROM:+0300
TZOFFSETTO:+0200
DTSTART:19450924T030000
RDATE:19470629T030000
END:DAYLIGHT
BEGIN:STANDARD
TZNAME:CET
TZOFFSETFROM:+0100
TZOFFSETTO:+0100
DTSTART:19460101T000000
RDATE:19800101T000000
END:STANDARD
BEGIN:STANDARD
TZNAME:CET
TZOFFSETFROM:+0200
TZOFFSETTO:+0100
DTSTART:19471005T030000
RRULE:FREQ=YEARLY;UNTIL=19491002T010000Z;BYMONTH=10;BYDAY=1SU
END:STANDARD
BEGIN:STANDARD
TZNAME:CET
TZOFFSETFROM:+0200
TZOFFSETTO:+0100
DTSTART:19800928T030000
RRULE:FREQ=YEARLY;UNTIL=19950924T010000Z;BYMONTH=9;BYDAY=-1SU
END:STANDARD
BEGIN:DAYLIGHT
TZNAME:CEST
TZOFFSETFROM:+0100
TZOFFSETTO:+0200
DTSTART:19810329T020000
RRULE:FREQ=YEARLY;BYMONTH=3;BYDAY=-1SU
END:DAYLIGHT
BEGIN:STANDARD
TZNAME:CET
TZOFFSETFROM:+0200
TZOFFSETTO:+0100
DTSTART:19961027T030000
RRULE:FREQ=YEARLY;BYMONTH=10;BYDAY=-1SU
END:STANDARD
END:VTIMEZONE
BEGIN:VEVENT
DTSTAMP:20260419T224852Z
DTSTART;TZID=Europe/Berlin:20221129T200000
DTEND;TZID=Europe/Berlin:20221129T230000
SUMMARY:3. Kreisklasse TSV Brunsbüttel VI vs SV Hemmingstedt  (730)
UID:02ac31fe-86d9-7811-e063-1fc7a80a9a89
STATUS:CONFIRMED
LAST-MODIFIED:20230811T200509Z
DESCRIPTION:3. Kreisklasse Herren\nBegegnungs-Nr: 730\nHeim: TSV Brunsbüttel VI\nGast: SV Hemmingstedt \n
LOCATION:
CATEGORIES:Saison 2022/23
END:VEVENT
BEGIN:VEVENT
DTSTAMP:20260419T224852Z
DTSTART;TZID=Europe/Berlin:20230117T200000
DTEND;TZID=Europe/Berlin:20230117T230000
SUMMARY:3. Kreisklasse TSV Brunsbüttel VI vs TTSG Welm-Wrohm-Dell III (802)
UID:02ac31fe-876e-7811-e063-1fc7a80a9a89
STATUS:CONFIRMED
LAST-MODIFIED:20230811T200509Z
DESCRIPTION:3. Kreisklasse Herren\nBegegnungs-Nr: 802\nHeim: TSV Brunsbüttel VI\nGast: TTSG Welm-Wrohm-Dell III\n
LOCATION:
CATEGORIES:Saison 2022/23
END:VEVENT
BEGIN:VEVENT
DTSTAMP:20260419T224852Z
DTSTART;TZID=Europe/Berlin:20230131T200000
DTEND;TZID=Europe/Berlin:20230131T230000
SUMMARY:3. Kreisklasse TSV Brunsbüttel VI vs SSV Lunden III (810)
UID:02ac31fe-8808-7811-e063-1fc7a80a9a89
STATUS:CONFIRMED
LAST-MODIFIED:20230811T200509Z
DESCRIPTION:3. Kreisklasse Herren\nBegegnungs-Nr: 810\nHeim: TSV Brunsbüttel VI\nGast: SSV Lunden III\n
LOCATION:
CATEGORIES:Saison 2022/23
END:VEVENT
BEGIN:VEVENT
DTSTAMP:20260419T224852Z
DTSTART;TZID=Europe/Berlin:20230221T200000
DTEND;TZID=Europe/Berlin:20230221T230000
SUMMARY:3. Kreisklasse TSV Brunsbüttel VI vs TSV Schwarz-Rot Schülp IV (820)
UID:02ac31fe-88c1-7811-e063-1fc7a80a9a89
STATUS:CONFIRMED
LAST-MODIFIED:20230811T200509Z
DESCRIPTION:3. Kreisklasse Herren\nBegegnungs-Nr: 820\nHeim: TSV Brunsbüttel VI\nGast: TSV Schwarz-Rot Schülp IV\n
LOCATION:
CATEGORIES:Saison 2022/23
END:VEVENT
BEGIN:VEVENT
DTSTAMP:20260419T224852Z
DTSTART;TZID=Europe/Berlin:20230228T193000
DTEND;TZID=Europe/Berlin:20230228T223000
SUMMARY:3. Kreisklasse TSV Brunsbüttel VI vs MTV Heide V (822)
UID:02ac31fe-88e8-7811-e063-1fc7a80a9a89
STATUS:CONFIRMED
LAST-MODIFIED:20230811T200509Z
DESCRIPTION:3. Kreisklasse Herren\nBegegnungs-Nr: 822\nHeim: TSV Brunsbüttel VI\nGast: MTV Heide V\n
LOCATION:
CATEGORIES:Saison 2022/23
END:VEVENT
BEGIN:VEVENT
DTSTAMP:20260419T224852Z
DTSTART;TZID=Europe/Berlin:20220913T200000
DTEND;TZID=Europe/Berlin:20220913T230000
SUMMARY:3. Kreisklasse TSV Brunsbüttel VI vs TSV Glückauf Linden  (705)
UID:02ac31fe-851f-7811-e063-1fc7a80a9a89
STATUS:CONFIRMED
LAST-MODIFIED:20230811T200509Z
DESCRIPTION:3. Kreisklasse Herren\nBegegnungs-Nr: 705\nHeim: TSV Brunsbüttel VI\nGast: TSV Glückauf Linden \n
LOCATION:
CATEGORIES:Saison 2022/23
END:VEVENT
BEGIN:VEVENT
DTSTAMP:20260419T224852Z
DTSTART;TZID=Europe/Berlin:20220927T200000
DTEND;TZID=Europe/Berlin:20220927T230000
SUMMARY:3. Kreisklasse TSV Brunsbüttel VI vs SSV Hennstedt  (713)
UID:02ac31fe-85ac-7811-e063-1fc7a80a9a89
STATUS:CONFIRMED
LAST-MODIFIED:20230811T200509Z
DESCRIPTION:3. Kreisklasse Herren\nBegegnungs-Nr: 713\nHeim: TSV Brunsbüttel VI\nGast: SSV Hennstedt \n
LOCATION:
CATEGORIES:Saison 2022/23
END:VEVENT
BEGIN:VEVENT
DTSTAMP:20260419T224852Z
DTSTART;TZID=Europe/Berlin:20221111T200000
DTEND;TZID=Europe/Berlin:20221111T230000
SUMMARY:3. Kreisklasse TSV Schwarz-Rot Schülp IV vs TSV Brunsbüttel VI (721)
UID:02ac31fe-8631-7811-e063-1fc7a80a9a89
STATUS:CONFIRMED
LAST-MODIFIED:20230811T200509Z
DESCRIPTION:3. Kreisklasse Herren\nBegegnungs-Nr: 721\nHeim: TSV Schwarz-Rot Schülp IV\nGast: TSV Brunsbüttel VI\n
LOCATION:
CATEGORIES:Saison 2022/23
END:VEVENT
BEGIN:VEVENT
DTSTAMP:20260419T224852Z
DTSTART;TZID=Europe/Berlin:20221123T200000
DTEND;TZID=Europe/Berlin:20221123T230000
SUMMARY:3. Kreisklasse MTV Heide V vs TSV Brunsbüttel VI (723)
UID:02ac31fe-865b-7811-e063-1fc7a80a9a89
STATUS:CONFIRMED
LAST-MODIFIED:20230811T200509Z
DESCRIPTION:3. Kreisklasse Herren\nBegegnungs-Nr: 723\nHeim: MTV Heide V\nGast: TSV Brunsbüttel VI\n
LOCATION:
CATEGORIES:Saison 2022/23
END:VEVENT
BEGIN:VEVENT
DTSTAMP:20260419T224852Z
DTSTART;TZID=Europe/Berlin:20230123T193000
DTEND;TZID=Europe/Berlin:20230123T223000
SUMMARY:3. Kreisklasse TSV Glückauf Linden  vs TSV Brunsbüttel VI (804)
UID:02ac31fe-8795-7811-e063-1fc7a80a9a89
STATUS:CONFIRMED
LAST-MODIFIED:20230811T200509Z
DESCRIPTION:3. Kreisklasse Herren\nBegegnungs-Nr: 804\nHeim: TSV Glückauf Linden \nGast: TSV Brunsbüttel VI\n
LOCATION:
CATEGORIES:Saison 2022/23
END:VEVENT
BEGIN:VEVENT
DTSTAMP:20260419T224852Z
DTSTART;TZID=Europe/Berlin:20230317T200000
DTEND;TZID=Europe/Berlin:20230317T230000
SUMMARY:3. Kreisklasse SSV Hennstedt  vs TSV Brunsbüttel VI (814)
UID:02ac31fe-8854-7811-e063-1fc7a80a9a89
STATUS:CONFIRMED
LAST-MODIFIED:20230811T200509Z
DESCRIPTION:3. Kreisklasse Herren\nBegegnungs-Nr: 814\nHeim: SSV Hennstedt \nGast: TSV Brunsbüttel VI\n
LOCATION:
CATEGORIES:Saison 2022/23
END:VEVENT
BEGIN:VEVENT
DTSTAMP:20260419T224852Z
DTSTART;TZID=Europe/Berlin:20230213T200000
DTEND;TZID=Europe/Berlin:20230213T230000
SUMMARY:3. Kreisklasse Marner TV II vs TSV Brunsbüttel VI (816)
UID:02ac31fe-887a-7811-e063-1fc7a80a9a89
STATUS:CONFIRMED
LAST-MODIFIED:20230811T200509Z
DESCRIPTION:3. Kreisklasse Herren\nBegegnungs-Nr: 816\nHeim: Marner TV II\nGast: TSV Brunsbüttel VI\n
LOCATION:
CATEGORIES:Saison 2022/23
END:VEVENT
BEGIN:VEVENT
DTSTAMP:20260419T224852Z
DTSTART;TZID=Europe/Berlin:20230314T200000
DTEND;TZID=Europe/Berlin:20230314T230000
SUMMARY:3. Kreisklasse SV Hemmingstedt  vs TSV Brunsbüttel VI (830)
UID:02ac31fe-8985-7811-e063-1fc7a80a9a89
STATUS:CONFIRMED
LAST-MODIFIED:20230811T200509Z
DESCRIPTION:3. Kreisklasse Herren\nBegegnungs-Nr: 830\nHeim: SV Hemmingstedt \nGast: TSV Brunsbüttel VI\n
LOCATION:
CATEGORIES:Saison 2022/23
END:VEVENT
BEGIN:VEVENT
DTSTAMP:20260419T224852Z
DTSTART;TZID=Europe/Berlin:20220908T200000
DTEND;TZID=Europe/Berlin:20220908T230000
SUMMARY:3. Kreisklasse TTSG Welm-Wrohm-Dell III vs TSV Brunsbüttel VI (703)
UID:02ac31fe-84fa-7811-e063-1fc7a80a9a89
STATUS:CONFIRMED
LAST-MODIFIED:20230811T200509Z
DESCRIPTION:3. Kreisklasse Herren\nBegegnungs-Nr: 703\nHeim: TTSG Welm-Wrohm-Dell III\nGast: TSV Brunsbüttel VI\n
LOCATION:
CATEGORIES:Saison 2022/23
END:VEVENT
BEGIN:VEVENT
DTSTAMP:20260419T224852Z
DTSTART;TZID=Europe/Berlin:20220921T200000
DTEND;TZID=Europe/Berlin:20220921T230000
SUMMARY:3. Kreisklasse SSV Lunden III vs TSV Brunsbüttel VI (709)
UID:02ac31fe-8564-7811-e063-1fc7a80a9a89
STATUS:CONFIRMED
LAST-MODIFIED:20230811T200509Z
DESCRIPTION:3. Kreisklasse Herren\nBegegnungs-Nr: 709\nHeim: SSV Lunden III\nGast: TSV Brunsbüttel VI\n
LOCATION:
CATEGORIES:Saison 2022/23
END:VEVENT
END:VCALENDAR
