BEGIN:VCALENDAR
PRODID:-//nuDatenautomaten//framework iCal4j //DE
VERSION:2.0
CALSCALE:GREGORIAN
BEGIN:VTIMEZONE
TZID:Europe/Berlin
LAST-MODIFIED:20260306T231828Z
TZURL:https://www.tzurl.org/zoneinfo/Europe/Berlin
X-LIC-LOCATION:Europe/Berlin
X-PROLEPTIC-TZNAME:LMT
BEGIN:STANDARD
TZNAME:CET
TZOFFSETFROM:+005328
TZOFFSETTO:+0100
DTSTART:18930401T000000
END:STANDARD
BEGIN:DAYLIGHT
TZNAME:CEST
TZOFFSETFROM:+0100
TZOFFSETTO:+0200
DTSTART:19160430T230000
RDATE:19400401T020000
RDATE:19430329T020000
RDATE:19460414T020000
RDATE:19470406T030000
RDATE:19480418T020000
RDATE:19490410T020000
RDATE:19800406T020000
END:DAYLIGHT
BEGIN:STANDARD
TZNAME:CET
TZOFFSETFROM:+0200
TZOFFSETTO:+0100
DTSTART:19161001T010000
RDATE:19421102T030000
RDATE:19431004T030000
RDATE:19441002T030000
RDATE:19451118T030000
RDATE:19461007T030000
END:STANDARD
BEGIN:DAYLIGHT
TZNAME:CEST
TZOFFSETFROM:+0100
TZOFFSETTO:+0200
DTSTART:19170416T020000
RRULE:FREQ=YEARLY;UNTIL=19180415T010000Z;BYMONTH=4;BYDAY=3MO
END:DAYLIGHT
BEGIN:STANDARD
TZNAME:CET
TZOFFSETFROM:+0200
TZOFFSETTO:+0100
DTSTART:19170917T030000
RRULE:FREQ=YEARLY;UNTIL=19180916T010000Z;BYMONTH=9;BYDAY=3MO
END:STANDARD
BEGIN:DAYLIGHT
TZNAME:CEST
TZOFFSETFROM:+0100
TZOFFSETTO:+0200
DTSTART:19440403T020000
RRULE:FREQ=YEARLY;UNTIL=19450402T010000Z;BYMONTH=4;BYDAY=1MO
END:DAYLIGHT
BEGIN:DAYLIGHT
TZNAME:CEMT
TZOFFSETFROM:+0200
TZOFFSETTO:+0300
DTSTART:19450524T020000
RDATE:19470511T030000
END:DAYLIGHT
BEGIN:DAYLIGHT
TZNAME:CEST
TZOFFSETFROM:+0300
TZOFFSETTO:+0200
DTSTART:19450924T030000
RDATE:19470629T030000
END:DAYLIGHT
BEGIN:STANDARD
TZNAME:CET
TZOFFSETFROM:+0100
TZOFFSETTO:+0100
DTSTART:19460101T000000
RDATE:19800101T000000
END:STANDARD
BEGIN:STANDARD
TZNAME:CET
TZOFFSETFROM:+0200
TZOFFSETTO:+0100
DTSTART:19471005T030000
RRULE:FREQ=YEARLY;UNTIL=19491002T010000Z;BYMONTH=10;BYDAY=1SU
END:STANDARD
BEGIN:STANDARD
TZNAME:CET
TZOFFSETFROM:+0200
TZOFFSETTO:+0100
DTSTART:19800928T030000
RRULE:FREQ=YEARLY;UNTIL=19950924T010000Z;BYMONTH=9;BYDAY=-1SU
END:STANDARD
BEGIN:DAYLIGHT
TZNAME:CEST
TZOFFSETFROM:+0100
TZOFFSETTO:+0200
DTSTART:19810329T020000
RRULE:FREQ=YEARLY;BYMONTH=3;BYDAY=-1SU
END:DAYLIGHT
BEGIN:STANDARD
TZNAME:CET
TZOFFSETFROM:+0200
TZOFFSETTO:+0100
DTSTART:19961027T030000
RRULE:FREQ=YEARLY;BYMONTH=10;BYDAY=-1SU
END:STANDARD
END:VTIMEZONE
BEGIN:VEVENT
DTSTAMP:20260421T181906Z
DTSTART;TZID=Europe/Berlin:20221028T200000
DTEND;TZID=Europe/Berlin:20221028T230000
SUMMARY:3. Kreisklasse SSV Hennstedt  vs TSV Schwarz-Rot Schülp IV (718)
UID:02ac31fe-85f9-7811-e063-1fc7a80a9a89
STATUS:CONFIRMED
LAST-MODIFIED:20230811T200509Z
DESCRIPTION:3. Kreisklasse Herren\nBegegnungs-Nr: 718\nHeim: SSV Hennstedt \nGast: TSV Schwarz-Rot Schülp IV\n
LOCATION:
CATEGORIES:Saison 2022/23
END:VEVENT
BEGIN:VEVENT
DTSTAMP:20260421T181906Z
DTSTART;TZID=Europe/Berlin:20221216T200000
DTEND;TZID=Europe/Berlin:20221216T230000
SUMMARY:3. Kreisklasse SSV Hennstedt  vs TTSG Welm-Wrohm-Dell III (736)
UID:02ac31fe-874f-7811-e063-1fc7a80a9a89
STATUS:CONFIRMED
LAST-MODIFIED:20230811T200509Z
DESCRIPTION:3. Kreisklasse Herren\nBegegnungs-Nr: 736\nHeim: SSV Hennstedt \nGast: TTSG Welm-Wrohm-Dell III\n
LOCATION:
CATEGORIES:Saison 2022/23
END:VEVENT
BEGIN:VEVENT
DTSTAMP:20260421T181906Z
DTSTART;TZID=Europe/Berlin:20230317T200000
DTEND;TZID=Europe/Berlin:20230317T230000
SUMMARY:3. Kreisklasse SSV Hennstedt  vs TSV Brunsbüttel VI (814)
UID:02ac31fe-8854-7811-e063-1fc7a80a9a89
STATUS:CONFIRMED
LAST-MODIFIED:20230811T200509Z
DESCRIPTION:3. Kreisklasse Herren\nBegegnungs-Nr: 814\nHeim: SSV Hennstedt \nGast: TSV Brunsbüttel VI\n
LOCATION:
CATEGORIES:Saison 2022/23
END:VEVENT
BEGIN:VEVENT
DTSTAMP:20260421T181906Z
DTSTART;TZID=Europe/Berlin:20230303T200000
DTEND;TZID=Europe/Berlin:20230303T230000
SUMMARY:3. Kreisklasse SSV Hennstedt  vs MTV Heide V (821)
UID:02ac31fe-88d4-7811-e063-1fc7a80a9a89
STATUS:CONFIRMED
LAST-MODIFIED:20230811T200509Z
DESCRIPTION:3. Kreisklasse Herren\nBegegnungs-Nr: 821\nHeim: SSV Hennstedt \nGast: MTV Heide V\n
LOCATION:
CATEGORIES:Saison 2022/23
END:VEVENT
BEGIN:VEVENT
DTSTAMP:20260421T181906Z
DTSTART;TZID=Europe/Berlin:20230310T200000
DTEND;TZID=Europe/Berlin:20230310T230000
SUMMARY:3. Kreisklasse SSV Hennstedt  vs SV Hemmingstedt  (826)
UID:02ac31fe-893a-7811-e063-1fc7a80a9a89
STATUS:CONFIRMED
LAST-MODIFIED:20230811T200509Z
DESCRIPTION:3. Kreisklasse Herren\nBegegnungs-Nr: 826\nHeim: SSV Hennstedt \nGast: SV Hemmingstedt \n
LOCATION:
CATEGORIES:Saison 2022/23
END:VEVENT
BEGIN:VEVENT
DTSTAMP:20260421T181906Z
DTSTART;TZID=Europe/Berlin:20220916T200000
DTEND;TZID=Europe/Berlin:20220916T230000
SUMMARY:3. Kreisklasse SSV Hennstedt  vs SSV Lunden III (707)
UID:02ac31fe-8543-7811-e063-1fc7a80a9a89
STATUS:CONFIRMED
LAST-MODIFIED:20230811T200509Z
DESCRIPTION:3. Kreisklasse Herren\nBegegnungs-Nr: 707\nHeim: SSV Hennstedt \nGast: SSV Lunden III\n
LOCATION:
CATEGORIES:Saison 2022/23
END:VEVENT
BEGIN:VEVENT
DTSTAMP:20260421T181906Z
DTSTART;TZID=Europe/Berlin:20220930T200000
DTEND;TZID=Europe/Berlin:20220930T230000
SUMMARY:3. Kreisklasse SSV Hennstedt  vs Marner TV II (711)
UID:02ac31fe-8587-7811-e063-1fc7a80a9a89
STATUS:CONFIRMED
LAST-MODIFIED:20230811T200509Z
DESCRIPTION:3. Kreisklasse Herren\nBegegnungs-Nr: 711\nHeim: SSV Hennstedt \nGast: Marner TV II\n
LOCATION:
CATEGORIES:Saison 2022/23
END:VEVENT
BEGIN:VEVENT
DTSTAMP:20260421T181906Z
DTSTART;TZID=Europe/Berlin:20221107T193000
DTEND;TZID=Europe/Berlin:20221107T223000
SUMMARY:3. Kreisklasse MTV Heide V vs SSV Hennstedt  (719)
UID:02ac31fe-860f-7811-e063-1fc7a80a9a89
STATUS:CONFIRMED
LAST-MODIFIED:20230811T200509Z
DESCRIPTION:3. Kreisklasse Herren\nBegegnungs-Nr: 719\nHeim: MTV Heide V\nGast: SSV Hennstedt \n
LOCATION:
CATEGORIES:Saison 2022/23
END:VEVENT
BEGIN:VEVENT
DTSTAMP:20260421T181906Z
DTSTART;TZID=Europe/Berlin:20221213T200000
DTEND;TZID=Europe/Berlin:20221213T230000
SUMMARY:3. Kreisklasse SV Hemmingstedt  vs SSV Hennstedt  (727)
UID:02ac31fe-86a5-7811-e063-1fc7a80a9a89
STATUS:CONFIRMED
LAST-MODIFIED:20230811T200509Z
DESCRIPTION:3. Kreisklasse Herren\nBegegnungs-Nr: 727\nHeim: SV Hemmingstedt \nGast: SSV Hennstedt \n
LOCATION:
CATEGORIES:Saison 2022/23
END:VEVENT
BEGIN:VEVENT
DTSTAMP:20260421T181906Z
DTSTART;TZID=Europe/Berlin:20230119T190000
DTEND;TZID=Europe/Berlin:20230119T220000
SUMMARY:3. Kreisklasse TSV Glückauf Linden  vs SSV Hennstedt  (803)
UID:02ac31fe-8782-7811-e063-1fc7a80a9a89
STATUS:CONFIRMED
LAST-MODIFIED:20230811T200509Z
DESCRIPTION:3. Kreisklasse Herren\nBegegnungs-Nr: 803\nHeim: TSV Glückauf Linden \nGast: SSV Hennstedt \n
LOCATION:
CATEGORIES:Saison 2022/23
END:VEVENT
BEGIN:VEVENT
DTSTAMP:20260421T181906Z
DTSTART;TZID=Europe/Berlin:20230125T200000
DTEND;TZID=Europe/Berlin:20230125T230000
SUMMARY:3. Kreisklasse SSV Lunden III vs SSV Hennstedt  (805)
UID:02ac31fe-87a6-7811-e063-1fc7a80a9a89
STATUS:CONFIRMED
LAST-MODIFIED:20230811T200509Z
DESCRIPTION:3. Kreisklasse Herren\nBegegnungs-Nr: 805\nHeim: SSV Lunden III\nGast: SSV Hennstedt \n
LOCATION:
CATEGORIES:Saison 2022/23
END:VEVENT
BEGIN:VEVENT
DTSTAMP:20260421T181906Z
DTSTART;TZID=Europe/Berlin:20230130T200000
DTEND;TZID=Europe/Berlin:20230130T230000
SUMMARY:3. Kreisklasse Marner TV II vs SSV Hennstedt  (809)
UID:02ac31fe-87f4-7811-e063-1fc7a80a9a89
STATUS:CONFIRMED
LAST-MODIFIED:20230811T200509Z
DESCRIPTION:3. Kreisklasse Herren\nBegegnungs-Nr: 809\nHeim: Marner TV II\nGast: SSV Hennstedt \n
LOCATION:
CATEGORIES:Saison 2022/23
END:VEVENT
BEGIN:VEVENT
DTSTAMP:20260421T181906Z
DTSTART;TZID=Europe/Berlin:20230217T200000
DTEND;TZID=Europe/Berlin:20230217T230000
SUMMARY:3. Kreisklasse TSV Schwarz-Rot Schülp IV vs SSV Hennstedt  (818)
UID:02ac31fe-889f-7811-e063-1fc7a80a9a89
STATUS:CONFIRMED
LAST-MODIFIED:20230811T200509Z
DESCRIPTION:3. Kreisklasse Herren\nBegegnungs-Nr: 818\nHeim: TSV Schwarz-Rot Schülp IV\nGast: SSV Hennstedt \n
LOCATION:
CATEGORIES:Saison 2022/23
END:VEVENT
BEGIN:VEVENT
DTSTAMP:20260421T181906Z
DTSTART;TZID=Europe/Berlin:20230328T200000
DTEND;TZID=Europe/Berlin:20230328T230000
SUMMARY:3. Kreisklasse TTSG Welm-Wrohm-Dell III vs SSV Hennstedt  (835)
UID:02ac31fe-89e5-7811-e063-1fc7a80a9a89
STATUS:CONFIRMED
LAST-MODIFIED:20230811T200509Z
DESCRIPTION:3. Kreisklasse Herren\nBegegnungs-Nr: 835\nHeim: TTSG Welm-Wrohm-Dell III\nGast: SSV Hennstedt \n
LOCATION:
CATEGORIES:Saison 2022/23
END:VEVENT
BEGIN:VEVENT
DTSTAMP:20260421T181906Z
DTSTART;TZID=Europe/Berlin:20221024T193000
DTEND;TZID=Europe/Berlin:20221024T223000
SUMMARY:3. Kreisklasse TSV Glückauf Linden  vs SSV Hennstedt  (701)
UID:02ac31fe-84d1-7811-e063-1fc7a80a9a89
STATUS:CONFIRMED
LAST-MODIFIED:20230811T200509Z
DESCRIPTION:3. Kreisklasse Herren\nBegegnungs-Nr: 701\nHeim: TSV Glückauf Linden \nGast: SSV Hennstedt \n
LOCATION:
CATEGORIES:Saison 2022/23
END:VEVENT
BEGIN:VEVENT
DTSTAMP:20260421T181906Z
DTSTART;TZID=Europe/Berlin:20220927T200000
DTEND;TZID=Europe/Berlin:20220927T230000
SUMMARY:3. Kreisklasse TSV Brunsbüttel VI vs SSV Hennstedt  (713)
UID:02ac31fe-85ac-7811-e063-1fc7a80a9a89
STATUS:CONFIRMED
LAST-MODIFIED:20230811T200509Z
DESCRIPTION:3. Kreisklasse Herren\nBegegnungs-Nr: 713\nHeim: TSV Brunsbüttel VI\nGast: SSV Hennstedt \n
LOCATION:
CATEGORIES:Saison 2022/23
END:VEVENT
END:VCALENDAR
