BEGIN:VCALENDAR
PRODID:-//nuDatenautomaten//framework iCal4j //DE
VERSION:2.0
CALSCALE:GREGORIAN
BEGIN:VTIMEZONE
TZID:Europe/Berlin
LAST-MODIFIED:20260306T231828Z
TZURL:https://www.tzurl.org/zoneinfo/Europe/Berlin
X-LIC-LOCATION:Europe/Berlin
X-PROLEPTIC-TZNAME:LMT
BEGIN:STANDARD
TZNAME:CET
TZOFFSETFROM:+005328
TZOFFSETTO:+0100
DTSTART:18930401T000000
END:STANDARD
BEGIN:DAYLIGHT
TZNAME:CEST
TZOFFSETFROM:+0100
TZOFFSETTO:+0200
DTSTART:19160430T230000
RDATE:19400401T020000
RDATE:19430329T020000
RDATE:19460414T020000
RDATE:19470406T030000
RDATE:19480418T020000
RDATE:19490410T020000
RDATE:19800406T020000
END:DAYLIGHT
BEGIN:STANDARD
TZNAME:CET
TZOFFSETFROM:+0200
TZOFFSETTO:+0100
DTSTART:19161001T010000
RDATE:19421102T030000
RDATE:19431004T030000
RDATE:19441002T030000
RDATE:19451118T030000
RDATE:19461007T030000
END:STANDARD
BEGIN:DAYLIGHT
TZNAME:CEST
TZOFFSETFROM:+0100
TZOFFSETTO:+0200
DTSTART:19170416T020000
RRULE:FREQ=YEARLY;UNTIL=19180415T010000Z;BYMONTH=4;BYDAY=3MO
END:DAYLIGHT
BEGIN:STANDARD
TZNAME:CET
TZOFFSETFROM:+0200
TZOFFSETTO:+0100
DTSTART:19170917T030000
RRULE:FREQ=YEARLY;UNTIL=19180916T010000Z;BYMONTH=9;BYDAY=3MO
END:STANDARD
BEGIN:DAYLIGHT
TZNAME:CEST
TZOFFSETFROM:+0100
TZOFFSETTO:+0200
DTSTART:19440403T020000
RRULE:FREQ=YEARLY;UNTIL=19450402T010000Z;BYMONTH=4;BYDAY=1MO
END:DAYLIGHT
BEGIN:DAYLIGHT
TZNAME:CEMT
TZOFFSETFROM:+0200
TZOFFSETTO:+0300
DTSTART:19450524T020000
RDATE:19470511T030000
END:DAYLIGHT
BEGIN:DAYLIGHT
TZNAME:CEST
TZOFFSETFROM:+0300
TZOFFSETTO:+0200
DTSTART:19450924T030000
RDATE:19470629T030000
END:DAYLIGHT
BEGIN:STANDARD
TZNAME:CET
TZOFFSETFROM:+0100
TZOFFSETTO:+0100
DTSTART:19460101T000000
RDATE:19800101T000000
END:STANDARD
BEGIN:STANDARD
TZNAME:CET
TZOFFSETFROM:+0200
TZOFFSETTO:+0100
DTSTART:19471005T030000
RRULE:FREQ=YEARLY;UNTIL=19491002T010000Z;BYMONTH=10;BYDAY=1SU
END:STANDARD
BEGIN:STANDARD
TZNAME:CET
TZOFFSETFROM:+0200
TZOFFSETTO:+0100
DTSTART:19800928T030000
RRULE:FREQ=YEARLY;UNTIL=19950924T010000Z;BYMONTH=9;BYDAY=-1SU
END:STANDARD
BEGIN:DAYLIGHT
TZNAME:CEST
TZOFFSETFROM:+0100
TZOFFSETTO:+0200
DTSTART:19810329T020000
RRULE:FREQ=YEARLY;BYMONTH=3;BYDAY=-1SU
END:DAYLIGHT
BEGIN:STANDARD
TZNAME:CET
TZOFFSETFROM:+0200
TZOFFSETTO:+0100
DTSTART:19961027T030000
RRULE:FREQ=YEARLY;BYMONTH=10;BYDAY=-1SU
END:STANDARD
END:VTIMEZONE
BEGIN:VEVENT
DTSTAMP:20260423T161843Z
DTSTART;TZID=Europe/Berlin:20220920T200000
DTEND;TZID=Europe/Berlin:20220920T230000
SUMMARY:2. Bezirksliga Nord TSV Elpersbüttel-Eesch  vs MTV St. Michaelisdonn  (13)
UID:02ac31fb-9b16-7811-e063-1fc7a80a9a89
STATUS:CONFIRMED
LAST-MODIFIED:20230811T200345Z
DESCRIPTION:2. Bezirksliga Herren Nord\nBegegnungs-Nr: 13\nHeim: TSV Elpersbüttel-Eesch \nGast: MTV St. Michaelisdonn \n
LOCATION:
CATEGORIES:Saison 2022/23
END:VEVENT
BEGIN:VEVENT
DTSTAMP:20260423T161843Z
DTSTART;TZID=Europe/Berlin:20221011T200000
DTEND;TZID=Europe/Berlin:20221011T230000
SUMMARY:2. Bezirksliga Nord TSV Elpersbüttel-Eesch  vs SV Farnewinkel-Nindorf  (25)
UID:02ac31fb-9c0d-7811-e063-1fc7a80a9a89
STATUS:CONFIRMED
LAST-MODIFIED:20230811T200345Z
DESCRIPTION:2. Bezirksliga Herren Nord\nBegegnungs-Nr: 25\nHeim: TSV Elpersbüttel-Eesch \nGast: SV Farnewinkel-Nindorf \n
LOCATION:
CATEGORIES:Saison 2022/23
END:VEVENT
BEGIN:VEVENT
DTSTAMP:20260423T161843Z
DTSTART;TZID=Europe/Berlin:20221115T200000
DTEND;TZID=Europe/Berlin:20221115T230000
SUMMARY:2. Bezirksliga Nord TSV Elpersbüttel-Eesch  vs TSV Wacken  (37)
UID:02ac31fb-9d06-7811-e063-1fc7a80a9a89
STATUS:CONFIRMED
LAST-MODIFIED:20230811T200346Z
DESCRIPTION:2. Bezirksliga Herren Nord\nBegegnungs-Nr: 37\nHeim: TSV Elpersbüttel-Eesch \nGast: TSV Wacken \n
LOCATION:
CATEGORIES:Saison 2022/23
END:VEVENT
BEGIN:VEVENT
DTSTAMP:20260423T161843Z
DTSTART;TZID=Europe/Berlin:20221129T200000
DTEND;TZID=Europe/Berlin:20221129T230000
SUMMARY:2. Bezirksliga Nord TSV Elpersbüttel-Eesch  vs SC Itzehoe II (49)
UID:02ac31fb-9dfd-7811-e063-1fc7a80a9a89
STATUS:CONFIRMED
LAST-MODIFIED:20230811T200346Z
DESCRIPTION:2. Bezirksliga Herren Nord\nBegegnungs-Nr: 49\nHeim: TSV Elpersbüttel-Eesch \nGast: SC Itzehoe II\n
LOCATION:
CATEGORIES:Saison 2022/23
END:VEVENT
BEGIN:VEVENT
DTSTAMP:20260423T161843Z
DTSTART;TZID=Europe/Berlin:20221206T200000
DTEND;TZID=Europe/Berlin:20221206T230000
SUMMARY:2. Bezirksliga Nord TSV Elpersbüttel-Eesch  vs TSV Schwarz-Rot Schülp  (57)
UID:02ac31fb-9ea4-7811-e063-1fc7a80a9a89
STATUS:CONFIRMED
LAST-MODIFIED:20230811T200346Z
DESCRIPTION:2. Bezirksliga Herren Nord\nBegegnungs-Nr: 57\nHeim: TSV Elpersbüttel-Eesch \nGast: TSV Schwarz-Rot Schülp \n
LOCATION:
CATEGORIES:Saison 2022/23
END:VEVENT
BEGIN:VEVENT
DTSTAMP:20260423T161843Z
DTSTART;TZID=Europe/Berlin:20221213T200000
DTEND;TZID=Europe/Berlin:20221213T230000
SUMMARY:2. Bezirksliga Nord TSV Elpersbüttel-Eesch  vs SC Hohenaspe II (61)
UID:02ac31fb-9eee-7811-e063-1fc7a80a9a89
STATUS:CONFIRMED
LAST-MODIFIED:20230811T200346Z
DESCRIPTION:2. Bezirksliga Herren Nord\nBegegnungs-Nr: 61\nHeim: TSV Elpersbüttel-Eesch \nGast: SC Hohenaspe II\n
LOCATION:
CATEGORIES:Saison 2022/23
END:VEVENT
BEGIN:VEVENT
DTSTAMP:20260423T161843Z
DTSTART;TZID=Europe/Berlin:20220913T200000
DTEND;TZID=Europe/Berlin:20220913T230000
SUMMARY:2. Bezirksliga Nord TSV Elpersbüttel-Eesch  vs TTSG St. Margarethen/Wilster  (7)
UID:02ac31fb-9f5c-7811-e063-1fc7a80a9a89
STATUS:CONFIRMED
LAST-MODIFIED:20230811T200346Z
DESCRIPTION:2. Bezirksliga Herren Nord\nBegegnungs-Nr: 7\nHeim: TSV Elpersbüttel-Eesch \nGast: TTSG St. Margarethen/Wilster \n
LOCATION:
CATEGORIES:Saison 2022/23
END:VEVENT
BEGIN:VEVENT
DTSTAMP:20260423T161843Z
DTSTART;TZID=Europe/Berlin:20230117T200000
DTEND;TZID=Europe/Berlin:20230117T230000
SUMMARY:2. Bezirksliga Nord TSV Elpersbüttel-Eesch  vs TTSG St. Margarethen/Wilster II (101)
UID:02ac31fb-9f92-7811-e063-1fc7a80a9a89
STATUS:CONFIRMED
LAST-MODIFIED:20230811T200346Z
DESCRIPTION:2. Bezirksliga Herren Nord\nBegegnungs-Nr: 101\nHeim: TSV Elpersbüttel-Eesch \nGast: TTSG St. Margarethen/Wilster II\n
LOCATION:
CATEGORIES:Saison 2022/23
END:VEVENT
BEGIN:VEVENT
DTSTAMP:20260423T161843Z
DTSTART;TZID=Europe/Berlin:20230207T200000
DTEND;TZID=Europe/Berlin:20230207T230000
SUMMARY:2. Bezirksliga Nord TSV Elpersbüttel-Eesch  vs SC Hohenaspe  (119)
UID:02ac31fb-a0d1-7811-e063-1fc7a80a9a89
STATUS:CONFIRMED
LAST-MODIFIED:20230811T200346Z
DESCRIPTION:2. Bezirksliga Herren Nord\nBegegnungs-Nr: 119\nHeim: TSV Elpersbüttel-Eesch \nGast: SC Hohenaspe \n
LOCATION:
CATEGORIES:Saison 2022/23
END:VEVENT
BEGIN:VEVENT
DTSTAMP:20260423T161843Z
DTSTART;TZID=Europe/Berlin:20230221T183000
DTEND;TZID=Europe/Berlin:20230221T213000
SUMMARY:2. Bezirksliga Nord TSV Elpersbüttel-Eesch  vs TSV Brunsbüttel III (131)
UID:02ac31fb-a19c-7811-e063-1fc7a80a9a89
STATUS:CONFIRMED
LAST-MODIFIED:20230811T200346Z
DESCRIPTION:2. Bezirksliga Herren Nord\nBegegnungs-Nr: 131\nHeim: TSV Elpersbüttel-Eesch \nGast: TSV Brunsbüttel III\n
LOCATION:
CATEGORIES:Saison 2022/23
END:VEVENT
BEGIN:VEVENT
DTSTAMP:20260423T161843Z
DTSTART;TZID=Europe/Berlin:20230307T200000
DTEND;TZID=Europe/Berlin:20230307T230000
SUMMARY:2. Bezirksliga Nord TSV Elpersbüttel-Eesch  vs TTSG Weddingstedt/Wesseln  (143)
UID:02ac31fb-a27d-7811-e063-1fc7a80a9a89
STATUS:CONFIRMED
LAST-MODIFIED:20230811T200346Z
DESCRIPTION:2. Bezirksliga Herren Nord\nBegegnungs-Nr: 143\nHeim: TSV Elpersbüttel-Eesch \nGast: TTSG Weddingstedt/Wesseln \n
LOCATION:
CATEGORIES:Saison 2022/23
END:VEVENT
BEGIN:VEVENT
DTSTAMP:20260423T161843Z
DTSTART;TZID=Europe/Berlin:20230323T200000
DTEND;TZID=Europe/Berlin:20230323T230000
SUMMARY:2. Bezirksliga Nord TSV Elpersbüttel-Eesch  vs TSV Schwarz-Rot Schülp  (155)
UID:02ac31fb-a34e-7811-e063-1fc7a80a9a89
STATUS:CONFIRMED
LAST-MODIFIED:20230811T200346Z
DESCRIPTION:2. Bezirksliga Herren Nord\nBegegnungs-Nr: 155\nHeim: TSV Elpersbüttel-Eesch \nGast: TSV Schwarz-Rot Schülp \n
LOCATION:
CATEGORIES:Saison 2022/23
END:VEVENT
BEGIN:VEVENT
DTSTAMP:20260423T161843Z
DTSTART;TZID=Europe/Berlin:20220927T200000
DTEND;TZID=Europe/Berlin:20220927T230000
SUMMARY:2. Bezirksliga Nord SC Hohenaspe  vs TSV Elpersbüttel-Eesch  (19)
UID:02ac31fb-9b89-7811-e063-1fc7a80a9a89
STATUS:CONFIRMED
LAST-MODIFIED:20230811T200345Z
DESCRIPTION:2. Bezirksliga Herren Nord\nBegegnungs-Nr: 19\nHeim: SC Hohenaspe \nGast: TSV Elpersbüttel-Eesch \n
LOCATION:
CATEGORIES:Saison 2022/23
END:VEVENT
BEGIN:VEVENT
DTSTAMP:20260423T161843Z
DTSTART;TZID=Europe/Berlin:20221110T200000
DTEND;TZID=Europe/Berlin:20221110T230000
SUMMARY:2. Bezirksliga Nord TSV Brunsbüttel III vs TSV Elpersbüttel-Eesch  (32)
UID:02ac31fb-9ca9-7811-e063-1fc7a80a9a89
STATUS:CONFIRMED
LAST-MODIFIED:20230811T200346Z
DESCRIPTION:2. Bezirksliga Herren Nord\nBegegnungs-Nr: 32\nHeim: TSV Brunsbüttel III\nGast: TSV Elpersbüttel-Eesch \n
LOCATION:
CATEGORIES:Saison 2022/23
END:VEVENT
BEGIN:VEVENT
DTSTAMP:20260423T161843Z
DTSTART;TZID=Europe/Berlin:20221125T200000
DTEND;TZID=Europe/Berlin:20221125T230000
SUMMARY:2. Bezirksliga Nord TTSG Weddingstedt/Wesseln  vs TSV Elpersbüttel-Eesch  (44)
UID:02ac31fb-9da1-7811-e063-1fc7a80a9a89
STATUS:CONFIRMED
LAST-MODIFIED:20230811T200346Z
DESCRIPTION:2. Bezirksliga Herren Nord\nBegegnungs-Nr: 44\nHeim: TTSG Weddingstedt/Wesseln \nGast: TSV Elpersbüttel-Eesch \n
LOCATION:
CATEGORIES:Saison 2022/23
END:VEVENT
BEGIN:VEVENT
DTSTAMP:20260423T161843Z
DTSTART;TZID=Europe/Berlin:20220909T201500
DTEND;TZID=Europe/Berlin:20220909T231500
SUMMARY:2. Bezirksliga Nord TTSG St. Margarethen/Wilster II vs TSV Elpersbüttel-Eesch  (6)
UID:02ac31fb-9ec6-7811-e063-1fc7a80a9a89
STATUS:CONFIRMED
LAST-MODIFIED:20230811T200346Z
DESCRIPTION:2. Bezirksliga Herren Nord\nBegegnungs-Nr: 6\nHeim: TTSG St. Margarethen/Wilster II\nGast: TSV Elpersbüttel-Eesch \n
LOCATION:
CATEGORIES:Saison 2022/23
END:VEVENT
BEGIN:VEVENT
DTSTAMP:20260423T161843Z
DTSTART;TZID=Europe/Berlin:20230201T193000
DTEND;TZID=Europe/Berlin:20230201T223000
SUMMARY:2. Bezirksliga Nord MTV St. Michaelisdonn  vs TSV Elpersbüttel-Eesch  (114)
UID:02ac31fb-a074-7811-e063-1fc7a80a9a89
STATUS:CONFIRMED
LAST-MODIFIED:20230811T200346Z
DESCRIPTION:2. Bezirksliga Herren Nord\nBegegnungs-Nr: 114\nHeim: MTV St. Michaelisdonn \nGast: TSV Elpersbüttel-Eesch \n
LOCATION:
CATEGORIES:Saison 2022/23
END:VEVENT
BEGIN:VEVENT
DTSTAMP:20260423T161843Z
DTSTART;TZID=Europe/Berlin:20230217T200000
DTEND;TZID=Europe/Berlin:20230217T230000
SUMMARY:2. Bezirksliga Nord SV Farnewinkel-Nindorf  vs TSV Elpersbüttel-Eesch  (130)
UID:02ac31fb-a189-7811-e063-1fc7a80a9a89
STATUS:CONFIRMED
LAST-MODIFIED:20230811T200346Z
DESCRIPTION:2. Bezirksliga Herren Nord\nBegegnungs-Nr: 130\nHeim: SV Farnewinkel-Nindorf \nGast: TSV Elpersbüttel-Eesch \n
LOCATION:
CATEGORIES:Saison 2022/23
END:VEVENT
BEGIN:VEVENT
DTSTAMP:20260423T161843Z
DTSTART;TZID=Europe/Berlin:20230303T200000
DTEND;TZID=Europe/Berlin:20230303T230000
SUMMARY:2. Bezirksliga Nord TSV Wacken  vs TSV Elpersbüttel-Eesch  (141)
UID:02ac31fb-a255-7811-e063-1fc7a80a9a89
STATUS:CONFIRMED
LAST-MODIFIED:20230811T200346Z
DESCRIPTION:2. Bezirksliga Herren Nord\nBegegnungs-Nr: 141\nHeim: TSV Wacken \nGast: TSV Elpersbüttel-Eesch \n
LOCATION:
CATEGORIES:Saison 2022/23
END:VEVENT
BEGIN:VEVENT
DTSTAMP:20260423T161843Z
DTSTART;TZID=Europe/Berlin:20230317T200000
DTEND;TZID=Europe/Berlin:20230317T230000
SUMMARY:2. Bezirksliga Nord SC Itzehoe II vs TSV Elpersbüttel-Eesch  (151)
UID:02ac31fb-a312-7811-e063-1fc7a80a9a89
STATUS:CONFIRMED
LAST-MODIFIED:20230811T200346Z
DESCRIPTION:2. Bezirksliga Herren Nord\nBegegnungs-Nr: 151\nHeim: SC Itzehoe II\nGast: TSV Elpersbüttel-Eesch \n
LOCATION:
CATEGORIES:Saison 2022/23
END:VEVENT
BEGIN:VEVENT
DTSTAMP:20260423T161843Z
DTSTART;TZID=Europe/Berlin:20230330T201500
DTEND;TZID=Europe/Berlin:20230330T231500
SUMMARY:2. Bezirksliga Nord SC Hohenaspe II vs TSV Elpersbüttel-Eesch  (162)
UID:02ac31fb-a3cf-7811-e063-1fc7a80a9a89
STATUS:CONFIRMED
LAST-MODIFIED:20230811T200346Z
DESCRIPTION:2. Bezirksliga Herren Nord\nBegegnungs-Nr: 162\nHeim: SC Hohenaspe II\nGast: TSV Elpersbüttel-Eesch \n
LOCATION:
CATEGORIES:Saison 2022/23
END:VEVENT
END:VCALENDAR
