BEGIN:VCALENDAR
PRODID:-//nuDatenautomaten//framework iCal4j //DE
VERSION:2.0
CALSCALE:GREGORIAN
BEGIN:VTIMEZONE
TZID:Europe/Berlin
LAST-MODIFIED:20260306T231828Z
TZURL:https://www.tzurl.org/zoneinfo/Europe/Berlin
X-LIC-LOCATION:Europe/Berlin
X-PROLEPTIC-TZNAME:LMT
BEGIN:STANDARD
TZNAME:CET
TZOFFSETFROM:+005328
TZOFFSETTO:+0100
DTSTART:18930401T000000
END:STANDARD
BEGIN:DAYLIGHT
TZNAME:CEST
TZOFFSETFROM:+0100
TZOFFSETTO:+0200
DTSTART:19160430T230000
RDATE:19400401T020000
RDATE:19430329T020000
RDATE:19460414T020000
RDATE:19470406T030000
RDATE:19480418T020000
RDATE:19490410T020000
RDATE:19800406T020000
END:DAYLIGHT
BEGIN:STANDARD
TZNAME:CET
TZOFFSETFROM:+0200
TZOFFSETTO:+0100
DTSTART:19161001T010000
RDATE:19421102T030000
RDATE:19431004T030000
RDATE:19441002T030000
RDATE:19451118T030000
RDATE:19461007T030000
END:STANDARD
BEGIN:DAYLIGHT
TZNAME:CEST
TZOFFSETFROM:+0100
TZOFFSETTO:+0200
DTSTART:19170416T020000
RRULE:FREQ=YEARLY;UNTIL=19180415T010000Z;BYMONTH=4;BYDAY=3MO
END:DAYLIGHT
BEGIN:STANDARD
TZNAME:CET
TZOFFSETFROM:+0200
TZOFFSETTO:+0100
DTSTART:19170917T030000
RRULE:FREQ=YEARLY;UNTIL=19180916T010000Z;BYMONTH=9;BYDAY=3MO
END:STANDARD
BEGIN:DAYLIGHT
TZNAME:CEST
TZOFFSETFROM:+0100
TZOFFSETTO:+0200
DTSTART:19440403T020000
RRULE:FREQ=YEARLY;UNTIL=19450402T010000Z;BYMONTH=4;BYDAY=1MO
END:DAYLIGHT
BEGIN:DAYLIGHT
TZNAME:CEMT
TZOFFSETFROM:+0200
TZOFFSETTO:+0300
DTSTART:19450524T020000
RDATE:19470511T030000
END:DAYLIGHT
BEGIN:DAYLIGHT
TZNAME:CEST
TZOFFSETFROM:+0300
TZOFFSETTO:+0200
DTSTART:19450924T030000
RDATE:19470629T030000
END:DAYLIGHT
BEGIN:STANDARD
TZNAME:CET
TZOFFSETFROM:+0100
TZOFFSETTO:+0100
DTSTART:19460101T000000
RDATE:19800101T000000
END:STANDARD
BEGIN:STANDARD
TZNAME:CET
TZOFFSETFROM:+0200
TZOFFSETTO:+0100
DTSTART:19471005T030000
RRULE:FREQ=YEARLY;UNTIL=19491002T010000Z;BYMONTH=10;BYDAY=1SU
END:STANDARD
BEGIN:STANDARD
TZNAME:CET
TZOFFSETFROM:+0200
TZOFFSETTO:+0100
DTSTART:19800928T030000
RRULE:FREQ=YEARLY;UNTIL=19950924T010000Z;BYMONTH=9;BYDAY=-1SU
END:STANDARD
BEGIN:DAYLIGHT
TZNAME:CEST
TZOFFSETFROM:+0100
TZOFFSETTO:+0200
DTSTART:19810329T020000
RRULE:FREQ=YEARLY;BYMONTH=3;BYDAY=-1SU
END:DAYLIGHT
BEGIN:STANDARD
TZNAME:CET
TZOFFSETFROM:+0200
TZOFFSETTO:+0100
DTSTART:19961027T030000
RRULE:FREQ=YEARLY;BYMONTH=10;BYDAY=-1SU
END:STANDARD
END:VTIMEZONE
BEGIN:VEVENT
DTSTAMP:20260425T180158Z
DTSTART;TZID=Europe/Berlin:20190314T200000
DTEND;TZID=Europe/Berlin:20190314T230000
SUMMARY:7. Kreisklasse SV Grün-Weiß Neritz  vs SV Hammoor II (68)
UID:8f2462ad-b682-6d7a-e053-1fc7a80a46f4
STATUS:CONFIRMED
LAST-MODIFIED:20190802T145239Z
DESCRIPTION:Herren - 7. Kreisklasse - Stormarn\nBegegnungs-Nr: 68\nHeim: SV Grün-Weiß Neritz \nGast: SV Hammoor II\n
LOCATION:
CATEGORIES:Saison 2018/19
END:VEVENT
BEGIN:VEVENT
DTSTAMP:20260425T180158Z
DTSTART;TZID=Europe/Berlin:20181025T200000
DTEND;TZID=Europe/Berlin:20181025T230000
SUMMARY:7. Kreisklasse SV Grün-Weiß Neritz  vs TSV Grabau IV (19)
UID:8f2462ad-b1fd-6d7a-e053-1fc7a80a46f4
STATUS:CONFIRMED
LAST-MODIFIED:20190802T145239Z
DESCRIPTION:Herren - 7. Kreisklasse - Stormarn\nBegegnungs-Nr: 19\nHeim: SV Grün-Weiß Neritz \nGast: TSV Grabau IV\n
LOCATION:
CATEGORIES:Saison 2018/19
END:VEVENT
BEGIN:VEVENT
DTSTAMP:20260425T180158Z
DTSTART;TZID=Europe/Berlin:20181129T200000
DTEND;TZID=Europe/Berlin:20181129T230000
SUMMARY:7. Kreisklasse SV Grün-Weiß Neritz  vs TTG Elmenh./Fischbek VII (24)
UID:8f2462ad-b27e-6d7a-e053-1fc7a80a46f4
STATUS:CONFIRMED
LAST-MODIFIED:20190802T145239Z
DESCRIPTION:Herren - 7. Kreisklasse - Stormarn\nBegegnungs-Nr: 24\nHeim: SV Grün-Weiß Neritz \nGast: TTG Elmenh./Fischbek VII\n
LOCATION:
CATEGORIES:Saison 2018/19
END:VEVENT
BEGIN:VEVENT
DTSTAMP:20260425T180158Z
DTSTART;TZID=Europe/Berlin:20181108T200000
DTEND;TZID=Europe/Berlin:20181108T230000
SUMMARY:7. Kreisklasse SV Grün-Weiß Neritz  vs TTG Elmenh./Fischbek VIII (27)
UID:8f2462ad-b2b5-6d7a-e053-1fc7a80a46f4
STATUS:CONFIRMED
LAST-MODIFIED:20190802T145239Z
DESCRIPTION:Herren - 7. Kreisklasse - Stormarn\nBegegnungs-Nr: 27\nHeim: SV Grün-Weiß Neritz \nGast: TTG Elmenh./Fischbek VIII\n
LOCATION:
CATEGORIES:Saison 2018/19
END:VEVENT
BEGIN:VEVENT
DTSTAMP:20260425T180158Z
DTSTART;TZID=Europe/Berlin:20181122T200000
DTEND;TZID=Europe/Berlin:20181122T230000
SUMMARY:7. Kreisklasse SV Grün-Weiß Neritz  vs TSV Mollhagen III (34)
UID:8f2462ad-b34c-6d7a-e053-1fc7a80a46f4
STATUS:CONFIRMED
LAST-MODIFIED:20190802T145239Z
DESCRIPTION:Herren - 7. Kreisklasse - Stormarn\nBegegnungs-Nr: 34\nHeim: SV Grün-Weiß Neritz \nGast: TSV Mollhagen III\n
LOCATION:
CATEGORIES:Saison 2018/19
END:VEVENT
BEGIN:VEVENT
DTSTAMP:20260425T180158Z
DTSTART;TZID=Europe/Berlin:20180913T200000
DTEND;TZID=Europe/Berlin:20180913T230000
SUMMARY:7. Kreisklasse SV Grün-Weiß Neritz  vs TSV Bargteheide XI (6)
UID:8f2462ad-b3b7-6d7a-e053-1fc7a80a46f4
STATUS:CONFIRMED
LAST-MODIFIED:20190802T145239Z
DESCRIPTION:Herren - 7. Kreisklasse - Stormarn\nBegegnungs-Nr: 6\nHeim: SV Grün-Weiß Neritz \nGast: TSV Bargteheide XI\n
LOCATION:
CATEGORIES:Saison 2018/19
END:VEVENT
BEGIN:VEVENT
DTSTAMP:20260425T180158Z
DTSTART;TZID=Europe/Berlin:20190124T200000
DTEND;TZID=Europe/Berlin:20190124T230000
SUMMARY:7. Kreisklasse SV Grün-Weiß Neritz  vs Sportfreunde Grande-Kuddewörde II (39)
UID:8f2462ad-b433-6d7a-e053-1fc7a80a46f4
STATUS:CONFIRMED
LAST-MODIFIED:20190802T145239Z
DESCRIPTION:Herren - 7. Kreisklasse - Stormarn\nBegegnungs-Nr: 39\nHeim: SV Grün-Weiß Neritz \nGast: Sportfreunde Grande-Kuddewörde II\n
LOCATION:
CATEGORIES:Saison 2018/19
END:VEVENT
BEGIN:VEVENT
DTSTAMP:20260425T180158Z
DTSTART;TZID=Europe/Berlin:20190214T200000
DTEND;TZID=Europe/Berlin:20190214T230000
SUMMARY:7. Kreisklasse SV Grün-Weiß Neritz  vs SV Hamberge II (51)
UID:8f2462ad-b52a-6d7a-e053-1fc7a80a46f4
STATUS:CONFIRMED
LAST-MODIFIED:20190802T145239Z
DESCRIPTION:Herren - 7. Kreisklasse - Stormarn\nBegegnungs-Nr: 51\nHeim: SV Grün-Weiß Neritz \nGast: SV Hamberge II\n
LOCATION:
CATEGORIES:Saison 2018/19
END:VEVENT
BEGIN:VEVENT
DTSTAMP:20260425T180158Z
DTSTART;TZID=Europe/Berlin:20180924T200000
DTEND;TZID=Europe/Berlin:20180924T230000
SUMMARY:7. Kreisklasse SV Hamberge II vs SV Grün-Weiß Neritz  (13)
UID:8f2462ad-b181-6d7a-e053-1fc7a80a46f4
STATUS:CONFIRMED
LAST-MODIFIED:20190802T145239Z
DESCRIPTION:Herren - 7. Kreisklasse - Stormarn\nBegegnungs-Nr: 13\nHeim: SV Hamberge II\nGast: SV Grün-Weiß Neritz \n
LOCATION:
CATEGORIES:Saison 2018/19
END:VEVENT
BEGIN:VEVENT
DTSTAMP:20260425T180158Z
DTSTART;TZID=Europe/Berlin:20190322T200000
DTEND;TZID=Europe/Berlin:20190322T230000
SUMMARY:7. Kreisklasse TSV Mollhagen III vs SV Grün-Weiß Neritz  (72)
UID:8f2462ad-b6ce-6d7a-e053-1fc7a80a46f4
STATUS:CONFIRMED
LAST-MODIFIED:20190802T145240Z
DESCRIPTION:Herren - 7. Kreisklasse - Stormarn\nBegegnungs-Nr: 72\nHeim: TSV Mollhagen III\nGast: SV Grün-Weiß Neritz \n
LOCATION:
CATEGORIES:Saison 2018/19
END:VEVENT
BEGIN:VEVENT
DTSTAMP:20260425T180158Z
DTSTART;TZID=Europe/Berlin:20181112T200000
DTEND;TZID=Europe/Berlin:20181112T230000
SUMMARY:7. Kreisklasse SV Hammoor II vs SV Grün-Weiß Neritz  (29)
UID:8f2462ad-b2d8-6d7a-e053-1fc7a80a46f4
STATUS:CONFIRMED
LAST-MODIFIED:20190802T145239Z
DESCRIPTION:Herren - 7. Kreisklasse - Stormarn\nBegegnungs-Nr: 29\nHeim: SV Hammoor II\nGast: SV Grün-Weiß Neritz \n
LOCATION:
CATEGORIES:Saison 2018/19
END:VEVENT
BEGIN:VEVENT
DTSTAMP:20260425T180158Z
DTSTART;TZID=Europe/Berlin:20181009T200000
DTEND;TZID=Europe/Berlin:20181009T230000
SUMMARY:7. Kreisklasse Sportfreunde Grande-Kuddewörde II vs SV Grün-Weiß Neritz  (3)
UID:8f2462ad-b2ed-6d7a-e053-1fc7a80a46f4
STATUS:CONFIRMED
LAST-MODIFIED:20190802T145239Z
DESCRIPTION:Herren - 7. Kreisklasse - Stormarn\nBegegnungs-Nr: 3\nHeim: Sportfreunde Grande-Kuddewörde II\nGast: SV Grün-Weiß Neritz \n
LOCATION:
CATEGORIES:Saison 2018/19
END:VEVENT
BEGIN:VEVENT
DTSTAMP:20260425T180158Z
DTSTART;TZID=Europe/Berlin:20190131T200000
DTEND;TZID=Europe/Berlin:20190131T230000
SUMMARY:7. Kreisklasse TSV Bargteheide XI vs SV Grün-Weiß Neritz  (43)
UID:8f2462ad-b48a-6d7a-e053-1fc7a80a46f4
STATUS:CONFIRMED
LAST-MODIFIED:20190802T145239Z
DESCRIPTION:Herren - 7. Kreisklasse - Stormarn\nBegegnungs-Nr: 43\nHeim: TSV Bargteheide XI\nGast: SV Grün-Weiß Neritz \n
LOCATION:
CATEGORIES:Saison 2018/19
END:VEVENT
BEGIN:VEVENT
DTSTAMP:20260425T180158Z
DTSTART;TZID=Europe/Berlin:20190404T200000
DTEND;TZID=Europe/Berlin:20190404T230000
SUMMARY:7. Kreisklasse TSV Grabau IV vs SV Grün-Weiß Neritz  (55)
UID:8f2462ad-b575-6d7a-e053-1fc7a80a46f4
STATUS:CONFIRMED
LAST-MODIFIED:20190802T145239Z
DESCRIPTION:Herren - 7. Kreisklasse - Stormarn\nBegegnungs-Nr: 55\nHeim: TSV Grabau IV\nGast: SV Grün-Weiß Neritz \n
LOCATION:
CATEGORIES:Saison 2018/19
END:VEVENT
BEGIN:VEVENT
DTSTAMP:20260425T180158Z
DTSTART;TZID=Europe/Berlin:20190301T200000
DTEND;TZID=Europe/Berlin:20190301T230000
SUMMARY:7. Kreisklasse TTG Elmenh./Fischbek VII vs SV Grün-Weiß Neritz  (60)
UID:8f2462ad-b5df-6d7a-e053-1fc7a80a46f4
STATUS:CONFIRMED
LAST-MODIFIED:20190802T145239Z
DESCRIPTION:Herren - 7. Kreisklasse - Stormarn\nBegegnungs-Nr: 60\nHeim: TTG Elmenh./Fischbek VII\nGast: SV Grün-Weiß Neritz \n
LOCATION:
CATEGORIES:Saison 2018/19
END:VEVENT
BEGIN:VEVENT
DTSTAMP:20260425T180158Z
DTSTART;TZID=Europe/Berlin:20190304T200000
DTEND;TZID=Europe/Berlin:20190304T230000
SUMMARY:7. Kreisklasse TTG Elmenh./Fischbek VIII vs SV Grün-Weiß Neritz  (62)
UID:8f2462ad-b608-6d7a-e053-1fc7a80a46f4
STATUS:CONFIRMED
LAST-MODIFIED:20190802T145239Z
DESCRIPTION:Herren - 7. Kreisklasse - Stormarn\nBegegnungs-Nr: 62\nHeim: TTG Elmenh./Fischbek VIII\nGast: SV Grün-Weiß Neritz \n
LOCATION:
CATEGORIES:Saison 2018/19
END:VEVENT
END:VCALENDAR
