BEGIN:VCALENDAR
PRODID:-//nuDatenautomaten//framework iCal4j //DE
VERSION:2.0
CALSCALE:GREGORIAN
BEGIN:VTIMEZONE
TZID:Europe/Berlin
LAST-MODIFIED:20260306T231828Z
TZURL:https://www.tzurl.org/zoneinfo/Europe/Berlin
X-LIC-LOCATION:Europe/Berlin
X-PROLEPTIC-TZNAME:LMT
BEGIN:STANDARD
TZNAME:CET
TZOFFSETFROM:+005328
TZOFFSETTO:+0100
DTSTART:18930401T000000
END:STANDARD
BEGIN:DAYLIGHT
TZNAME:CEST
TZOFFSETFROM:+0100
TZOFFSETTO:+0200
DTSTART:19160430T230000
RDATE:19400401T020000
RDATE:19430329T020000
RDATE:19460414T020000
RDATE:19470406T030000
RDATE:19480418T020000
RDATE:19490410T020000
RDATE:19800406T020000
END:DAYLIGHT
BEGIN:STANDARD
TZNAME:CET
TZOFFSETFROM:+0200
TZOFFSETTO:+0100
DTSTART:19161001T010000
RDATE:19421102T030000
RDATE:19431004T030000
RDATE:19441002T030000
RDATE:19451118T030000
RDATE:19461007T030000
END:STANDARD
BEGIN:DAYLIGHT
TZNAME:CEST
TZOFFSETFROM:+0100
TZOFFSETTO:+0200
DTSTART:19170416T020000
RRULE:FREQ=YEARLY;UNTIL=19180415T010000Z;BYMONTH=4;BYDAY=3MO
END:DAYLIGHT
BEGIN:STANDARD
TZNAME:CET
TZOFFSETFROM:+0200
TZOFFSETTO:+0100
DTSTART:19170917T030000
RRULE:FREQ=YEARLY;UNTIL=19180916T010000Z;BYMONTH=9;BYDAY=3MO
END:STANDARD
BEGIN:DAYLIGHT
TZNAME:CEST
TZOFFSETFROM:+0100
TZOFFSETTO:+0200
DTSTART:19440403T020000
RRULE:FREQ=YEARLY;UNTIL=19450402T010000Z;BYMONTH=4;BYDAY=1MO
END:DAYLIGHT
BEGIN:DAYLIGHT
TZNAME:CEMT
TZOFFSETFROM:+0200
TZOFFSETTO:+0300
DTSTART:19450524T020000
RDATE:19470511T030000
END:DAYLIGHT
BEGIN:DAYLIGHT
TZNAME:CEST
TZOFFSETFROM:+0300
TZOFFSETTO:+0200
DTSTART:19450924T030000
RDATE:19470629T030000
END:DAYLIGHT
BEGIN:STANDARD
TZNAME:CET
TZOFFSETFROM:+0100
TZOFFSETTO:+0100
DTSTART:19460101T000000
RDATE:19800101T000000
END:STANDARD
BEGIN:STANDARD
TZNAME:CET
TZOFFSETFROM:+0200
TZOFFSETTO:+0100
DTSTART:19471005T030000
RRULE:FREQ=YEARLY;UNTIL=19491002T010000Z;BYMONTH=10;BYDAY=1SU
END:STANDARD
BEGIN:STANDARD
TZNAME:CET
TZOFFSETFROM:+0200
TZOFFSETTO:+0100
DTSTART:19800928T030000
RRULE:FREQ=YEARLY;UNTIL=19950924T010000Z;BYMONTH=9;BYDAY=-1SU
END:STANDARD
BEGIN:DAYLIGHT
TZNAME:CEST
TZOFFSETFROM:+0100
TZOFFSETTO:+0200
DTSTART:19810329T020000
RRULE:FREQ=YEARLY;BYMONTH=3;BYDAY=-1SU
END:DAYLIGHT
BEGIN:STANDARD
TZNAME:CET
TZOFFSETFROM:+0200
TZOFFSETTO:+0100
DTSTART:19961027T030000
RRULE:FREQ=YEARLY;BYMONTH=10;BYDAY=-1SU
END:STANDARD
END:VTIMEZONE
BEGIN:VEVENT
DTSTAMP:20260423T080439Z
DTSTART;TZID=Europe/Berlin:20190220T193400
DTEND;TZID=Europe/Berlin:20190220T223400
SUMMARY:1. Kreisklasse A TTC Die Sterne Elmshorn IV vs Barmstedter MTV III (132)
UID:8f2462ac-7474-6d7a-e053-1fc7a80a46f4
STATUS:CONFIRMED
LAST-MODIFIED:20190802T145130Z
DESCRIPTION:Herren - 1. Kreisklasse A\nBegegnungs-Nr: 132\nHeim: TTC Die Sterne Elmshorn IV\nGast: Barmstedter MTV III\n
LOCATION:
CATEGORIES:Saison 2018/19
END:VEVENT
BEGIN:VEVENT
DTSTAMP:20260423T080439Z
DTSTART;TZID=Europe/Berlin:20190227T193400
DTEND;TZID=Europe/Berlin:20190227T223400
SUMMARY:1. Kreisklasse A TTC Die Sterne Elmshorn IV vs TTC Seeth-Ekholt III (137)
UID:8f2462ac-74de-6d7a-e053-1fc7a80a46f4
STATUS:CONFIRMED
LAST-MODIFIED:20190802T145130Z
DESCRIPTION:Herren - 1. Kreisklasse A\nBegegnungs-Nr: 137\nHeim: TTC Die Sterne Elmshorn IV\nGast: TTC Seeth-Ekholt III\n
LOCATION:
CATEGORIES:Saison 2018/19
END:VEVENT
BEGIN:VEVENT
DTSTAMP:20260423T080439Z
DTSTART;TZID=Europe/Berlin:20190313T193400
DTEND;TZID=Europe/Berlin:20190313T223400
SUMMARY:1. Kreisklasse A TTC Die Sterne Elmshorn IV vs TuS Appen II (150)
UID:8f2462ac-75e4-6d7a-e053-1fc7a80a46f4
STATUS:CONFIRMED
LAST-MODIFIED:20190802T145130Z
DESCRIPTION:Herren - 1. Kreisklasse A\nBegegnungs-Nr: 150\nHeim: TTC Die Sterne Elmshorn IV\nGast: TuS Appen II\n
LOCATION:
CATEGORIES:Saison 2018/19
END:VEVENT
BEGIN:VEVENT
DTSTAMP:20260423T080439Z
DTSTART;TZID=Europe/Berlin:20190327T193400
DTEND;TZID=Europe/Berlin:20190327T223400
SUMMARY:1. Kreisklasse A TTC Die Sterne Elmshorn IV vs SuS Waldenau II (162)
UID:8f2462ac-76d7-6d7a-e053-1fc7a80a46f4
STATUS:CONFIRMED
LAST-MODIFIED:20190802T145131Z
DESCRIPTION:Herren - 1. Kreisklasse A\nBegegnungs-Nr: 162\nHeim: TTC Die Sterne Elmshorn IV\nGast: SuS Waldenau II\n
LOCATION:
CATEGORIES:Saison 2018/19
END:VEVENT
BEGIN:VEVENT
DTSTAMP:20260423T080439Z
DTSTART;TZID=Europe/Berlin:20180919T193400
DTEND;TZID=Europe/Berlin:20180919T223400
SUMMARY:1. Kreisklasse A TTC Die Sterne Elmshorn IV vs MTV Ellerhoop  (14)
UID:8f2462ac-6d1f-6d7a-e053-1fc7a80a46f4
STATUS:CONFIRMED
LAST-MODIFIED:20190802T145128Z
DESCRIPTION:Herren - 1. Kreisklasse A\nBegegnungs-Nr: 14\nHeim: TTC Die Sterne Elmshorn IV\nGast: MTV Ellerhoop \n
LOCATION:
CATEGORIES:Saison 2018/19
END:VEVENT
BEGIN:VEVENT
DTSTAMP:20260423T080439Z
DTSTART;TZID=Europe/Berlin:20181205T193400
DTEND;TZID=Europe/Berlin:20181205T223400
SUMMARY:1. Kreisklasse A TTC Die Sterne Elmshorn IV vs TSV Ellerbek III (26)
UID:8f2462ac-6e25-6d7a-e053-1fc7a80a46f4
STATUS:CONFIRMED
LAST-MODIFIED:20190802T145129Z
DESCRIPTION:Herren - 1. Kreisklasse A\nBegegnungs-Nr: 26\nHeim: TTC Die Sterne Elmshorn IV\nGast: TSV Ellerbek III\n
LOCATION:
CATEGORIES:Saison 2018/19
END:VEVENT
BEGIN:VEVENT
DTSTAMP:20260423T080439Z
DTSTART;TZID=Europe/Berlin:20181114T193400
DTEND;TZID=Europe/Berlin:20181114T223400
SUMMARY:1. Kreisklasse A TTC Die Sterne Elmshorn IV vs FTSV Fortuna Elmshorn III (43)
UID:8f2462ac-6f9c-6d7a-e053-1fc7a80a46f4
STATUS:CONFIRMED
LAST-MODIFIED:20190802T145129Z
DESCRIPTION:Herren - 1. Kreisklasse A\nBegegnungs-Nr: 43\nHeim: TTC Die Sterne Elmshorn IV\nGast: FTSV Fortuna Elmshorn III\n
LOCATION:
CATEGORIES:Saison 2018/19
END:VEVENT
BEGIN:VEVENT
DTSTAMP:20260423T080439Z
DTSTART;TZID=Europe/Berlin:20181128T193400
DTEND;TZID=Europe/Berlin:20181128T223400
SUMMARY:1. Kreisklasse A TTC Die Sterne Elmshorn IV vs TSV Uetersen III (56)
UID:8f2462ac-70b5-6d7a-e053-1fc7a80a46f4
STATUS:CONFIRMED
LAST-MODIFIED:20190802T145129Z
DESCRIPTION:Herren - 1. Kreisklasse A\nBegegnungs-Nr: 56\nHeim: TTC Die Sterne Elmshorn IV\nGast: TSV Uetersen III\n
LOCATION:
CATEGORIES:Saison 2018/19
END:VEVENT
BEGIN:VEVENT
DTSTAMP:20260423T080439Z
DTSTART;TZID=Europe/Berlin:20180912T193400
DTEND;TZID=Europe/Berlin:20180912T223400
SUMMARY:1. Kreisklasse A TTC Die Sterne Elmshorn IV vs Moorreger SV V (8)
UID:8f2462ac-71c2-6d7a-e053-1fc7a80a46f4
STATUS:CONFIRMED
LAST-MODIFIED:20190802T145129Z
DESCRIPTION:Herren - 1. Kreisklasse A\nBegegnungs-Nr: 8\nHeim: TTC Die Sterne Elmshorn IV\nGast: Moorreger SV V\n
LOCATION:
CATEGORIES:Saison 2018/19
END:VEVENT
BEGIN:VEVENT
DTSTAMP:20260423T080439Z
DTSTART;TZID=Europe/Berlin:20190128T193400
DTEND;TZID=Europe/Berlin:20190128T223400
SUMMARY:1. Kreisklasse A TTC Die Sterne Elmshorn IV vs TSV Prisdorf II (102)
UID:8f2462ac-71ff-6d7a-e053-1fc7a80a46f4
STATUS:CONFIRMED
LAST-MODIFIED:20190802T145129Z
DESCRIPTION:Herren - 1. Kreisklasse A\nBegegnungs-Nr: 102\nHeim: TTC Die Sterne Elmshorn IV\nGast: TSV Prisdorf II\n
LOCATION:
CATEGORIES:Saison 2018/19
END:VEVENT
BEGIN:VEVENT
DTSTAMP:20260423T080439Z
DTSTART;TZID=Europe/Berlin:20190304T193400
DTEND;TZID=Europe/Berlin:20190304T223400
SUMMARY:1. Kreisklasse A TTC Die Sterne Elmshorn IV vs TSV Gut-Heil Heist II (120)
UID:8f2462ac-7378-6d7a-e053-1fc7a80a46f4
STATUS:CONFIRMED
LAST-MODIFIED:20190802T145130Z
DESCRIPTION:Herren - 1. Kreisklasse A\nBegegnungs-Nr: 120\nHeim: TTC Die Sterne Elmshorn IV\nGast: TSV Gut-Heil Heist II\n
LOCATION:
CATEGORIES:Saison 2018/19
END:VEVENT
BEGIN:VEVENT
DTSTAMP:20260423T080439Z
DTSTART;TZID=Europe/Berlin:20190215T201500
DTEND;TZID=Europe/Berlin:20190215T231500
SUMMARY:1. Kreisklasse A TSV Ellerbek III vs TTC Die Sterne Elmshorn IV (128)
UID:8f2462ac-7426-6d7a-e053-1fc7a80a46f4
STATUS:CONFIRMED
LAST-MODIFIED:20190802T145130Z
DESCRIPTION:Herren - 1. Kreisklasse A\nBegegnungs-Nr: 128\nHeim: TSV Ellerbek III\nGast: TTC Die Sterne Elmshorn IV\n
LOCATION:
CATEGORIES:Saison 2018/19
END:VEVENT
BEGIN:VEVENT
DTSTAMP:20260423T080439Z
DTSTART;TZID=Europe/Berlin:20190308T201500
DTEND;TZID=Europe/Berlin:20190308T231500
SUMMARY:1. Kreisklasse A FTSV Fortuna Elmshorn III vs TTC Die Sterne Elmshorn IV (148)
UID:8f2462ac-75bb-6d7a-e053-1fc7a80a46f4
STATUS:CONFIRMED
LAST-MODIFIED:20190802T145130Z
DESCRIPTION:Herren - 1. Kreisklasse A\nBegegnungs-Nr: 148\nHeim: FTSV Fortuna Elmshorn III\nGast: TTC Die Sterne Elmshorn IV\n
LOCATION:
CATEGORIES:Saison 2018/19
END:VEVENT
BEGIN:VEVENT
DTSTAMP:20260423T080439Z
DTSTART;TZID=Europe/Berlin:20190322T201500
DTEND;TZID=Europe/Berlin:20190322T231500
SUMMARY:1. Kreisklasse A TSV Uetersen III vs TTC Die Sterne Elmshorn IV (157)
UID:8f2462ac-7673-6d7a-e053-1fc7a80a46f4
STATUS:CONFIRMED
LAST-MODIFIED:20190802T145130Z
DESCRIPTION:Herren - 1. Kreisklasse A\nBegegnungs-Nr: 157\nHeim: TSV Uetersen III\nGast: TTC Die Sterne Elmshorn IV\n
LOCATION:
CATEGORIES:Saison 2018/19
END:VEVENT
BEGIN:VEVENT
DTSTAMP:20260423T080439Z
DTSTART;TZID=Europe/Berlin:20180928T203000
DTEND;TZID=Europe/Berlin:20180928T233000
SUMMARY:1. Kreisklasse A TSV Gut-Heil Heist II vs TTC Die Sterne Elmshorn IV (24)
UID:8f2462ac-6dfd-6d7a-e053-1fc7a80a46f4
STATUS:CONFIRMED
LAST-MODIFIED:20190802T145129Z
DESCRIPTION:Herren - 1. Kreisklasse A\nBegegnungs-Nr: 24\nHeim: TSV Gut-Heil Heist II\nGast: TTC Die Sterne Elmshorn IV\n
LOCATION:
CATEGORIES:Saison 2018/19
END:VEVENT
BEGIN:VEVENT
DTSTAMP:20260423T080439Z
DTSTART;TZID=Europe/Berlin:20180907T194500
DTEND;TZID=Europe/Berlin:20180907T224500
SUMMARY:1. Kreisklasse A TSV Prisdorf II vs TTC Die Sterne Elmshorn IV (3)
UID:8f2462ac-6e74-6d7a-e053-1fc7a80a46f4
STATUS:CONFIRMED
LAST-MODIFIED:20190802T145129Z
DESCRIPTION:Herren - 1. Kreisklasse A\nBegegnungs-Nr: 3\nHeim: TSV Prisdorf II\nGast: TTC Die Sterne Elmshorn IV\n
LOCATION:
CATEGORIES:Saison 2018/19
END:VEVENT
BEGIN:VEVENT
DTSTAMP:20260423T080439Z
DTSTART;TZID=Europe/Berlin:20181102T201500
DTEND;TZID=Europe/Berlin:20181102T231500
SUMMARY:1. Kreisklasse A Barmstedter MTV III vs TTC Die Sterne Elmshorn IV (35)
UID:8f2462ac-6efa-6d7a-e053-1fc7a80a46f4
STATUS:CONFIRMED
LAST-MODIFIED:20190802T145129Z
DESCRIPTION:Herren - 1. Kreisklasse A\nBegegnungs-Nr: 35\nHeim: Barmstedter MTV III\nGast: TTC Die Sterne Elmshorn IV\n
LOCATION:
CATEGORIES:Saison 2018/19
END:VEVENT
BEGIN:VEVENT
DTSTAMP:20260423T080439Z
DTSTART;TZID=Europe/Berlin:20181105T201500
DTEND;TZID=Europe/Berlin:20181105T231500
SUMMARY:1. Kreisklasse A TTC Seeth-Ekholt III vs TTC Die Sterne Elmshorn IV (38)
UID:8f2462ac-6f36-6d7a-e053-1fc7a80a46f4
STATUS:CONFIRMED
LAST-MODIFIED:20190802T145129Z
DESCRIPTION:Herren - 1. Kreisklasse A\nBegegnungs-Nr: 38\nHeim: TTC Seeth-Ekholt III\nGast: TTC Die Sterne Elmshorn IV\n
LOCATION:
CATEGORIES:Saison 2018/19
END:VEVENT
BEGIN:VEVENT
DTSTAMP:20260423T080439Z
DTSTART;TZID=Europe/Berlin:20181123T201500
DTEND;TZID=Europe/Berlin:20181123T231500
SUMMARY:1. Kreisklasse A TuS Appen II vs TTC Die Sterne Elmshorn IV (52)
UID:8f2462ac-7068-6d7a-e053-1fc7a80a46f4
STATUS:CONFIRMED
LAST-MODIFIED:20190802T145129Z
DESCRIPTION:Herren - 1. Kreisklasse A\nBegegnungs-Nr: 52\nHeim: TuS Appen II\nGast: TTC Die Sterne Elmshorn IV\n
LOCATION:
CATEGORIES:Saison 2018/19
END:VEVENT
BEGIN:VEVENT
DTSTAMP:20260423T080439Z
DTSTART;TZID=Europe/Berlin:20181204T201500
DTEND;TZID=Europe/Berlin:20181204T231500
SUMMARY:1. Kreisklasse A SuS Waldenau II vs TTC Die Sterne Elmshorn IV (66)
UID:8f2462ac-719a-6d7a-e053-1fc7a80a46f4
STATUS:CONFIRMED
LAST-MODIFIED:20190802T145129Z
DESCRIPTION:Herren - 1. Kreisklasse A\nBegegnungs-Nr: 66\nHeim: SuS Waldenau II\nGast: TTC Die Sterne Elmshorn IV\n
LOCATION:
CATEGORIES:Saison 2018/19
END:VEVENT
BEGIN:VEVENT
DTSTAMP:20260423T080439Z
DTSTART;TZID=Europe/Berlin:20190121T193000
DTEND;TZID=Europe/Berlin:20190121T223000
SUMMARY:1. Kreisklasse A Moorreger SV V vs TTC Die Sterne Elmshorn IV (107)
UID:8f2462ac-7269-6d7a-e053-1fc7a80a46f4
STATUS:CONFIRMED
LAST-MODIFIED:20190802T145130Z
DESCRIPTION:Herren - 1. Kreisklasse A\nBegegnungs-Nr: 107\nHeim: Moorreger SV V\nGast: TTC Die Sterne Elmshorn IV\n
LOCATION:
CATEGORIES:Saison 2018/19
END:VEVENT
BEGIN:VEVENT
DTSTAMP:20260423T080439Z
DTSTART;TZID=Europe/Berlin:20190130T193400
DTEND;TZID=Europe/Berlin:20190130T223400
SUMMARY:1. Kreisklasse A MTV Ellerhoop  vs TTC Die Sterne Elmshorn IV (114)
UID:8f2462ac-72fc-6d7a-e053-1fc7a80a46f4
STATUS:CONFIRMED
LAST-MODIFIED:20190802T145130Z
DESCRIPTION:Herren - 1. Kreisklasse A\nBegegnungs-Nr: 114\nHeim: MTV Ellerhoop \nGast: TTC Die Sterne Elmshorn IV\n
LOCATION:
CATEGORIES:Saison 2018/19
END:VEVENT
END:VCALENDAR
