BEGIN:VCALENDAR
PRODID:-//nuDatenautomaten//framework iCal4j //DE
VERSION:2.0
CALSCALE:GREGORIAN
BEGIN:VTIMEZONE
TZID:Europe/Berlin
LAST-MODIFIED:20260306T231828Z
TZURL:https://www.tzurl.org/zoneinfo/Europe/Berlin
X-LIC-LOCATION:Europe/Berlin
X-PROLEPTIC-TZNAME:LMT
BEGIN:STANDARD
TZNAME:CET
TZOFFSETFROM:+005328
TZOFFSETTO:+0100
DTSTART:18930401T000000
END:STANDARD
BEGIN:DAYLIGHT
TZNAME:CEST
TZOFFSETFROM:+0100
TZOFFSETTO:+0200
DTSTART:19160430T230000
RDATE:19400401T020000
RDATE:19430329T020000
RDATE:19460414T020000
RDATE:19470406T030000
RDATE:19480418T020000
RDATE:19490410T020000
RDATE:19800406T020000
END:DAYLIGHT
BEGIN:STANDARD
TZNAME:CET
TZOFFSETFROM:+0200
TZOFFSETTO:+0100
DTSTART:19161001T010000
RDATE:19421102T030000
RDATE:19431004T030000
RDATE:19441002T030000
RDATE:19451118T030000
RDATE:19461007T030000
END:STANDARD
BEGIN:DAYLIGHT
TZNAME:CEST
TZOFFSETFROM:+0100
TZOFFSETTO:+0200
DTSTART:19170416T020000
RRULE:FREQ=YEARLY;UNTIL=19180415T010000Z;BYMONTH=4;BYDAY=3MO
END:DAYLIGHT
BEGIN:STANDARD
TZNAME:CET
TZOFFSETFROM:+0200
TZOFFSETTO:+0100
DTSTART:19170917T030000
RRULE:FREQ=YEARLY;UNTIL=19180916T010000Z;BYMONTH=9;BYDAY=3MO
END:STANDARD
BEGIN:DAYLIGHT
TZNAME:CEST
TZOFFSETFROM:+0100
TZOFFSETTO:+0200
DTSTART:19440403T020000
RRULE:FREQ=YEARLY;UNTIL=19450402T010000Z;BYMONTH=4;BYDAY=1MO
END:DAYLIGHT
BEGIN:DAYLIGHT
TZNAME:CEMT
TZOFFSETFROM:+0200
TZOFFSETTO:+0300
DTSTART:19450524T020000
RDATE:19470511T030000
END:DAYLIGHT
BEGIN:DAYLIGHT
TZNAME:CEST
TZOFFSETFROM:+0300
TZOFFSETTO:+0200
DTSTART:19450924T030000
RDATE:19470629T030000
END:DAYLIGHT
BEGIN:STANDARD
TZNAME:CET
TZOFFSETFROM:+0100
TZOFFSETTO:+0100
DTSTART:19460101T000000
RDATE:19800101T000000
END:STANDARD
BEGIN:STANDARD
TZNAME:CET
TZOFFSETFROM:+0200
TZOFFSETTO:+0100
DTSTART:19471005T030000
RRULE:FREQ=YEARLY;UNTIL=19491002T010000Z;BYMONTH=10;BYDAY=1SU
END:STANDARD
BEGIN:STANDARD
TZNAME:CET
TZOFFSETFROM:+0200
TZOFFSETTO:+0100
DTSTART:19800928T030000
RRULE:FREQ=YEARLY;UNTIL=19950924T010000Z;BYMONTH=9;BYDAY=-1SU
END:STANDARD
BEGIN:DAYLIGHT
TZNAME:CEST
TZOFFSETFROM:+0100
TZOFFSETTO:+0200
DTSTART:19810329T020000
RRULE:FREQ=YEARLY;BYMONTH=3;BYDAY=-1SU
END:DAYLIGHT
BEGIN:STANDARD
TZNAME:CET
TZOFFSETFROM:+0200
TZOFFSETTO:+0100
DTSTART:19961027T030000
RRULE:FREQ=YEARLY;BYMONTH=10;BYDAY=-1SU
END:STANDARD
END:VTIMEZONE
BEGIN:VEVENT
DTSTAMP:20260422T140732Z
DTSTART;TZID=Europe/Berlin:20181026T191500
DTEND;TZID=Europe/Berlin:20181026T221500
SUMMARY:3. Kreisklasse TSV Gadeland Neumünster III vs TS Einfeld Neumünster IV (18)
UID:8f2462ab-be74-6d7a-e053-1fc7a80a46f4
STATUS:CONFIRMED
LAST-MODIFIED:20190802T145049Z
DESCRIPTION:Herren - 3. Kreisklasse  - Neumünster\nBegegnungs-Nr: 18\nHeim: TSV Gadeland Neumünster III\nGast: TS Einfeld Neumünster IV\n
LOCATION:
CATEGORIES:Saison 2018/19
END:VEVENT
BEGIN:VEVENT
DTSTAMP:20260422T140732Z
DTSTART;TZID=Europe/Berlin:20181109T191500
DTEND;TZID=Europe/Berlin:20181109T221500
SUMMARY:3. Kreisklasse TSV Gadeland Neumünster III vs SV Wasbek V (28)
UID:8f2462ab-bf5c-6d7a-e053-1fc7a80a46f4
STATUS:CONFIRMED
LAST-MODIFIED:20190802T145049Z
DESCRIPTION:Herren - 3. Kreisklasse  - Neumünster\nBegegnungs-Nr: 28\nHeim: TSV Gadeland Neumünster III\nGast: SV Wasbek V\n
LOCATION:
CATEGORIES:Saison 2018/19
END:VEVENT
BEGIN:VEVENT
DTSTAMP:20260422T140732Z
DTSTART;TZID=Europe/Berlin:20181130T191500
DTEND;TZID=Europe/Berlin:20181130T221500
SUMMARY:3. Kreisklasse TSV Gadeland Neumünster III vs Großenasper SV II (44)
UID:8f2462ab-c0cb-6d7a-e053-1fc7a80a46f4
STATUS:CONFIRMED
LAST-MODIFIED:20190802T145050Z
DESCRIPTION:Herren - 3. Kreisklasse  - Neumünster\nBegegnungs-Nr: 44\nHeim: TSV Gadeland Neumünster III\nGast: Großenasper SV II\n
LOCATION:
CATEGORIES:Saison 2018/19
END:VEVENT
BEGIN:VEVENT
DTSTAMP:20260422T140732Z
DTSTART;TZID=Europe/Berlin:20181214T191500
DTEND;TZID=Europe/Berlin:20181214T221500
SUMMARY:3. Kreisklasse TSV Gadeland Neumünster III vs Blau-Weiß Wittorf Neumünster IV (53)
UID:8f2462ab-c196-6d7a-e053-1fc7a80a46f4
STATUS:CONFIRMED
LAST-MODIFIED:20190802T145050Z
DESCRIPTION:Herren - 3. Kreisklasse  - Neumünster\nBegegnungs-Nr: 53\nHeim: TSV Gadeland Neumünster III\nGast: Blau-Weiß Wittorf Neumünster IV\n
LOCATION:
CATEGORIES:Saison 2018/19
END:VEVENT
BEGIN:VEVENT
DTSTAMP:20260422T140732Z
DTSTART;TZID=Europe/Berlin:20181023T191500
DTEND;TZID=Europe/Berlin:20181023T221500
SUMMARY:3. Kreisklasse TSV Gadeland Neumünster III vs SV Boostedt V (8)
UID:8f2462ab-c1f8-6d7a-e053-1fc7a80a46f4
STATUS:CONFIRMED
LAST-MODIFIED:20190802T145050Z
DESCRIPTION:Herren - 3. Kreisklasse  - Neumünster\nBegegnungs-Nr: 8\nHeim: TSV Gadeland Neumünster III\nGast: SV Boostedt V\n
LOCATION:
CATEGORIES:Saison 2018/19
END:VEVENT
BEGIN:VEVENT
DTSTAMP:20260422T140732Z
DTSTART;TZID=Europe/Berlin:20190312T191500
DTEND;TZID=Europe/Berlin:20190312T221500
SUMMARY:3. Kreisklasse TSV Gadeland Neumünster III vs SV Tungendorf VII (107)
UID:8f2462ab-c2b6-6d7a-e053-1fc7a80a46f4
STATUS:CONFIRMED
LAST-MODIFIED:20190802T145050Z
DESCRIPTION:Herren - 3. Kreisklasse  - Neumünster\nBegegnungs-Nr: 107\nHeim: TSV Gadeland Neumünster III\nGast: SV Tungendorf VII\n
LOCATION:
CATEGORIES:Saison 2018/19
END:VEVENT
BEGIN:VEVENT
DTSTAMP:20260422T140732Z
DTSTART;TZID=Europe/Berlin:20190226T191500
DTEND;TZID=Europe/Berlin:20190226T221500
SUMMARY:3. Kreisklasse TSV Gadeland Neumünster III vs TTC Rendswühren II (62)
UID:8f2462ab-c379-6d7a-e053-1fc7a80a46f4
STATUS:CONFIRMED
LAST-MODIFIED:20190802T145050Z
DESCRIPTION:Herren - 3. Kreisklasse  - Neumünster\nBegegnungs-Nr: 62\nHeim: TSV Gadeland Neumünster III\nGast: TTC Rendswühren II\n
LOCATION:
CATEGORIES:Saison 2018/19
END:VEVENT
BEGIN:VEVENT
DTSTAMP:20260422T140732Z
DTSTART;TZID=Europe/Berlin:20190122T191500
DTEND;TZID=Europe/Berlin:20190122T221500
SUMMARY:3. Kreisklasse TSV Gadeland Neumünster III vs SV Wasbek IV (72)
UID:8f2462ab-c447-6d7a-e053-1fc7a80a46f4
STATUS:CONFIRMED
LAST-MODIFIED:20190802T145050Z
DESCRIPTION:Herren - 3. Kreisklasse  - Neumünster\nBegegnungs-Nr: 72\nHeim: TSV Gadeland Neumünster III\nGast: SV Wasbek IV\n
LOCATION:
CATEGORIES:Saison 2018/19
END:VEVENT
BEGIN:VEVENT
DTSTAMP:20260422T140732Z
DTSTART;TZID=Europe/Berlin:20190319T191500
DTEND;TZID=Europe/Berlin:20190319T221500
SUMMARY:3. Kreisklasse TSV Gadeland Neumünster III vs TSV 05 Neumünster IV (81)
UID:8f2462ab-c502-6d7a-e053-1fc7a80a46f4
STATUS:CONFIRMED
LAST-MODIFIED:20190802T145050Z
DESCRIPTION:Herren - 3. Kreisklasse  - Neumünster\nBegegnungs-Nr: 81\nHeim: TSV Gadeland Neumünster III\nGast: TSV 05 Neumünster IV\n
LOCATION:
CATEGORIES:Saison 2018/19
END:VEVENT
BEGIN:VEVENT
DTSTAMP:20260422T140732Z
DTSTART;TZID=Europe/Berlin:20190219T191500
DTEND;TZID=Europe/Berlin:20190219T221500
SUMMARY:3. Kreisklasse TSV Gadeland Neumünster III vs SG Westend Neumünster IV (92)
UID:8f2462ab-c5e7-6d7a-e053-1fc7a80a46f4
STATUS:CONFIRMED
LAST-MODIFIED:20190802T145051Z
DESCRIPTION:Herren - 3. Kreisklasse  - Neumünster\nBegegnungs-Nr: 92\nHeim: TSV Gadeland Neumünster III\nGast: SG Westend Neumünster IV\n
LOCATION:
CATEGORIES:Saison 2018/19
END:VEVENT
BEGIN:VEVENT
DTSTAMP:20260422T140732Z
DTSTART;TZID=Europe/Berlin:20181217T193000
DTEND;TZID=Europe/Berlin:20181217T223000
SUMMARY:3. Kreisklasse SV Wasbek IV vs TSV Gadeland Neumünster III (11)
UID:8f2462ab-bde4-6d7a-e053-1fc7a80a46f4
STATUS:CONFIRMED
LAST-MODIFIED:20190802T145049Z
DESCRIPTION:Herren - 3. Kreisklasse  - Neumünster\nBegegnungs-Nr: 11\nHeim: SV Wasbek IV\nGast: TSV Gadeland Neumünster III\n
LOCATION:
CATEGORIES:Saison 2018/19
END:VEVENT
BEGIN:VEVENT
DTSTAMP:20260422T140732Z
DTSTART;TZID=Europe/Berlin:20181121T191500
DTEND;TZID=Europe/Berlin:20181121T221500
SUMMARY:3. Kreisklasse TSV 05 Neumünster IV vs TSV Gadeland Neumünster III (24)
UID:8f2462ab-bf07-6d7a-e053-1fc7a80a46f4
STATUS:CONFIRMED
LAST-MODIFIED:20190802T145049Z
DESCRIPTION:Herren - 3. Kreisklasse  - Neumünster\nBegegnungs-Nr: 24\nHeim: TSV 05 Neumünster IV\nGast: TSV Gadeland Neumünster III\n
LOCATION:
CATEGORIES:Saison 2018/19
END:VEVENT
BEGIN:VEVENT
DTSTAMP:20260422T140732Z
DTSTART;TZID=Europe/Berlin:20181113T191500
DTEND;TZID=Europe/Berlin:20181113T221500
SUMMARY:3. Kreisklasse SG Westend Neumünster IV vs TSV Gadeland Neumünster III (33)
UID:8f2462ab-bfd3-6d7a-e053-1fc7a80a46f4
STATUS:CONFIRMED
LAST-MODIFIED:20190802T145049Z
DESCRIPTION:Herren - 3. Kreisklasse  - Neumünster\nBegegnungs-Nr: 33\nHeim: SG Westend Neumünster IV\nGast: TSV Gadeland Neumünster III\n
LOCATION:
CATEGORIES:Saison 2018/19
END:VEVENT
BEGIN:VEVENT
DTSTAMP:20260422T140732Z
DTSTART;TZID=Europe/Berlin:20180913T193000
DTEND;TZID=Europe/Berlin:20180913T223000
SUMMARY:3. Kreisklasse TTC Rendswühren II vs TSV Gadeland Neumünster III (4)
UID:8f2462ab-c064-6d7a-e053-1fc7a80a46f4
STATUS:CONFIRMED
LAST-MODIFIED:20190802T145049Z
DESCRIPTION:Herren - 3. Kreisklasse  - Neumünster\nBegegnungs-Nr: 4\nHeim: TTC Rendswühren II\nGast: TSV Gadeland Neumünster III\n
LOCATION:
CATEGORIES:Saison 2018/19
END:VEVENT
BEGIN:VEVENT
DTSTAMP:20260422T140732Z
DTSTART;TZID=Europe/Berlin:20181207T191500
DTEND;TZID=Europe/Berlin:20181207T221500
SUMMARY:3. Kreisklasse SV Tungendorf VII vs TSV Gadeland Neumünster III (49)
UID:8f2462ab-c133-6d7a-e053-1fc7a80a46f4
STATUS:CONFIRMED
LAST-MODIFIED:20190802T145050Z
DESCRIPTION:Herren - 3. Kreisklasse  - Neumünster\nBegegnungs-Nr: 49\nHeim: SV Tungendorf VII\nGast: TSV Gadeland Neumünster III\n
LOCATION:
CATEGORIES:Saison 2018/19
END:VEVENT
BEGIN:VEVENT
DTSTAMP:20260422T140732Z
DTSTART;TZID=Europe/Berlin:20190308T193000
DTEND;TZID=Europe/Berlin:20190308T223000
SUMMARY:3. Kreisklasse Großenasper SV II vs TSV Gadeland Neumünster III (105)
UID:8f2462ab-c28b-6d7a-e053-1fc7a80a46f4
STATUS:CONFIRMED
LAST-MODIFIED:20190802T145050Z
DESCRIPTION:Herren - 3. Kreisklasse  - Neumünster\nBegegnungs-Nr: 105\nHeim: Großenasper SV II\nGast: TSV Gadeland Neumünster III\n
LOCATION:
CATEGORIES:Saison 2018/19
END:VEVENT
BEGIN:VEVENT
DTSTAMP:20260422T140732Z
DTSTART;TZID=Europe/Berlin:20190321T191500
DTEND;TZID=Europe/Berlin:20190321T221500
SUMMARY:3. Kreisklasse Blau-Weiß Wittorf Neumünster IV vs TSV Gadeland Neumünster III (112)
UID:8f2462ab-c313-6d7a-e053-1fc7a80a46f4
STATUS:CONFIRMED
LAST-MODIFIED:20190802T145050Z
DESCRIPTION:Herren - 3. Kreisklasse  - Neumünster\nBegegnungs-Nr: 112\nHeim: Blau-Weiß Wittorf Neumünster IV\nGast: TSV Gadeland Neumünster III\n
LOCATION:
CATEGORIES:Saison 2018/19
END:VEVENT
BEGIN:VEVENT
DTSTAMP:20260422T140732Z
DTSTART;TZID=Europe/Berlin:20190114T193000
DTEND;TZID=Europe/Berlin:20190114T223000
SUMMARY:3. Kreisklasse SV Boostedt V vs TSV Gadeland Neumünster III (66)
UID:8f2462ab-c3ca-6d7a-e053-1fc7a80a46f4
STATUS:CONFIRMED
LAST-MODIFIED:20190802T145050Z
DESCRIPTION:Herren - 3. Kreisklasse  - Neumünster\nBegegnungs-Nr: 66\nHeim: SV Boostedt V\nGast: TSV Gadeland Neumünster III\n
LOCATION:
CATEGORIES:Saison 2018/19
END:VEVENT
BEGIN:VEVENT
DTSTAMP:20260422T140732Z
DTSTART;TZID=Europe/Berlin:20190329T191500
DTEND;TZID=Europe/Berlin:20190329T221500
SUMMARY:3. Kreisklasse TS Einfeld Neumünster IV vs TSV Gadeland Neumünster III (79)
UID:8f2462ab-c4d7-6d7a-e053-1fc7a80a46f4
STATUS:CONFIRMED
LAST-MODIFIED:20190802T145050Z
DESCRIPTION:Herren - 3. Kreisklasse  - Neumünster\nBegegnungs-Nr: 79\nHeim: TS Einfeld Neumünster IV\nGast: TSV Gadeland Neumünster III\n
LOCATION:
CATEGORIES:Saison 2018/19
END:VEVENT
BEGIN:VEVENT
DTSTAMP:20260422T140732Z
DTSTART;TZID=Europe/Berlin:20190304T193000
DTEND;TZID=Europe/Berlin:20190304T223000
SUMMARY:3. Kreisklasse SV Wasbek V vs TSV Gadeland Neumünster III (86)
UID:8f2462ab-c567-6d7a-e053-1fc7a80a46f4
STATUS:CONFIRMED
LAST-MODIFIED:20190802T145051Z
DESCRIPTION:Herren - 3. Kreisklasse  - Neumünster\nBegegnungs-Nr: 86\nHeim: SV Wasbek V\nGast: TSV Gadeland Neumünster III\n
LOCATION:
CATEGORIES:Saison 2018/19
END:VEVENT
END:VCALENDAR
