BEGIN:VCALENDAR
PRODID:-//nuDatenautomaten//framework iCal4j //DE
VERSION:2.0
CALSCALE:GREGORIAN
BEGIN:VTIMEZONE
TZID:Europe/Berlin
LAST-MODIFIED:20260306T231828Z
TZURL:https://www.tzurl.org/zoneinfo/Europe/Berlin
X-LIC-LOCATION:Europe/Berlin
X-PROLEPTIC-TZNAME:LMT
BEGIN:STANDARD
TZNAME:CET
TZOFFSETFROM:+005328
TZOFFSETTO:+0100
DTSTART:18930401T000000
END:STANDARD
BEGIN:DAYLIGHT
TZNAME:CEST
TZOFFSETFROM:+0100
TZOFFSETTO:+0200
DTSTART:19160430T230000
RDATE:19400401T020000
RDATE:19430329T020000
RDATE:19460414T020000
RDATE:19470406T030000
RDATE:19480418T020000
RDATE:19490410T020000
RDATE:19800406T020000
END:DAYLIGHT
BEGIN:STANDARD
TZNAME:CET
TZOFFSETFROM:+0200
TZOFFSETTO:+0100
DTSTART:19161001T010000
RDATE:19421102T030000
RDATE:19431004T030000
RDATE:19441002T030000
RDATE:19451118T030000
RDATE:19461007T030000
END:STANDARD
BEGIN:DAYLIGHT
TZNAME:CEST
TZOFFSETFROM:+0100
TZOFFSETTO:+0200
DTSTART:19170416T020000
RRULE:FREQ=YEARLY;UNTIL=19180415T010000Z;BYMONTH=4;BYDAY=3MO
END:DAYLIGHT
BEGIN:STANDARD
TZNAME:CET
TZOFFSETFROM:+0200
TZOFFSETTO:+0100
DTSTART:19170917T030000
RRULE:FREQ=YEARLY;UNTIL=19180916T010000Z;BYMONTH=9;BYDAY=3MO
END:STANDARD
BEGIN:DAYLIGHT
TZNAME:CEST
TZOFFSETFROM:+0100
TZOFFSETTO:+0200
DTSTART:19440403T020000
RRULE:FREQ=YEARLY;UNTIL=19450402T010000Z;BYMONTH=4;BYDAY=1MO
END:DAYLIGHT
BEGIN:DAYLIGHT
TZNAME:CEMT
TZOFFSETFROM:+0200
TZOFFSETTO:+0300
DTSTART:19450524T020000
RDATE:19470511T030000
END:DAYLIGHT
BEGIN:DAYLIGHT
TZNAME:CEST
TZOFFSETFROM:+0300
TZOFFSETTO:+0200
DTSTART:19450924T030000
RDATE:19470629T030000
END:DAYLIGHT
BEGIN:STANDARD
TZNAME:CET
TZOFFSETFROM:+0100
TZOFFSETTO:+0100
DTSTART:19460101T000000
RDATE:19800101T000000
END:STANDARD
BEGIN:STANDARD
TZNAME:CET
TZOFFSETFROM:+0200
TZOFFSETTO:+0100
DTSTART:19471005T030000
RRULE:FREQ=YEARLY;UNTIL=19491002T010000Z;BYMONTH=10;BYDAY=1SU
END:STANDARD
BEGIN:STANDARD
TZNAME:CET
TZOFFSETFROM:+0200
TZOFFSETTO:+0100
DTSTART:19800928T030000
RRULE:FREQ=YEARLY;UNTIL=19950924T010000Z;BYMONTH=9;BYDAY=-1SU
END:STANDARD
BEGIN:DAYLIGHT
TZNAME:CEST
TZOFFSETFROM:+0100
TZOFFSETTO:+0200
DTSTART:19810329T020000
RRULE:FREQ=YEARLY;BYMONTH=3;BYDAY=-1SU
END:DAYLIGHT
BEGIN:STANDARD
TZNAME:CET
TZOFFSETFROM:+0200
TZOFFSETTO:+0100
DTSTART:19961027T030000
RRULE:FREQ=YEARLY;BYMONTH=10;BYDAY=-1SU
END:STANDARD
END:VTIMEZONE
BEGIN:VEVENT
DTSTAMP:20260421T181811Z
DTSTART;TZID=Europe/Berlin:20180927T193000
DTEND;TZID=Europe/Berlin:20180927T223000
SUMMARY:Kreisliga Polizei SV Neumünster III vs Blau-Weiß Wittorf Neumünster II (17)
UID:8f2462ab-a3e1-6d7a-e053-1fc7a80a46f4
STATUS:CONFIRMED
LAST-MODIFIED:20190802T145043Z
DESCRIPTION:Herren - Kreisliga - Neumünster\nBegegnungs-Nr: 17\nHeim: Polizei SV Neumünster III\nGast: Blau-Weiß Wittorf Neumünster II\n
LOCATION:
CATEGORIES:Saison 2018/19
END:VEVENT
BEGIN:VEVENT
DTSTAMP:20260421T181811Z
DTSTART;TZID=Europe/Berlin:20181101T193000
DTEND;TZID=Europe/Berlin:20181101T223000
SUMMARY:Kreisliga Polizei SV Neumünster III vs SV Wasbek II (30)
UID:8f2462ab-a50d-6d7a-e053-1fc7a80a46f4
STATUS:CONFIRMED
LAST-MODIFIED:20190802T145044Z
DESCRIPTION:Herren - Kreisliga - Neumünster\nBegegnungs-Nr: 30\nHeim: Polizei SV Neumünster III\nGast: SV Wasbek II\n
LOCATION:
CATEGORIES:Saison 2018/19
END:VEVENT
BEGIN:VEVENT
DTSTAMP:20260421T181811Z
DTSTART;TZID=Europe/Berlin:20181108T193000
DTEND;TZID=Europe/Berlin:20181108T223000
SUMMARY:Kreisliga Polizei SV Neumünster III vs SV Tungendorf III (35)
UID:8f2462ab-a576-6d7a-e053-1fc7a80a46f4
STATUS:CONFIRMED
LAST-MODIFIED:20190802T145044Z
DESCRIPTION:Herren - Kreisliga - Neumünster\nBegegnungs-Nr: 35\nHeim: Polizei SV Neumünster III\nGast: SV Tungendorf III\n
LOCATION:
CATEGORIES:Saison 2018/19
END:VEVENT
BEGIN:VEVENT
DTSTAMP:20260421T181811Z
DTSTART;TZID=Europe/Berlin:20181115T193000
DTEND;TZID=Europe/Berlin:20181115T223000
SUMMARY:Kreisliga Polizei SV Neumünster III vs SG Westend Neumünster  (43)
UID:8f2462ab-a62a-6d7a-e053-1fc7a80a46f4
STATUS:CONFIRMED
LAST-MODIFIED:20190802T145044Z
DESCRIPTION:Herren - Kreisliga - Neumünster\nBegegnungs-Nr: 43\nHeim: Polizei SV Neumünster III\nGast: SG Westend Neumünster \n
LOCATION:
CATEGORIES:Saison 2018/19
END:VEVENT
BEGIN:VEVENT
DTSTAMP:20260421T181811Z
DTSTART;TZID=Europe/Berlin:20181122T193000
DTEND;TZID=Europe/Berlin:20181122T223000
SUMMARY:Kreisliga Polizei SV Neumünster III vs SV Tungendorf II (46)
UID:8f2462ab-a667-6d7a-e053-1fc7a80a46f4
STATUS:CONFIRMED
LAST-MODIFIED:20190802T145044Z
DESCRIPTION:Herren - Kreisliga - Neumünster\nBegegnungs-Nr: 46\nHeim: Polizei SV Neumünster III\nGast: SV Tungendorf II\n
LOCATION:
CATEGORIES:Saison 2018/19
END:VEVENT
BEGIN:VEVENT
DTSTAMP:20260421T181811Z
DTSTART;TZID=Europe/Berlin:20180913T193000
DTEND;TZID=Europe/Berlin:20180913T223000
SUMMARY:Kreisliga Polizei SV Neumünster III vs Polizei SV Neumünster II (5)
UID:8f2462ab-a6bf-6d7a-e053-1fc7a80a46f4
STATUS:CONFIRMED
LAST-MODIFIED:20190802T145044Z
DESCRIPTION:Herren - Kreisliga - Neumünster\nBegegnungs-Nr: 5\nHeim: Polizei SV Neumünster III\nGast: Polizei SV Neumünster II\n
LOCATION:
CATEGORIES:Saison 2018/19
END:VEVENT
BEGIN:VEVENT
DTSTAMP:20260421T181811Z
DTSTART;TZID=Europe/Berlin:20181206T193000
DTEND;TZID=Europe/Berlin:20181206T223000
SUMMARY:Kreisliga Polizei SV Neumünster III vs SG Padenstedt  (58)
UID:8f2462ab-a77b-6d7a-e053-1fc7a80a46f4
STATUS:CONFIRMED
LAST-MODIFIED:20190802T145044Z
DESCRIPTION:Herren - Kreisliga - Neumünster\nBegegnungs-Nr: 58\nHeim: Polizei SV Neumünster III\nGast: SG Padenstedt \n
LOCATION:
CATEGORIES:Saison 2018/19
END:VEVENT
BEGIN:VEVENT
DTSTAMP:20260421T181811Z
DTSTART;TZID=Europe/Berlin:20190314T193000
DTEND;TZID=Europe/Berlin:20190314T223000
SUMMARY:Kreisliga Polizei SV Neumünster III vs SV Bönebüttel-Husberg  (121)
UID:8f2462ab-a9f8-6d7a-e053-1fc7a80a46f4
STATUS:CONFIRMED
LAST-MODIFIED:20190802T145045Z
DESCRIPTION:Herren - Kreisliga - Neumünster\nBegegnungs-Nr: 121\nHeim: Polizei SV Neumünster III\nGast: SV Bönebüttel-Husberg \n
LOCATION:
CATEGORIES:Saison 2018/19
END:VEVENT
BEGIN:VEVENT
DTSTAMP:20260421T181811Z
DTSTART;TZID=Europe/Berlin:20190326T193000
DTEND;TZID=Europe/Berlin:20190326T223000
SUMMARY:Kreisliga Polizei SV Neumünster III vs TS Einfeld Neumünster III (132)
UID:8f2462ab-aab9-6d7a-e053-1fc7a80a46f4
STATUS:CONFIRMED
LAST-MODIFIED:20190802T145045Z
DESCRIPTION:Herren - Kreisliga - Neumünster\nBegegnungs-Nr: 132\nHeim: Polizei SV Neumünster III\nGast: TS Einfeld Neumünster III\n
LOCATION:
CATEGORIES:Saison 2018/19
END:VEVENT
BEGIN:VEVENT
DTSTAMP:20260421T181811Z
DTSTART;TZID=Europe/Berlin:20190124T193000
DTEND;TZID=Europe/Berlin:20190124T223000
SUMMARY:Kreisliga Polizei SV Neumünster III vs SV Boostedt II (80)
UID:8f2462ab-abb3-6d7a-e053-1fc7a80a46f4
STATUS:CONFIRMED
LAST-MODIFIED:20190802T145045Z
DESCRIPTION:Herren - Kreisliga - Neumünster\nBegegnungs-Nr: 80\nHeim: Polizei SV Neumünster III\nGast: SV Boostedt II\n
LOCATION:
CATEGORIES:Saison 2018/19
END:VEVENT
BEGIN:VEVENT
DTSTAMP:20260421T181811Z
DTSTART;TZID=Europe/Berlin:20190207T193000
DTEND;TZID=Europe/Berlin:20190207T223000
SUMMARY:Kreisliga Polizei SV Neumünster III vs TS Einfeld Neumünster II (93)
UID:8f2462ab-ac9e-6d7a-e053-1fc7a80a46f4
STATUS:CONFIRMED
LAST-MODIFIED:20190802T145045Z
DESCRIPTION:Herren - Kreisliga - Neumünster\nBegegnungs-Nr: 93\nHeim: Polizei SV Neumünster III\nGast: TS Einfeld Neumünster II\n
LOCATION:
CATEGORIES:Saison 2018/19
END:VEVENT
BEGIN:VEVENT
DTSTAMP:20260421T181811Z
DTSTART;TZID=Europe/Berlin:20180921T193000
DTEND;TZID=Europe/Berlin:20180921T223000
SUMMARY:Kreisliga SV Boostedt II vs Polizei SV Neumünster III (14)
UID:8f2462ab-a3a6-6d7a-e053-1fc7a80a46f4
STATUS:CONFIRMED
LAST-MODIFIED:20190802T145043Z
DESCRIPTION:Herren - Kreisliga - Neumünster\nBegegnungs-Nr: 14\nHeim: SV Boostedt II\nGast: Polizei SV Neumünster III\n
LOCATION:
CATEGORIES:Saison 2018/19
END:VEVENT
BEGIN:VEVENT
DTSTAMP:20260421T181811Z
DTSTART;TZID=Europe/Berlin:20181026T191500
DTEND;TZID=Europe/Berlin:20181026T221500
SUMMARY:Kreisliga TS Einfeld Neumünster II vs Polizei SV Neumünster III (24)
UID:8f2462ab-a47c-6d7a-e053-1fc7a80a46f4
STATUS:CONFIRMED
LAST-MODIFIED:20190802T145044Z
DESCRIPTION:Herren - Kreisliga - Neumünster\nBegegnungs-Nr: 24\nHeim: TS Einfeld Neumünster II\nGast: Polizei SV Neumünster III\n
LOCATION:
CATEGORIES:Saison 2018/19
END:VEVENT
BEGIN:VEVENT
DTSTAMP:20260421T181811Z
DTSTART;TZID=Europe/Berlin:20181126T200000
DTEND;TZID=Europe/Berlin:20181126T230000
SUMMARY:Kreisliga SV Bönebüttel-Husberg  vs Polizei SV Neumünster III (52)
UID:8f2462ab-a6fb-6d7a-e053-1fc7a80a46f4
STATUS:CONFIRMED
LAST-MODIFIED:20190802T145044Z
DESCRIPTION:Herren - Kreisliga - Neumünster\nBegegnungs-Nr: 52\nHeim: SV Bönebüttel-Husberg \nGast: Polizei SV Neumünster III\n
LOCATION:
CATEGORIES:Saison 2018/19
END:VEVENT
BEGIN:VEVENT
DTSTAMP:20260421T181811Z
DTSTART;TZID=Europe/Berlin:20181211T191500
DTEND;TZID=Europe/Berlin:20181211T221500
SUMMARY:Kreisliga TS Einfeld Neumünster III vs Polizei SV Neumünster III (63)
UID:8f2462ab-a7f9-6d7a-e053-1fc7a80a46f4
STATUS:CONFIRMED
LAST-MODIFIED:20190802T145044Z
DESCRIPTION:Herren - Kreisliga - Neumünster\nBegegnungs-Nr: 63\nHeim: TS Einfeld Neumünster III\nGast: Polizei SV Neumünster III\n
LOCATION:
CATEGORIES:Saison 2018/19
END:VEVENT
BEGIN:VEVENT
DTSTAMP:20260421T181811Z
DTSTART;TZID=Europe/Berlin:20190222T191500
DTEND;TZID=Europe/Berlin:20190222T221500
SUMMARY:Kreisliga SV Tungendorf III vs Polizei SV Neumünster III (106)
UID:8f2462ab-a8f6-6d7a-e053-1fc7a80a46f4
STATUS:CONFIRMED
LAST-MODIFIED:20190802T145045Z
DESCRIPTION:Herren - Kreisliga - Neumünster\nBegegnungs-Nr: 106\nHeim: SV Tungendorf III\nGast: Polizei SV Neumünster III\n
LOCATION:
CATEGORIES:Saison 2018/19
END:VEVENT
BEGIN:VEVENT
DTSTAMP:20260421T181811Z
DTSTART;TZID=Europe/Berlin:20190226T191500
DTEND;TZID=Europe/Berlin:20190226T221500
SUMMARY:Kreisliga SG Westend Neumünster  vs Polizei SV Neumünster III (108)
UID:8f2462ab-a90c-6d7a-e053-1fc7a80a46f4
STATUS:CONFIRMED
LAST-MODIFIED:20190802T145045Z
DESCRIPTION:Herren - Kreisliga - Neumünster\nBegegnungs-Nr: 108\nHeim: SG Westend Neumünster \nGast: Polizei SV Neumünster III\n
LOCATION:
CATEGORIES:Saison 2018/19
END:VEVENT
BEGIN:VEVENT
DTSTAMP:20260421T181811Z
DTSTART;TZID=Europe/Berlin:20190308T191500
DTEND;TZID=Europe/Berlin:20190308T221500
SUMMARY:Kreisliga SV Tungendorf II vs Polizei SV Neumünster III (119)
UID:8f2462ab-a9ce-6d7a-e053-1fc7a80a46f4
STATUS:CONFIRMED
LAST-MODIFIED:20190802T145045Z
DESCRIPTION:Herren - Kreisliga - Neumünster\nBegegnungs-Nr: 119\nHeim: SV Tungendorf II\nGast: Polizei SV Neumünster III\n
LOCATION:
CATEGORIES:Saison 2018/19
END:VEVENT
BEGIN:VEVENT
DTSTAMP:20260421T181811Z
DTSTART;TZID=Europe/Berlin:20190318T200000
DTEND;TZID=Europe/Berlin:20190318T230000
SUMMARY:Kreisliga SG Padenstedt  vs Polizei SV Neumünster III (125)
UID:8f2462ab-aa36-6d7a-e053-1fc7a80a46f4
STATUS:CONFIRMED
LAST-MODIFIED:20190802T145045Z
DESCRIPTION:Herren - Kreisliga - Neumünster\nBegegnungs-Nr: 125\nHeim: SG Padenstedt \nGast: Polizei SV Neumünster III\n
LOCATION:
CATEGORIES:Saison 2018/19
END:VEVENT
BEGIN:VEVENT
DTSTAMP:20260421T181811Z
DTSTART;TZID=Europe/Berlin:20190122T193000
DTEND;TZID=Europe/Berlin:20190122T223000
SUMMARY:Kreisliga Polizei SV Neumünster II vs Polizei SV Neumünster III (71)
UID:8f2462ab-ab0c-6d7a-e053-1fc7a80a46f4
STATUS:CONFIRMED
LAST-MODIFIED:20190802T145045Z
DESCRIPTION:Herren - Kreisliga - Neumünster\nBegegnungs-Nr: 71\nHeim: Polizei SV Neumünster II\nGast: Polizei SV Neumünster III\n
LOCATION:
CATEGORIES:Saison 2018/19
END:VEVENT
BEGIN:VEVENT
DTSTAMP:20260421T181811Z
DTSTART;TZID=Europe/Berlin:20190213T193000
DTEND;TZID=Europe/Berlin:20190213T223000
SUMMARY:Kreisliga SV Wasbek II vs Polizei SV Neumünster III (97)
UID:8f2462ab-acd8-6d7a-e053-1fc7a80a46f4
STATUS:CONFIRMED
LAST-MODIFIED:20190802T145045Z
DESCRIPTION:Herren - Kreisliga - Neumünster\nBegegnungs-Nr: 97\nHeim: SV Wasbek II\nGast: Polizei SV Neumünster III\n
LOCATION:
CATEGORIES:Saison 2018/19
END:VEVENT
END:VCALENDAR
