BEGIN:VCALENDAR
PRODID:-//nuDatenautomaten//framework iCal4j //DE
VERSION:2.0
CALSCALE:GREGORIAN
BEGIN:VTIMEZONE
TZID:Europe/Berlin
LAST-MODIFIED:20260306T231828Z
TZURL:https://www.tzurl.org/zoneinfo/Europe/Berlin
X-LIC-LOCATION:Europe/Berlin
X-PROLEPTIC-TZNAME:LMT
BEGIN:STANDARD
TZNAME:CET
TZOFFSETFROM:+005328
TZOFFSETTO:+0100
DTSTART:18930401T000000
END:STANDARD
BEGIN:DAYLIGHT
TZNAME:CEST
TZOFFSETFROM:+0100
TZOFFSETTO:+0200
DTSTART:19160430T230000
RDATE:19400401T020000
RDATE:19430329T020000
RDATE:19460414T020000
RDATE:19470406T030000
RDATE:19480418T020000
RDATE:19490410T020000
RDATE:19800406T020000
END:DAYLIGHT
BEGIN:STANDARD
TZNAME:CET
TZOFFSETFROM:+0200
TZOFFSETTO:+0100
DTSTART:19161001T010000
RDATE:19421102T030000
RDATE:19431004T030000
RDATE:19441002T030000
RDATE:19451118T030000
RDATE:19461007T030000
END:STANDARD
BEGIN:DAYLIGHT
TZNAME:CEST
TZOFFSETFROM:+0100
TZOFFSETTO:+0200
DTSTART:19170416T020000
RRULE:FREQ=YEARLY;UNTIL=19180415T010000Z;BYMONTH=4;BYDAY=3MO
END:DAYLIGHT
BEGIN:STANDARD
TZNAME:CET
TZOFFSETFROM:+0200
TZOFFSETTO:+0100
DTSTART:19170917T030000
RRULE:FREQ=YEARLY;UNTIL=19180916T010000Z;BYMONTH=9;BYDAY=3MO
END:STANDARD
BEGIN:DAYLIGHT
TZNAME:CEST
TZOFFSETFROM:+0100
TZOFFSETTO:+0200
DTSTART:19440403T020000
RRULE:FREQ=YEARLY;UNTIL=19450402T010000Z;BYMONTH=4;BYDAY=1MO
END:DAYLIGHT
BEGIN:DAYLIGHT
TZNAME:CEMT
TZOFFSETFROM:+0200
TZOFFSETTO:+0300
DTSTART:19450524T020000
RDATE:19470511T030000
END:DAYLIGHT
BEGIN:DAYLIGHT
TZNAME:CEST
TZOFFSETFROM:+0300
TZOFFSETTO:+0200
DTSTART:19450924T030000
RDATE:19470629T030000
END:DAYLIGHT
BEGIN:STANDARD
TZNAME:CET
TZOFFSETFROM:+0100
TZOFFSETTO:+0100
DTSTART:19460101T000000
RDATE:19800101T000000
END:STANDARD
BEGIN:STANDARD
TZNAME:CET
TZOFFSETFROM:+0200
TZOFFSETTO:+0100
DTSTART:19471005T030000
RRULE:FREQ=YEARLY;UNTIL=19491002T010000Z;BYMONTH=10;BYDAY=1SU
END:STANDARD
BEGIN:STANDARD
TZNAME:CET
TZOFFSETFROM:+0200
TZOFFSETTO:+0100
DTSTART:19800928T030000
RRULE:FREQ=YEARLY;UNTIL=19950924T010000Z;BYMONTH=9;BYDAY=-1SU
END:STANDARD
BEGIN:DAYLIGHT
TZNAME:CEST
TZOFFSETFROM:+0100
TZOFFSETTO:+0200
DTSTART:19810329T020000
RRULE:FREQ=YEARLY;BYMONTH=3;BYDAY=-1SU
END:DAYLIGHT
BEGIN:STANDARD
TZNAME:CET
TZOFFSETFROM:+0200
TZOFFSETTO:+0100
DTSTART:19961027T030000
RRULE:FREQ=YEARLY;BYMONTH=10;BYDAY=-1SU
END:STANDARD
END:VTIMEZONE
BEGIN:VEVENT
DTSTAMP:20260426T043036Z
DTSTART;TZID=Europe/Berlin:20180914T193000
DTEND;TZID=Europe/Berlin:20180914T223000
SUMMARY:1. Kreisklasse SV Boostedt III vs SG Westend Neumünster II (7)
UID:8f2462ab-b225-6d7a-e053-1fc7a80a46f4
STATUS:CONFIRMED
LAST-MODIFIED:20190802T145046Z
DESCRIPTION:Herren - 1. Kreisklasse - Neumünster\nBegegnungs-Nr: 7\nHeim: SV Boostedt III\nGast: SG Westend Neumünster II\n
LOCATION:
CATEGORIES:Saison 2018/19
END:VEVENT
BEGIN:VEVENT
DTSTAMP:20260426T043036Z
DTSTART;TZID=Europe/Berlin:20190329T193000
DTEND;TZID=Europe/Berlin:20190329T223000
SUMMARY:1. Kreisklasse SV Boostedt III vs Polizei SV Neumünster V (105)
UID:8f2462ab-b2cb-6d7a-e053-1fc7a80a46f4
STATUS:CONFIRMED
LAST-MODIFIED:20190802T145047Z
DESCRIPTION:Herren - 1. Kreisklasse - Neumünster\nBegegnungs-Nr: 105\nHeim: SV Boostedt III\nGast: Polizei SV Neumünster V\n
LOCATION:
CATEGORIES:Saison 2018/19
END:VEVENT
BEGIN:VEVENT
DTSTAMP:20260426T043036Z
DTSTART;TZID=Europe/Berlin:20190308T193000
DTEND;TZID=Europe/Berlin:20190308T223000
SUMMARY:1. Kreisklasse SV Boostedt III vs SV Tungendorf IV (123)
UID:8f2462ab-b441-6d7a-e053-1fc7a80a46f4
STATUS:CONFIRMED
LAST-MODIFIED:20190802T145047Z
DESCRIPTION:Herren - 1. Kreisklasse - Neumünster\nBegegnungs-Nr: 123\nHeim: SV Boostedt III\nGast: SV Tungendorf IV\n
LOCATION:
CATEGORIES:Saison 2018/19
END:VEVENT
BEGIN:VEVENT
DTSTAMP:20260426T043036Z
DTSTART;TZID=Europe/Berlin:20190322T193000
DTEND;TZID=Europe/Berlin:20190322T223000
SUMMARY:1. Kreisklasse SV Boostedt III vs SC Gut Heil Neumünster II (131)
UID:8f2462ab-b4e6-6d7a-e053-1fc7a80a46f4
STATUS:CONFIRMED
LAST-MODIFIED:20190802T145047Z
DESCRIPTION:Herren - 1. Kreisklasse - Neumünster\nBegegnungs-Nr: 131\nHeim: SV Boostedt III\nGast: SC Gut Heil Neumünster II\n
LOCATION:
CATEGORIES:Saison 2018/19
END:VEVENT
BEGIN:VEVENT
DTSTAMP:20260426T043036Z
DTSTART;TZID=Europe/Berlin:20190118T193000
DTEND;TZID=Europe/Berlin:20190118T223000
SUMMARY:1. Kreisklasse SV Boostedt III vs Polizei SV Neumünster IV (81)
UID:8f2462ab-b635-6d7a-e053-1fc7a80a46f4
STATUS:CONFIRMED
LAST-MODIFIED:20190802T145047Z
DESCRIPTION:Herren - 1. Kreisklasse - Neumünster\nBegegnungs-Nr: 81\nHeim: SV Boostedt III\nGast: Polizei SV Neumünster IV\n
LOCATION:
CATEGORIES:Saison 2018/19
END:VEVENT
BEGIN:VEVENT
DTSTAMP:20260426T043036Z
DTSTART;TZID=Europe/Berlin:20190125T193000
DTEND;TZID=Europe/Berlin:20190125T223000
SUMMARY:1. Kreisklasse SV Boostedt III vs Blau-Weiß Wittorf Neumünster III (86)
UID:8f2462ab-b698-6d7a-e053-1fc7a80a46f4
STATUS:CONFIRMED
LAST-MODIFIED:20190802T145047Z
DESCRIPTION:Herren - 1. Kreisklasse - Neumünster\nBegegnungs-Nr: 86\nHeim: SV Boostedt III\nGast: Blau-Weiß Wittorf Neumünster III\n
LOCATION:
CATEGORIES:Saison 2018/19
END:VEVENT
BEGIN:VEVENT
DTSTAMP:20260426T043036Z
DTSTART;TZID=Europe/Berlin:20181026T193000
DTEND;TZID=Europe/Berlin:20181026T223000
SUMMARY:1. Kreisklasse SV Boostedt III vs TSV 05 Neumünster  (25)
UID:8f2462ab-ae66-6d7a-e053-1fc7a80a46f4
STATUS:CONFIRMED
LAST-MODIFIED:20190802T145046Z
DESCRIPTION:Herren - 1. Kreisklasse - Neumünster\nBegegnungs-Nr: 25\nHeim: SV Boostedt III\nGast: TSV 05 Neumünster \n
LOCATION:
CATEGORIES:Saison 2018/19
END:VEVENT
BEGIN:VEVENT
DTSTAMP:20260426T043036Z
DTSTART;TZID=Europe/Berlin:20181102T193000
DTEND;TZID=Europe/Berlin:20181102T223000
SUMMARY:1. Kreisklasse SV Boostedt III vs SV Wasbek III (30)
UID:8f2462ab-aee7-6d7a-e053-1fc7a80a46f4
STATUS:CONFIRMED
LAST-MODIFIED:20190802T145046Z
DESCRIPTION:Herren - 1. Kreisklasse - Neumünster\nBegegnungs-Nr: 30\nHeim: SV Boostedt III\nGast: SV Wasbek III\n
LOCATION:
CATEGORIES:Saison 2018/19
END:VEVENT
BEGIN:VEVENT
DTSTAMP:20260426T043036Z
DTSTART;TZID=Europe/Berlin:20181119T193000
DTEND;TZID=Europe/Berlin:20181119T223000
SUMMARY:1. Kreisklasse SV Boostedt III vs TSV 05 Neumünster II (42)
UID:8f2462ab-aff2-6d7a-e053-1fc7a80a46f4
STATUS:CONFIRMED
LAST-MODIFIED:20190802T145046Z
DESCRIPTION:Herren - 1. Kreisklasse - Neumünster\nBegegnungs-Nr: 42\nHeim: SV Boostedt III\nGast: TSV 05 Neumünster II\n
LOCATION:
CATEGORIES:Saison 2018/19
END:VEVENT
BEGIN:VEVENT
DTSTAMP:20260426T043036Z
DTSTART;TZID=Europe/Berlin:20181123T193000
DTEND;TZID=Europe/Berlin:20181123T223000
SUMMARY:1. Kreisklasse SV Boostedt III vs TSV Gadeland Neumünster  (47)
UID:8f2462ab-b059-6d7a-e053-1fc7a80a46f4
STATUS:CONFIRMED
LAST-MODIFIED:20190802T145046Z
DESCRIPTION:Herren - 1. Kreisklasse - Neumünster\nBegegnungs-Nr: 47\nHeim: SV Boostedt III\nGast: TSV Gadeland Neumünster \n
LOCATION:
CATEGORIES:Saison 2018/19
END:VEVENT
BEGIN:VEVENT
DTSTAMP:20260426T043036Z
DTSTART;TZID=Europe/Berlin:20181207T193000
DTEND;TZID=Europe/Berlin:20181207T223000
SUMMARY:1. Kreisklasse SV Boostedt III vs TTC Rendswühren  (59)
UID:8f2462ab-b167-6d7a-e053-1fc7a80a46f4
STATUS:CONFIRMED
LAST-MODIFIED:20190802T145046Z
DESCRIPTION:Herren - 1. Kreisklasse - Neumünster\nBegegnungs-Nr: 59\nHeim: SV Boostedt III\nGast: TTC Rendswühren \n
LOCATION:
CATEGORIES:Saison 2018/19
END:VEVENT
BEGIN:VEVENT
DTSTAMP:20260426T043036Z
DTSTART;TZID=Europe/Berlin:20181214T193000
DTEND;TZID=Europe/Berlin:20181214T223000
SUMMARY:1. Kreisklasse SC Gut Heil Neumünster II vs SV Boostedt III (66)
UID:8f2462ab-b213-6d7a-e053-1fc7a80a46f4
STATUS:CONFIRMED
LAST-MODIFIED:20190802T145046Z
DESCRIPTION:Herren - 1. Kreisklasse - Neumünster\nBegegnungs-Nr: 66\nHeim: SC Gut Heil Neumünster II\nGast: SV Boostedt III\n
LOCATION:
CATEGORIES:Saison 2018/19
END:VEVENT
BEGIN:VEVENT
DTSTAMP:20260426T043036Z
DTSTART;TZID=Europe/Berlin:20190220T193000
DTEND;TZID=Europe/Berlin:20190220T223000
SUMMARY:1. Kreisklasse TSV 05 Neumünster II vs SV Boostedt III (110)
UID:8f2462ab-b336-6d7a-e053-1fc7a80a46f4
STATUS:CONFIRMED
LAST-MODIFIED:20190802T145047Z
DESCRIPTION:Herren - 1. Kreisklasse - Neumünster\nBegegnungs-Nr: 110\nHeim: TSV 05 Neumünster II\nGast: SV Boostedt III\n
LOCATION:
CATEGORIES:Saison 2018/19
END:VEVENT
BEGIN:VEVENT
DTSTAMP:20260426T043036Z
DTSTART;TZID=Europe/Berlin:20190319T191500
DTEND;TZID=Europe/Berlin:20190319T221500
SUMMARY:1. Kreisklasse TSV Gadeland Neumünster  vs SV Boostedt III (117)
UID:8f2462ab-b3c2-6d7a-e053-1fc7a80a46f4
STATUS:CONFIRMED
LAST-MODIFIED:20190802T145047Z
DESCRIPTION:Herren - 1. Kreisklasse - Neumünster\nBegegnungs-Nr: 117\nHeim: TSV Gadeland Neumünster \nGast: SV Boostedt III\n
LOCATION:
CATEGORIES:Saison 2018/19
END:VEVENT
BEGIN:VEVENT
DTSTAMP:20260426T043036Z
DTSTART;TZID=Europe/Berlin:20190311T193000
DTEND;TZID=Europe/Berlin:20190311T223000
SUMMARY:1. Kreisklasse TTC Rendswühren  vs SV Boostedt III (125)
UID:8f2462ab-b46d-6d7a-e053-1fc7a80a46f4
STATUS:CONFIRMED
LAST-MODIFIED:20190802T145047Z
DESCRIPTION:Herren - 1. Kreisklasse - Neumünster\nBegegnungs-Nr: 125\nHeim: TTC Rendswühren \nGast: SV Boostedt III\n
LOCATION:
CATEGORIES:Saison 2018/19
END:VEVENT
BEGIN:VEVENT
DTSTAMP:20260426T043036Z
DTSTART;TZID=Europe/Berlin:20190108T191500
DTEND;TZID=Europe/Berlin:20190108T221500
SUMMARY:1. Kreisklasse SG Westend Neumünster II vs SV Boostedt III (73)
UID:8f2462ab-b58f-6d7a-e053-1fc7a80a46f4
STATUS:CONFIRMED
LAST-MODIFIED:20190802T145047Z
DESCRIPTION:Herren - 1. Kreisklasse - Neumünster\nBegegnungs-Nr: 73\nHeim: SG Westend Neumünster II\nGast: SV Boostedt III\n
LOCATION:
CATEGORIES:Saison 2018/19
END:VEVENT
BEGIN:VEVENT
DTSTAMP:20260426T043036Z
DTSTART;TZID=Europe/Berlin:20190130T191500
DTEND;TZID=Europe/Berlin:20190130T221500
SUMMARY:1. Kreisklasse TSV 05 Neumünster  vs SV Boostedt III (91)
UID:8f2462ab-b701-6d7a-e053-1fc7a80a46f4
STATUS:CONFIRMED
LAST-MODIFIED:20190802T145047Z
DESCRIPTION:Herren - 1. Kreisklasse - Neumünster\nBegegnungs-Nr: 91\nHeim: TSV 05 Neumünster \nGast: SV Boostedt III\n
LOCATION:
CATEGORIES:Saison 2018/19
END:VEVENT
BEGIN:VEVENT
DTSTAMP:20260426T043036Z
DTSTART;TZID=Europe/Berlin:20190204T193000
DTEND;TZID=Europe/Berlin:20190204T223000
SUMMARY:1. Kreisklasse SV Wasbek III vs SV Boostedt III (94)
UID:8f2462ab-b740-6d7a-e053-1fc7a80a46f4
STATUS:CONFIRMED
LAST-MODIFIED:20190802T145048Z
DESCRIPTION:Herren - 1. Kreisklasse - Neumünster\nBegegnungs-Nr: 94\nHeim: SV Wasbek III\nGast: SV Boostedt III\n
LOCATION:
CATEGORIES:Saison 2018/19
END:VEVENT
BEGIN:VEVENT
DTSTAMP:20260426T043036Z
DTSTART;TZID=Europe/Berlin:20180918T191500
DTEND;TZID=Europe/Berlin:20180918T221500
SUMMARY:1. Kreisklasse Polizei SV Neumünster IV vs SV Boostedt III (10)
UID:8f2462ab-ad13-6d7a-e053-1fc7a80a46f4
STATUS:CONFIRMED
LAST-MODIFIED:20190802T145045Z
DESCRIPTION:Herren - 1. Kreisklasse - Neumünster\nBegegnungs-Nr: 10\nHeim: Polizei SV Neumünster IV\nGast: SV Boostedt III\n
LOCATION:
CATEGORIES:Saison 2018/19
END:VEVENT
BEGIN:VEVENT
DTSTAMP:20260426T043036Z
DTSTART;TZID=Europe/Berlin:20181218T193000
DTEND;TZID=Europe/Berlin:20181218T223000
SUMMARY:1. Kreisklasse Blau-Weiß Wittorf Neumünster III vs SV Boostedt III (19)
UID:8f2462ab-adce-6d7a-e053-1fc7a80a46f4
STATUS:CONFIRMED
LAST-MODIFIED:20190802T145046Z
DESCRIPTION:Herren - 1. Kreisklasse - Neumünster\nBegegnungs-Nr: 19\nHeim: Blau-Weiß Wittorf Neumünster III\nGast: SV Boostedt III\n
LOCATION:
CATEGORIES:Saison 2018/19
END:VEVENT
BEGIN:VEVENT
DTSTAMP:20260426T043036Z
DTSTART;TZID=Europe/Berlin:20181108T193000
DTEND;TZID=Europe/Berlin:20181108T223000
SUMMARY:1. Kreisklasse Polizei SV Neumünster V vs SV Boostedt III (36)
UID:8f2462ab-af65-6d7a-e053-1fc7a80a46f4
STATUS:CONFIRMED
LAST-MODIFIED:20190802T145046Z
DESCRIPTION:Herren - 1. Kreisklasse - Neumünster\nBegegnungs-Nr: 36\nHeim: Polizei SV Neumünster V\nGast: SV Boostedt III\n
LOCATION:
CATEGORIES:Saison 2018/19
END:VEVENT
BEGIN:VEVENT
DTSTAMP:20260426T043036Z
DTSTART;TZID=Europe/Berlin:20181126T191500
DTEND;TZID=Europe/Berlin:20181126T221500
SUMMARY:1. Kreisklasse SV Tungendorf IV vs SV Boostedt III (48)
UID:8f2462ab-b06c-6d7a-e053-1fc7a80a46f4
STATUS:CONFIRMED
LAST-MODIFIED:20190802T145046Z
DESCRIPTION:Herren - 1. Kreisklasse - Neumünster\nBegegnungs-Nr: 48\nHeim: SV Tungendorf IV\nGast: SV Boostedt III\n
LOCATION:
CATEGORIES:Saison 2018/19
END:VEVENT
END:VCALENDAR
