BEGIN:VCALENDAR
PRODID:-//nuDatenautomaten//framework iCal4j //DE
VERSION:2.0
CALSCALE:GREGORIAN
BEGIN:VTIMEZONE
TZID:Europe/Berlin
LAST-MODIFIED:20260306T231828Z
TZURL:https://www.tzurl.org/zoneinfo/Europe/Berlin
X-LIC-LOCATION:Europe/Berlin
X-PROLEPTIC-TZNAME:LMT
BEGIN:STANDARD
TZNAME:CET
TZOFFSETFROM:+005328
TZOFFSETTO:+0100
DTSTART:18930401T000000
END:STANDARD
BEGIN:DAYLIGHT
TZNAME:CEST
TZOFFSETFROM:+0100
TZOFFSETTO:+0200
DTSTART:19160430T230000
RDATE:19400401T020000
RDATE:19430329T020000
RDATE:19460414T020000
RDATE:19470406T030000
RDATE:19480418T020000
RDATE:19490410T020000
RDATE:19800406T020000
END:DAYLIGHT
BEGIN:STANDARD
TZNAME:CET
TZOFFSETFROM:+0200
TZOFFSETTO:+0100
DTSTART:19161001T010000
RDATE:19421102T030000
RDATE:19431004T030000
RDATE:19441002T030000
RDATE:19451118T030000
RDATE:19461007T030000
END:STANDARD
BEGIN:DAYLIGHT
TZNAME:CEST
TZOFFSETFROM:+0100
TZOFFSETTO:+0200
DTSTART:19170416T020000
RRULE:FREQ=YEARLY;UNTIL=19180415T010000Z;BYMONTH=4;BYDAY=3MO
END:DAYLIGHT
BEGIN:STANDARD
TZNAME:CET
TZOFFSETFROM:+0200
TZOFFSETTO:+0100
DTSTART:19170917T030000
RRULE:FREQ=YEARLY;UNTIL=19180916T010000Z;BYMONTH=9;BYDAY=3MO
END:STANDARD
BEGIN:DAYLIGHT
TZNAME:CEST
TZOFFSETFROM:+0100
TZOFFSETTO:+0200
DTSTART:19440403T020000
RRULE:FREQ=YEARLY;UNTIL=19450402T010000Z;BYMONTH=4;BYDAY=1MO
END:DAYLIGHT
BEGIN:DAYLIGHT
TZNAME:CEMT
TZOFFSETFROM:+0200
TZOFFSETTO:+0300
DTSTART:19450524T020000
RDATE:19470511T030000
END:DAYLIGHT
BEGIN:DAYLIGHT
TZNAME:CEST
TZOFFSETFROM:+0300
TZOFFSETTO:+0200
DTSTART:19450924T030000
RDATE:19470629T030000
END:DAYLIGHT
BEGIN:STANDARD
TZNAME:CET
TZOFFSETFROM:+0100
TZOFFSETTO:+0100
DTSTART:19460101T000000
RDATE:19800101T000000
END:STANDARD
BEGIN:STANDARD
TZNAME:CET
TZOFFSETFROM:+0200
TZOFFSETTO:+0100
DTSTART:19471005T030000
RRULE:FREQ=YEARLY;UNTIL=19491002T010000Z;BYMONTH=10;BYDAY=1SU
END:STANDARD
BEGIN:STANDARD
TZNAME:CET
TZOFFSETFROM:+0200
TZOFFSETTO:+0100
DTSTART:19800928T030000
RRULE:FREQ=YEARLY;UNTIL=19950924T010000Z;BYMONTH=9;BYDAY=-1SU
END:STANDARD
BEGIN:DAYLIGHT
TZNAME:CEST
TZOFFSETFROM:+0100
TZOFFSETTO:+0200
DTSTART:19810329T020000
RRULE:FREQ=YEARLY;BYMONTH=3;BYDAY=-1SU
END:DAYLIGHT
BEGIN:STANDARD
TZNAME:CET
TZOFFSETFROM:+0200
TZOFFSETTO:+0100
DTSTART:19961027T030000
RRULE:FREQ=YEARLY;BYMONTH=10;BYDAY=-1SU
END:STANDARD
END:VTIMEZONE
BEGIN:VEVENT
DTSTAMP:20260423T190545Z
DTSTART;TZID=Europe/Berlin:20171027T203000
DTEND;TZID=Europe/Berlin:20171027T233000
SUMMARY:Kreisliga TSV Gut-Heil Heist II vs TSV Uetersen II (25)
UID:83382ee3-37c4-598e-e053-1fc7a80a5d7a
STATUS:CONFIRMED
LAST-MODIFIED:20190303T214238Z
DESCRIPTION:Herren - Kreisliga\nBegegnungs-Nr: 25\nHeim: TSV Gut-Heil Heist II\nGast: TSV Uetersen II\n
LOCATION:
CATEGORIES:Saison 2017/18
END:VEVENT
BEGIN:VEVENT
DTSTAMP:20260423T190545Z
DTSTART;TZID=Europe/Berlin:20171103T203000
DTEND;TZID=Europe/Berlin:20171103T233000
SUMMARY:Kreisliga TSV Gut-Heil Heist II vs TuS Appen  (37)
UID:83382ee3-38d4-598e-e053-1fc7a80a5d7a
STATUS:CONFIRMED
LAST-MODIFIED:20190303T214238Z
DESCRIPTION:Herren - Kreisliga\nBegegnungs-Nr: 37\nHeim: TSV Gut-Heil Heist II\nGast: TuS Appen \n
LOCATION:
CATEGORIES:Saison 2017/18
END:VEVENT
BEGIN:VEVENT
DTSTAMP:20260423T190545Z
DTSTART;TZID=Europe/Berlin:20171117T203000
DTEND;TZID=Europe/Berlin:20171117T233000
SUMMARY:Kreisliga TSV Gut-Heil Heist II vs Voßlocher SV  (48)
UID:83382ee3-39c1-598e-e053-1fc7a80a5d7a
STATUS:CONFIRMED
LAST-MODIFIED:20190303T214238Z
DESCRIPTION:Herren - Kreisliga\nBegegnungs-Nr: 48\nHeim: TSV Gut-Heil Heist II\nGast: Voßlocher SV \n
LOCATION:
CATEGORIES:Saison 2017/18
END:VEVENT
BEGIN:VEVENT
DTSTAMP:20260423T190545Z
DTSTART;TZID=Europe/Berlin:20171122T192000
DTEND;TZID=Europe/Berlin:20171122T222000
SUMMARY:Kreisliga TSV Gut-Heil Heist II vs TTC Die Sterne Elmshorn II (52)
UID:83382ee3-3a28-598e-e053-1fc7a80a5d7a
STATUS:CONFIRMED
LAST-MODIFIED:20190303T214238Z
DESCRIPTION:Herren - Kreisliga\nBegegnungs-Nr: 52\nHeim: TSV Gut-Heil Heist II\nGast: TTC Die Sterne Elmshorn II\n
LOCATION:
CATEGORIES:Saison 2017/18
END:VEVENT
BEGIN:VEVENT
DTSTAMP:20260423T190545Z
DTSTART;TZID=Europe/Berlin:20171201T203000
DTEND;TZID=Europe/Berlin:20171201T233000
SUMMARY:Kreisliga TSV Gut-Heil Heist II vs SV Friedrichsgabe III (60)
UID:83382ee3-3ad8-598e-e053-1fc7a80a5d7a
STATUS:CONFIRMED
LAST-MODIFIED:20190303T214239Z
DESCRIPTION:Herren - Kreisliga\nBegegnungs-Nr: 60\nHeim: TSV Gut-Heil Heist II\nGast: SV Friedrichsgabe III\n
LOCATION:
CATEGORIES:Saison 2017/18
END:VEVENT
BEGIN:VEVENT
DTSTAMP:20260423T190545Z
DTSTART;TZID=Europe/Berlin:20171208T203000
DTEND;TZID=Europe/Berlin:20171208T233000
SUMMARY:Kreisliga TSV Gut-Heil Heist II vs TSV Sparrieshoop II (66)
UID:83382ee3-3b49-598e-e053-1fc7a80a5d7a
STATUS:CONFIRMED
LAST-MODIFIED:20190303T214239Z
DESCRIPTION:Herren - Kreisliga\nBegegnungs-Nr: 66\nHeim: TSV Gut-Heil Heist II\nGast: TSV Sparrieshoop II\n
LOCATION:
CATEGORIES:Saison 2017/18
END:VEVENT
BEGIN:VEVENT
DTSTAMP:20260423T190545Z
DTSTART;TZID=Europe/Berlin:20170915T203000
DTEND;TZID=Europe/Berlin:20170915T233000
SUMMARY:Kreisliga TSV Gut-Heil Heist II vs TuS Esingen III (7)
UID:83382ee3-3b59-598e-e053-1fc7a80a5d7a
STATUS:CONFIRMED
LAST-MODIFIED:20190303T214239Z
DESCRIPTION:Herren - Kreisliga\nBegegnungs-Nr: 7\nHeim: TSV Gut-Heil Heist II\nGast: TuS Esingen III\n
LOCATION:
CATEGORIES:Saison 2017/18
END:VEVENT
BEGIN:VEVENT
DTSTAMP:20260423T190545Z
DTSTART;TZID=Europe/Berlin:20180202T203000
DTEND;TZID=Europe/Berlin:20180202T233000
SUMMARY:Kreisliga TSV Gut-Heil Heist II vs SV Hörnerkirchen  (113)
UID:83382ee3-3c60-598e-e053-1fc7a80a5d7a
STATUS:CONFIRMED
LAST-MODIFIED:20190303T214239Z
DESCRIPTION:Herren - Kreisliga\nBegegnungs-Nr: 113\nHeim: TSV Gut-Heil Heist II\nGast: SV Hörnerkirchen \n
LOCATION:
CATEGORIES:Saison 2017/18
END:VEVENT
BEGIN:VEVENT
DTSTAMP:20260423T190545Z
DTSTART;TZID=Europe/Berlin:20180413T203000
DTEND;TZID=Europe/Berlin:20180413T233000
SUMMARY:Kreisliga TSV Gut-Heil Heist II vs TSV Uetersen III (119)
UID:83382ee3-3cc7-598e-e053-1fc7a80a5d7a
STATUS:CONFIRMED
LAST-MODIFIED:20190303T214239Z
DESCRIPTION:Herren - Kreisliga\nBegegnungs-Nr: 119\nHeim: TSV Gut-Heil Heist II\nGast: TSV Uetersen III\n
LOCATION:
CATEGORIES:Saison 2017/18
END:VEVENT
BEGIN:VEVENT
DTSTAMP:20260423T190545Z
DTSTART;TZID=Europe/Berlin:20180223T203000
DTEND;TZID=Europe/Berlin:20180223T233000
SUMMARY:Kreisliga TSV Gut-Heil Heist II vs Moorreger SV IV (131)
UID:83382ee3-3d8f-598e-e053-1fc7a80a5d7a
STATUS:CONFIRMED
LAST-MODIFIED:20190303T214239Z
DESCRIPTION:Herren - Kreisliga\nBegegnungs-Nr: 131\nHeim: TSV Gut-Heil Heist II\nGast: Moorreger SV IV\n
LOCATION:
CATEGORIES:Saison 2017/18
END:VEVENT
BEGIN:VEVENT
DTSTAMP:20260423T190545Z
DTSTART;TZID=Europe/Berlin:20180309T203000
DTEND;TZID=Europe/Berlin:20180309T233000
SUMMARY:Kreisliga TSV Gut-Heil Heist II vs TuS Holstein Quickborn II (142)
UID:83382ee3-3e43-598e-e053-1fc7a80a5d7a
STATUS:CONFIRMED
LAST-MODIFIED:20190303T214239Z
DESCRIPTION:Herren - Kreisliga\nBegegnungs-Nr: 142\nHeim: TSV Gut-Heil Heist II\nGast: TuS Holstein Quickborn II\n
LOCATION:
CATEGORIES:Saison 2017/18
END:VEVENT
BEGIN:VEVENT
DTSTAMP:20260423T190545Z
DTSTART;TZID=Europe/Berlin:20170922T201500
DTEND;TZID=Europe/Berlin:20170922T231500
SUMMARY:Kreisliga SV Hörnerkirchen  vs TSV Gut-Heil Heist II (13)
UID:83382ee3-36b7-598e-e053-1fc7a80a5d7a
STATUS:CONFIRMED
LAST-MODIFIED:20190303T214238Z
DESCRIPTION:Herren - Kreisliga\nBegegnungs-Nr: 13\nHeim: SV Hörnerkirchen \nGast: TSV Gut-Heil Heist II\n
LOCATION:
CATEGORIES:Saison 2017/18
END:VEVENT
BEGIN:VEVENT
DTSTAMP:20260423T190545Z
DTSTART;TZID=Europe/Berlin:20170929T201500
DTEND;TZID=Europe/Berlin:20170929T231500
SUMMARY:Kreisliga TSV Uetersen III vs TSV Gut-Heil Heist II (19)
UID:83382ee3-3730-598e-e053-1fc7a80a5d7a
STATUS:CONFIRMED
LAST-MODIFIED:20190303T214238Z
DESCRIPTION:Herren - Kreisliga\nBegegnungs-Nr: 19\nHeim: TSV Uetersen III\nGast: TSV Gut-Heil Heist II\n
LOCATION:
CATEGORIES:Saison 2017/18
END:VEVENT
BEGIN:VEVENT
DTSTAMP:20260423T190545Z
DTSTART;TZID=Europe/Berlin:20171108T201500
DTEND;TZID=Europe/Berlin:20171108T231500
SUMMARY:Kreisliga TuS Holstein Quickborn II vs TSV Gut-Heil Heist II (39)
UID:83382ee3-38fc-598e-e053-1fc7a80a5d7a
STATUS:CONFIRMED
LAST-MODIFIED:20190303T214238Z
DESCRIPTION:Herren - Kreisliga\nBegegnungs-Nr: 39\nHeim: TuS Holstein Quickborn II\nGast: TSV Gut-Heil Heist II\n
LOCATION:
CATEGORIES:Saison 2017/18
END:VEVENT
BEGIN:VEVENT
DTSTAMP:20260423T190545Z
DTSTART;TZID=Europe/Berlin:20171012T201500
DTEND;TZID=Europe/Berlin:20171012T231500
SUMMARY:Kreisliga Moorreger SV IV vs TSV Gut-Heil Heist II (28)
UID:83382ee3-37fb-598e-e053-1fc7a80a5d7a
STATUS:CONFIRMED
LAST-MODIFIED:20190303T214238Z
DESCRIPTION:Herren - Kreisliga\nBegegnungs-Nr: 28\nHeim: Moorreger SV IV\nGast: TSV Gut-Heil Heist II\n
LOCATION:
CATEGORIES:Saison 2017/18
END:VEVENT
BEGIN:VEVENT
DTSTAMP:20260423T190545Z
DTSTART;TZID=Europe/Berlin:20180215T201500
DTEND;TZID=Europe/Berlin:20180215T231500
SUMMARY:Kreisliga TSV Uetersen II vs TSV Gut-Heil Heist II (124)
UID:83382ee3-3d17-598e-e053-1fc7a80a5d7a
STATUS:CONFIRMED
LAST-MODIFIED:20190303T214239Z
DESCRIPTION:Herren - Kreisliga\nBegegnungs-Nr: 124\nHeim: TSV Uetersen II\nGast: TSV Gut-Heil Heist II\n
LOCATION:
CATEGORIES:Saison 2017/18
END:VEVENT
BEGIN:VEVENT
DTSTAMP:20260423T190545Z
DTSTART;TZID=Europe/Berlin:20180227T201500
DTEND;TZID=Europe/Berlin:20180227T231500
SUMMARY:Kreisliga TuS Appen  vs TSV Gut-Heil Heist II (132)
UID:83382ee3-3da0-598e-e053-1fc7a80a5d7a
STATUS:CONFIRMED
LAST-MODIFIED:20190303T214239Z
DESCRIPTION:Herren - Kreisliga\nBegegnungs-Nr: 132\nHeim: TuS Appen \nGast: TSV Gut-Heil Heist II\n
LOCATION:
CATEGORIES:Saison 2017/18
END:VEVENT
BEGIN:VEVENT
DTSTAMP:20260423T190545Z
DTSTART;TZID=Europe/Berlin:20180316T201500
DTEND;TZID=Europe/Berlin:20180316T231500
SUMMARY:Kreisliga Voßlocher SV  vs TSV Gut-Heil Heist II (148)
UID:83382ee3-3ead-598e-e053-1fc7a80a5d7a
STATUS:CONFIRMED
LAST-MODIFIED:20190303T214239Z
DESCRIPTION:Herren - Kreisliga\nBegegnungs-Nr: 148\nHeim: Voßlocher SV \nGast: TSV Gut-Heil Heist II\n
LOCATION:
CATEGORIES:Saison 2017/18
END:VEVENT
BEGIN:VEVENT
DTSTAMP:20260423T190545Z
DTSTART;TZID=Europe/Berlin:20180406T200400
DTEND;TZID=Europe/Berlin:20180406T230400
SUMMARY:Kreisliga TTC Die Sterne Elmshorn II vs TSV Gut-Heil Heist II (154)
UID:83382ee3-3f0f-598e-e053-1fc7a80a5d7a
STATUS:CONFIRMED
LAST-MODIFIED:20190303T214240Z
DESCRIPTION:Herren - Kreisliga\nBegegnungs-Nr: 154\nHeim: TTC Die Sterne Elmshorn II\nGast: TSV Gut-Heil Heist II\n
LOCATION:
CATEGORIES:Saison 2017/18
END:VEVENT
BEGIN:VEVENT
DTSTAMP:20260423T190545Z
DTSTART;TZID=Europe/Berlin:20180420T201500
DTEND;TZID=Europe/Berlin:20180420T231500
SUMMARY:Kreisliga SV Friedrichsgabe III vs TSV Gut-Heil Heist II (159)
UID:83382ee3-3f7a-598e-e053-1fc7a80a5d7a
STATUS:CONFIRMED
LAST-MODIFIED:20190303T214240Z
DESCRIPTION:Herren - Kreisliga\nBegegnungs-Nr: 159\nHeim: SV Friedrichsgabe III\nGast: TSV Gut-Heil Heist II\n
LOCATION:
CATEGORIES:Saison 2017/18
END:VEVENT
END:VCALENDAR
