BEGIN:VCALENDAR
PRODID:-//nuDatenautomaten//framework iCal4j //DE
VERSION:2.0
CALSCALE:GREGORIAN
BEGIN:VTIMEZONE
TZID:Europe/Berlin
LAST-MODIFIED:20260306T231828Z
TZURL:https://www.tzurl.org/zoneinfo/Europe/Berlin
X-LIC-LOCATION:Europe/Berlin
X-PROLEPTIC-TZNAME:LMT
BEGIN:STANDARD
TZNAME:CET
TZOFFSETFROM:+005328
TZOFFSETTO:+0100
DTSTART:18930401T000000
END:STANDARD
BEGIN:DAYLIGHT
TZNAME:CEST
TZOFFSETFROM:+0100
TZOFFSETTO:+0200
DTSTART:19160430T230000
RDATE:19400401T020000
RDATE:19430329T020000
RDATE:19460414T020000
RDATE:19470406T030000
RDATE:19480418T020000
RDATE:19490410T020000
RDATE:19800406T020000
END:DAYLIGHT
BEGIN:STANDARD
TZNAME:CET
TZOFFSETFROM:+0200
TZOFFSETTO:+0100
DTSTART:19161001T010000
RDATE:19421102T030000
RDATE:19431004T030000
RDATE:19441002T030000
RDATE:19451118T030000
RDATE:19461007T030000
END:STANDARD
BEGIN:DAYLIGHT
TZNAME:CEST
TZOFFSETFROM:+0100
TZOFFSETTO:+0200
DTSTART:19170416T020000
RRULE:FREQ=YEARLY;UNTIL=19180415T010000Z;BYMONTH=4;BYDAY=3MO
END:DAYLIGHT
BEGIN:STANDARD
TZNAME:CET
TZOFFSETFROM:+0200
TZOFFSETTO:+0100
DTSTART:19170917T030000
RRULE:FREQ=YEARLY;UNTIL=19180916T010000Z;BYMONTH=9;BYDAY=3MO
END:STANDARD
BEGIN:DAYLIGHT
TZNAME:CEST
TZOFFSETFROM:+0100
TZOFFSETTO:+0200
DTSTART:19440403T020000
RRULE:FREQ=YEARLY;UNTIL=19450402T010000Z;BYMONTH=4;BYDAY=1MO
END:DAYLIGHT
BEGIN:DAYLIGHT
TZNAME:CEMT
TZOFFSETFROM:+0200
TZOFFSETTO:+0300
DTSTART:19450524T020000
RDATE:19470511T030000
END:DAYLIGHT
BEGIN:DAYLIGHT
TZNAME:CEST
TZOFFSETFROM:+0300
TZOFFSETTO:+0200
DTSTART:19450924T030000
RDATE:19470629T030000
END:DAYLIGHT
BEGIN:STANDARD
TZNAME:CET
TZOFFSETFROM:+0100
TZOFFSETTO:+0100
DTSTART:19460101T000000
RDATE:19800101T000000
END:STANDARD
BEGIN:STANDARD
TZNAME:CET
TZOFFSETFROM:+0200
TZOFFSETTO:+0100
DTSTART:19471005T030000
RRULE:FREQ=YEARLY;UNTIL=19491002T010000Z;BYMONTH=10;BYDAY=1SU
END:STANDARD
BEGIN:STANDARD
TZNAME:CET
TZOFFSETFROM:+0200
TZOFFSETTO:+0100
DTSTART:19800928T030000
RRULE:FREQ=YEARLY;UNTIL=19950924T010000Z;BYMONTH=9;BYDAY=-1SU
END:STANDARD
BEGIN:DAYLIGHT
TZNAME:CEST
TZOFFSETFROM:+0100
TZOFFSETTO:+0200
DTSTART:19810329T020000
RRULE:FREQ=YEARLY;BYMONTH=3;BYDAY=-1SU
END:DAYLIGHT
BEGIN:STANDARD
TZNAME:CET
TZOFFSETFROM:+0200
TZOFFSETTO:+0100
DTSTART:19961027T030000
RRULE:FREQ=YEARLY;BYMONTH=10;BYDAY=-1SU
END:STANDARD
END:VTIMEZONE
BEGIN:VEVENT
DTSTAMP:20260423T211216Z
DTSTART;TZID=Europe/Berlin:20171006T193400
DTEND;TZID=Europe/Berlin:20171006T223400
SUMMARY:Kreisliga TTC Die Sterne Elmshorn II vs TuS Appen  (20)
UID:83382ee3-375a-598e-e053-1fc7a80a5d7a
STATUS:CONFIRMED
LAST-MODIFIED:20190303T214238Z
DESCRIPTION:Herren - Kreisliga\nBegegnungs-Nr: 20\nHeim: TTC Die Sterne Elmshorn II\nGast: TuS Appen \n
LOCATION:
CATEGORIES:Saison 2017/18
END:VEVENT
BEGIN:VEVENT
DTSTAMP:20260423T211216Z
DTSTART;TZID=Europe/Berlin:20170915T193400
DTEND;TZID=Europe/Berlin:20170915T223400
SUMMARY:Kreisliga TTC Die Sterne Elmshorn II vs TSV Uetersen II (3)
UID:83382ee3-3820-598e-e053-1fc7a80a5d7a
STATUS:CONFIRMED
LAST-MODIFIED:20190303T214238Z
DESCRIPTION:Herren - Kreisliga\nBegegnungs-Nr: 3\nHeim: TTC Die Sterne Elmshorn II\nGast: TSV Uetersen II\n
LOCATION:
CATEGORIES:Saison 2017/18
END:VEVENT
BEGIN:VEVENT
DTSTAMP:20260423T211216Z
DTSTART;TZID=Europe/Berlin:20171103T193400
DTEND;TZID=Europe/Berlin:20171103T223400
SUMMARY:Kreisliga TTC Die Sterne Elmshorn II vs Voßlocher SV  (33)
UID:83382ee3-3878-598e-e053-1fc7a80a5d7a
STATUS:CONFIRMED
LAST-MODIFIED:20190303T214238Z
DESCRIPTION:Herren - Kreisliga\nBegegnungs-Nr: 33\nHeim: TTC Die Sterne Elmshorn II\nGast: Voßlocher SV \n
LOCATION:
CATEGORIES:Saison 2017/18
END:VEVENT
BEGIN:VEVENT
DTSTAMP:20260423T211216Z
DTSTART;TZID=Europe/Berlin:20171110T193400
DTEND;TZID=Europe/Berlin:20171110T223400
SUMMARY:Kreisliga TTC Die Sterne Elmshorn II vs TSV Sparrieshoop II (41)
UID:83382ee3-3936-598e-e053-1fc7a80a5d7a
STATUS:CONFIRMED
LAST-MODIFIED:20190303T214238Z
DESCRIPTION:Herren - Kreisliga\nBegegnungs-Nr: 41\nHeim: TTC Die Sterne Elmshorn II\nGast: TSV Sparrieshoop II\n
LOCATION:
CATEGORIES:Saison 2017/18
END:VEVENT
BEGIN:VEVENT
DTSTAMP:20260423T211216Z
DTSTART;TZID=Europe/Berlin:20180202T200400
DTEND;TZID=Europe/Berlin:20180202T230400
SUMMARY:Kreisliga TTC Die Sterne Elmshorn II vs TSV Uetersen III (110)
UID:83382ee3-3c37-598e-e053-1fc7a80a5d7a
STATUS:CONFIRMED
LAST-MODIFIED:20190303T214239Z
DESCRIPTION:Herren - Kreisliga\nBegegnungs-Nr: 110\nHeim: TTC Die Sterne Elmshorn II\nGast: TSV Uetersen III\n
LOCATION:
CATEGORIES:Saison 2017/18
END:VEVENT
BEGIN:VEVENT
DTSTAMP:20260423T211216Z
DTSTART;TZID=Europe/Berlin:20180209T200400
DTEND;TZID=Europe/Berlin:20180209T230400
SUMMARY:Kreisliga TTC Die Sterne Elmshorn II vs Moorreger SV IV (114)
UID:83382ee3-3c71-598e-e053-1fc7a80a5d7a
STATUS:CONFIRMED
LAST-MODIFIED:20190303T214239Z
DESCRIPTION:Herren - Kreisliga\nBegegnungs-Nr: 114\nHeim: TTC Die Sterne Elmshorn II\nGast: Moorreger SV IV\n
LOCATION:
CATEGORIES:Saison 2017/18
END:VEVENT
BEGIN:VEVENT
DTSTAMP:20260423T211216Z
DTSTART;TZID=Europe/Berlin:20180223T200400
DTEND;TZID=Europe/Berlin:20180223T230400
SUMMARY:Kreisliga TTC Die Sterne Elmshorn II vs TuS Holstein Quickborn II (127)
UID:83382ee3-3d3d-598e-e053-1fc7a80a5d7a
STATUS:CONFIRMED
LAST-MODIFIED:20190303T214239Z
DESCRIPTION:Herren - Kreisliga\nBegegnungs-Nr: 127\nHeim: TTC Die Sterne Elmshorn II\nGast: TuS Holstein Quickborn II\n
LOCATION:
CATEGORIES:Saison 2017/18
END:VEVENT
BEGIN:VEVENT
DTSTAMP:20260423T211216Z
DTSTART;TZID=Europe/Berlin:20180316T200400
DTEND;TZID=Europe/Berlin:20180316T230400
SUMMARY:Kreisliga TTC Die Sterne Elmshorn II vs SV Friedrichsgabe III (147)
UID:83382ee3-3e98-598e-e053-1fc7a80a5d7a
STATUS:CONFIRMED
LAST-MODIFIED:20190303T214239Z
DESCRIPTION:Herren - Kreisliga\nBegegnungs-Nr: 147\nHeim: TTC Die Sterne Elmshorn II\nGast: SV Friedrichsgabe III\n
LOCATION:
CATEGORIES:Saison 2017/18
END:VEVENT
BEGIN:VEVENT
DTSTAMP:20260423T211216Z
DTSTART;TZID=Europe/Berlin:20180406T200400
DTEND;TZID=Europe/Berlin:20180406T230400
SUMMARY:Kreisliga TTC Die Sterne Elmshorn II vs TSV Gut-Heil Heist II (154)
UID:83382ee3-3f0f-598e-e053-1fc7a80a5d7a
STATUS:CONFIRMED
LAST-MODIFIED:20190303T214240Z
DESCRIPTION:Herren - Kreisliga\nBegegnungs-Nr: 154\nHeim: TTC Die Sterne Elmshorn II\nGast: TSV Gut-Heil Heist II\n
LOCATION:
CATEGORIES:Saison 2017/18
END:VEVENT
BEGIN:VEVENT
DTSTAMP:20260423T211216Z
DTSTART;TZID=Europe/Berlin:20180420T200400
DTEND;TZID=Europe/Berlin:20180420T230400
SUMMARY:Kreisliga TTC Die Sterne Elmshorn II vs SV Hörnerkirchen  (158)
UID:83382ee3-3f63-598e-e053-1fc7a80a5d7a
STATUS:CONFIRMED
LAST-MODIFIED:20190303T214240Z
DESCRIPTION:Herren - Kreisliga\nBegegnungs-Nr: 158\nHeim: TTC Die Sterne Elmshorn II\nGast: SV Hörnerkirchen \n
LOCATION:
CATEGORIES:Saison 2017/18
END:VEVENT
BEGIN:VEVENT
DTSTAMP:20260423T211216Z
DTSTART;TZID=Europe/Berlin:20170922T201500
DTEND;TZID=Europe/Berlin:20170922T231500
SUMMARY:Kreisliga TSV Uetersen III vs TTC Die Sterne Elmshorn II (12)
UID:83382ee3-36a0-598e-e053-1fc7a80a5d7a
STATUS:CONFIRMED
LAST-MODIFIED:20190303T214238Z
DESCRIPTION:Herren - Kreisliga\nBegegnungs-Nr: 12\nHeim: TSV Uetersen III\nGast: TTC Die Sterne Elmshorn II\n
LOCATION:
CATEGORIES:Saison 2017/18
END:VEVENT
BEGIN:VEVENT
DTSTAMP:20260423T211216Z
DTSTART;TZID=Europe/Berlin:20170928T201500
DTEND;TZID=Europe/Berlin:20170928T231500
SUMMARY:Kreisliga Moorreger SV IV vs TTC Die Sterne Elmshorn II (17)
UID:83382ee3-370a-598e-e053-1fc7a80a5d7a
STATUS:CONFIRMED
LAST-MODIFIED:20190303T214238Z
DESCRIPTION:Herren - Kreisliga\nBegegnungs-Nr: 17\nHeim: Moorreger SV IV\nGast: TTC Die Sterne Elmshorn II\n
LOCATION:
CATEGORIES:Saison 2017/18
END:VEVENT
BEGIN:VEVENT
DTSTAMP:20260423T211216Z
DTSTART;TZID=Europe/Berlin:20171011T201500
DTEND;TZID=Europe/Berlin:20171011T231500
SUMMARY:Kreisliga TuS Holstein Quickborn II vs TTC Die Sterne Elmshorn II (27)
UID:83382ee3-37e8-598e-e053-1fc7a80a5d7a
STATUS:CONFIRMED
LAST-MODIFIED:20190303T214238Z
DESCRIPTION:Herren - Kreisliga\nBegegnungs-Nr: 27\nHeim: TuS Holstein Quickborn II\nGast: TTC Die Sterne Elmshorn II\n
LOCATION:
CATEGORIES:Saison 2017/18
END:VEVENT
BEGIN:VEVENT
DTSTAMP:20260423T211216Z
DTSTART;TZID=Europe/Berlin:20171117T201500
DTEND;TZID=Europe/Berlin:20171117T231500
SUMMARY:Kreisliga SV Friedrichsgabe III vs TTC Die Sterne Elmshorn II (47)
UID:83382ee3-39aa-598e-e053-1fc7a80a5d7a
STATUS:CONFIRMED
LAST-MODIFIED:20190303T214238Z
DESCRIPTION:Herren - Kreisliga\nBegegnungs-Nr: 47\nHeim: SV Friedrichsgabe III\nGast: TTC Die Sterne Elmshorn II\n
LOCATION:
CATEGORIES:Saison 2017/18
END:VEVENT
BEGIN:VEVENT
DTSTAMP:20260423T211216Z
DTSTART;TZID=Europe/Berlin:20171122T192000
DTEND;TZID=Europe/Berlin:20171122T222000
SUMMARY:Kreisliga TSV Gut-Heil Heist II vs TTC Die Sterne Elmshorn II (52)
UID:83382ee3-3a28-598e-e053-1fc7a80a5d7a
STATUS:CONFIRMED
LAST-MODIFIED:20190303T214238Z
DESCRIPTION:Herren - Kreisliga\nBegegnungs-Nr: 52\nHeim: TSV Gut-Heil Heist II\nGast: TTC Die Sterne Elmshorn II\n
LOCATION:
CATEGORIES:Saison 2017/18
END:VEVENT
BEGIN:VEVENT
DTSTAMP:20260423T211216Z
DTSTART;TZID=Europe/Berlin:20171201T201500
DTEND;TZID=Europe/Berlin:20171201T231500
SUMMARY:Kreisliga SV Hörnerkirchen  vs TTC Die Sterne Elmshorn II (58)
UID:83382ee3-3a9a-598e-e053-1fc7a80a5d7a
STATUS:CONFIRMED
LAST-MODIFIED:20190303T214239Z
DESCRIPTION:Herren - Kreisliga\nBegegnungs-Nr: 58\nHeim: SV Hörnerkirchen \nGast: TTC Die Sterne Elmshorn II\n
LOCATION:
CATEGORIES:Saison 2017/18
END:VEVENT
BEGIN:VEVENT
DTSTAMP:20260423T211216Z
DTSTART;TZID=Europe/Berlin:20180125T201500
DTEND;TZID=Europe/Berlin:20180125T231500
SUMMARY:Kreisliga TSV Uetersen II vs TTC Die Sterne Elmshorn II (105)
UID:83382ee3-3bd1-598e-e053-1fc7a80a5d7a
STATUS:CONFIRMED
LAST-MODIFIED:20190303T214239Z
DESCRIPTION:Herren - Kreisliga\nBegegnungs-Nr: 105\nHeim: TSV Uetersen II\nGast: TTC Die Sterne Elmshorn II\n
LOCATION:
CATEGORIES:Saison 2017/18
END:VEVENT
BEGIN:VEVENT
DTSTAMP:20260423T211216Z
DTSTART;TZID=Europe/Berlin:20180213T201500
DTEND;TZID=Europe/Berlin:20180213T231500
SUMMARY:Kreisliga TuS Appen  vs TTC Die Sterne Elmshorn II (121)
UID:83382ee3-3cdb-598e-e053-1fc7a80a5d7a
STATUS:CONFIRMED
LAST-MODIFIED:20190303T214239Z
DESCRIPTION:Herren - Kreisliga\nBegegnungs-Nr: 121\nHeim: TuS Appen \nGast: TTC Die Sterne Elmshorn II\n
LOCATION:
CATEGORIES:Saison 2017/18
END:VEVENT
BEGIN:VEVENT
DTSTAMP:20260423T211216Z
DTSTART;TZID=Europe/Berlin:20180302T201500
DTEND;TZID=Europe/Berlin:20180302T231500
SUMMARY:Kreisliga Voßlocher SV  vs TTC Die Sterne Elmshorn II (137)
UID:83382ee3-3df0-598e-e053-1fc7a80a5d7a
STATUS:CONFIRMED
LAST-MODIFIED:20190303T214239Z
DESCRIPTION:Herren - Kreisliga\nBegegnungs-Nr: 137\nHeim: Voßlocher SV \nGast: TTC Die Sterne Elmshorn II\n
LOCATION:
CATEGORIES:Saison 2017/18
END:VEVENT
BEGIN:VEVENT
DTSTAMP:20260423T211216Z
DTSTART;TZID=Europe/Berlin:20180309T201500
DTEND;TZID=Europe/Berlin:20180309T231500
SUMMARY:Kreisliga TSV Sparrieshoop II vs TTC Die Sterne Elmshorn II (140)
UID:83382ee3-3e1e-598e-e053-1fc7a80a5d7a
STATUS:CONFIRMED
LAST-MODIFIED:20190303T214239Z
DESCRIPTION:Herren - Kreisliga\nBegegnungs-Nr: 140\nHeim: TSV Sparrieshoop II\nGast: TTC Die Sterne Elmshorn II\n
LOCATION:
CATEGORIES:Saison 2017/18
END:VEVENT
END:VCALENDAR
