BEGIN:VCALENDAR
PRODID:-//nuDatenautomaten//framework iCal4j //DE
VERSION:2.0
CALSCALE:GREGORIAN
BEGIN:VTIMEZONE
TZID:Europe/Berlin
LAST-MODIFIED:20260306T231828Z
TZURL:https://www.tzurl.org/zoneinfo/Europe/Berlin
X-LIC-LOCATION:Europe/Berlin
X-PROLEPTIC-TZNAME:LMT
BEGIN:STANDARD
TZNAME:CET
TZOFFSETFROM:+005328
TZOFFSETTO:+0100
DTSTART:18930401T000000
END:STANDARD
BEGIN:DAYLIGHT
TZNAME:CEST
TZOFFSETFROM:+0100
TZOFFSETTO:+0200
DTSTART:19160430T230000
RDATE:19400401T020000
RDATE:19430329T020000
RDATE:19460414T020000
RDATE:19470406T030000
RDATE:19480418T020000
RDATE:19490410T020000
RDATE:19800406T020000
END:DAYLIGHT
BEGIN:STANDARD
TZNAME:CET
TZOFFSETFROM:+0200
TZOFFSETTO:+0100
DTSTART:19161001T010000
RDATE:19421102T030000
RDATE:19431004T030000
RDATE:19441002T030000
RDATE:19451118T030000
RDATE:19461007T030000
END:STANDARD
BEGIN:DAYLIGHT
TZNAME:CEST
TZOFFSETFROM:+0100
TZOFFSETTO:+0200
DTSTART:19170416T020000
RRULE:FREQ=YEARLY;UNTIL=19180415T010000Z;BYMONTH=4;BYDAY=3MO
END:DAYLIGHT
BEGIN:STANDARD
TZNAME:CET
TZOFFSETFROM:+0200
TZOFFSETTO:+0100
DTSTART:19170917T030000
RRULE:FREQ=YEARLY;UNTIL=19180916T010000Z;BYMONTH=9;BYDAY=3MO
END:STANDARD
BEGIN:DAYLIGHT
TZNAME:CEST
TZOFFSETFROM:+0100
TZOFFSETTO:+0200
DTSTART:19440403T020000
RRULE:FREQ=YEARLY;UNTIL=19450402T010000Z;BYMONTH=4;BYDAY=1MO
END:DAYLIGHT
BEGIN:DAYLIGHT
TZNAME:CEMT
TZOFFSETFROM:+0200
TZOFFSETTO:+0300
DTSTART:19450524T020000
RDATE:19470511T030000
END:DAYLIGHT
BEGIN:DAYLIGHT
TZNAME:CEST
TZOFFSETFROM:+0300
TZOFFSETTO:+0200
DTSTART:19450924T030000
RDATE:19470629T030000
END:DAYLIGHT
BEGIN:STANDARD
TZNAME:CET
TZOFFSETFROM:+0100
TZOFFSETTO:+0100
DTSTART:19460101T000000
RDATE:19800101T000000
END:STANDARD
BEGIN:STANDARD
TZNAME:CET
TZOFFSETFROM:+0200
TZOFFSETTO:+0100
DTSTART:19471005T030000
RRULE:FREQ=YEARLY;UNTIL=19491002T010000Z;BYMONTH=10;BYDAY=1SU
END:STANDARD
BEGIN:STANDARD
TZNAME:CET
TZOFFSETFROM:+0200
TZOFFSETTO:+0100
DTSTART:19800928T030000
RRULE:FREQ=YEARLY;UNTIL=19950924T010000Z;BYMONTH=9;BYDAY=-1SU
END:STANDARD
BEGIN:DAYLIGHT
TZNAME:CEST
TZOFFSETFROM:+0100
TZOFFSETTO:+0200
DTSTART:19810329T020000
RRULE:FREQ=YEARLY;BYMONTH=3;BYDAY=-1SU
END:DAYLIGHT
BEGIN:STANDARD
TZNAME:CET
TZOFFSETFROM:+0200
TZOFFSETTO:+0100
DTSTART:19961027T030000
RRULE:FREQ=YEARLY;BYMONTH=10;BYDAY=-1SU
END:STANDARD
END:VTIMEZONE
BEGIN:VEVENT
DTSTAMP:20260423T134144Z
DTSTART;TZID=Europe/Berlin:20170926T201500
DTEND;TZID=Europe/Berlin:20170926T231500
SUMMARY:Kreisliga TuS Appen  vs Voßlocher SV  (15)
UID:83382ee3-36e0-598e-e053-1fc7a80a5d7a
STATUS:CONFIRMED
LAST-MODIFIED:20190303T214238Z
DESCRIPTION:Herren - Kreisliga\nBegegnungs-Nr: 15\nHeim: TuS Appen \nGast: Voßlocher SV \n
LOCATION:
CATEGORIES:Saison 2017/18
END:VEVENT
BEGIN:VEVENT
DTSTAMP:20260423T134144Z
DTSTART;TZID=Europe/Berlin:20171010T201500
DTEND;TZID=Europe/Berlin:20171010T231500
SUMMARY:Kreisliga TuS Appen  vs SV Friedrichsgabe III (26)
UID:83382ee3-37d6-598e-e053-1fc7a80a5d7a
STATUS:CONFIRMED
LAST-MODIFIED:20190303T214238Z
DESCRIPTION:Herren - Kreisliga\nBegegnungs-Nr: 26\nHeim: TuS Appen \nGast: SV Friedrichsgabe III\n
LOCATION:
CATEGORIES:Saison 2017/18
END:VEVENT
BEGIN:VEVENT
DTSTAMP:20260423T134144Z
DTSTART;TZID=Europe/Berlin:20171107T201500
DTEND;TZID=Europe/Berlin:20171107T231500
SUMMARY:Kreisliga TuS Appen  vs SV Hörnerkirchen  (38)
UID:83382ee3-38e5-598e-e053-1fc7a80a5d7a
STATUS:CONFIRMED
LAST-MODIFIED:20190303T214238Z
DESCRIPTION:Herren - Kreisliga\nBegegnungs-Nr: 38\nHeim: TuS Appen \nGast: SV Hörnerkirchen \n
LOCATION:
CATEGORIES:Saison 2017/18
END:VEVENT
BEGIN:VEVENT
DTSTAMP:20260423T134144Z
DTSTART;TZID=Europe/Berlin:20171121T201500
DTEND;TZID=Europe/Berlin:20171121T231500
SUMMARY:Kreisliga TuS Appen  vs TSV Uetersen III (49)
UID:83382ee3-39d6-598e-e053-1fc7a80a5d7a
STATUS:CONFIRMED
LAST-MODIFIED:20190303T214238Z
DESCRIPTION:Herren - Kreisliga\nBegegnungs-Nr: 49\nHeim: TuS Appen \nGast: TSV Uetersen III\n
LOCATION:
CATEGORIES:Saison 2017/18
END:VEVENT
BEGIN:VEVENT
DTSTAMP:20260423T134144Z
DTSTART;TZID=Europe/Berlin:20171205T201500
DTEND;TZID=Europe/Berlin:20171205T231500
SUMMARY:Kreisliga TuS Appen  vs Moorreger SV IV (61)
UID:83382ee3-3aee-598e-e053-1fc7a80a5d7a
STATUS:CONFIRMED
LAST-MODIFIED:20190303T214239Z
DESCRIPTION:Herren - Kreisliga\nBegegnungs-Nr: 61\nHeim: TuS Appen \nGast: Moorreger SV IV\n
LOCATION:
CATEGORIES:Saison 2017/18
END:VEVENT
BEGIN:VEVENT
DTSTAMP:20260423T134144Z
DTSTART;TZID=Europe/Berlin:20180123T201500
DTEND;TZID=Europe/Berlin:20180123T231500
SUMMARY:Kreisliga TuS Appen  vs TuS Holstein Quickborn II (103)
UID:83382ee3-3ba8-598e-e053-1fc7a80a5d7a
STATUS:CONFIRMED
LAST-MODIFIED:20190303T214239Z
DESCRIPTION:Herren - Kreisliga\nBegegnungs-Nr: 103\nHeim: TuS Appen \nGast: TuS Holstein Quickborn II\n
LOCATION:
CATEGORIES:Saison 2017/18
END:VEVENT
BEGIN:VEVENT
DTSTAMP:20260423T134144Z
DTSTART;TZID=Europe/Berlin:20180130T201500
DTEND;TZID=Europe/Berlin:20180130T231500
SUMMARY:Kreisliga TuS Appen  vs TSV Sparrieshoop II (108)
UID:83382ee3-3c0e-598e-e053-1fc7a80a5d7a
STATUS:CONFIRMED
LAST-MODIFIED:20190303T214239Z
DESCRIPTION:Herren - Kreisliga\nBegegnungs-Nr: 108\nHeim: TuS Appen \nGast: TSV Sparrieshoop II\n
LOCATION:
CATEGORIES:Saison 2017/18
END:VEVENT
BEGIN:VEVENT
DTSTAMP:20260423T134144Z
DTSTART;TZID=Europe/Berlin:20180213T201500
DTEND;TZID=Europe/Berlin:20180213T231500
SUMMARY:Kreisliga TuS Appen  vs TTC Die Sterne Elmshorn II (121)
UID:83382ee3-3cdb-598e-e053-1fc7a80a5d7a
STATUS:CONFIRMED
LAST-MODIFIED:20190303T214239Z
DESCRIPTION:Herren - Kreisliga\nBegegnungs-Nr: 121\nHeim: TuS Appen \nGast: TTC Die Sterne Elmshorn II\n
LOCATION:
CATEGORIES:Saison 2017/18
END:VEVENT
BEGIN:VEVENT
DTSTAMP:20260423T134144Z
DTSTART;TZID=Europe/Berlin:20180227T201500
DTEND;TZID=Europe/Berlin:20180227T231500
SUMMARY:Kreisliga TuS Appen  vs TSV Gut-Heil Heist II (132)
UID:83382ee3-3da0-598e-e053-1fc7a80a5d7a
STATUS:CONFIRMED
LAST-MODIFIED:20190303T214239Z
DESCRIPTION:Herren - Kreisliga\nBegegnungs-Nr: 132\nHeim: TuS Appen \nGast: TSV Gut-Heil Heist II\n
LOCATION:
CATEGORIES:Saison 2017/18
END:VEVENT
BEGIN:VEVENT
DTSTAMP:20260423T134144Z
DTSTART;TZID=Europe/Berlin:20180417T201500
DTEND;TZID=Europe/Berlin:20180417T231500
SUMMARY:Kreisliga TuS Appen  vs TSV Uetersen II (155)
UID:83382ee3-3f22-598e-e053-1fc7a80a5d7a
STATUS:CONFIRMED
LAST-MODIFIED:20190303T214240Z
DESCRIPTION:Herren - Kreisliga\nBegegnungs-Nr: 155\nHeim: TuS Appen \nGast: TSV Uetersen II\n
LOCATION:
CATEGORIES:Saison 2017/18
END:VEVENT
BEGIN:VEVENT
DTSTAMP:20260423T134144Z
DTSTART;TZID=Europe/Berlin:20170922T201500
DTEND;TZID=Europe/Berlin:20170922T231500
SUMMARY:Kreisliga TSV Sparrieshoop II vs TuS Appen  (11)
UID:83382ee3-368b-598e-e053-1fc7a80a5d7a
STATUS:CONFIRMED
LAST-MODIFIED:20190303T214238Z
DESCRIPTION:Herren - Kreisliga\nBegegnungs-Nr: 11\nHeim: TSV Sparrieshoop II\nGast: TuS Appen \n
LOCATION:
CATEGORIES:Saison 2017/18
END:VEVENT
BEGIN:VEVENT
DTSTAMP:20260423T134144Z
DTSTART;TZID=Europe/Berlin:20170913T201500
DTEND;TZID=Europe/Berlin:20170913T231500
SUMMARY:Kreisliga TuS Holstein Quickborn II vs TuS Appen  (2)
UID:83382ee3-3743-598e-e053-1fc7a80a5d7a
STATUS:CONFIRMED
LAST-MODIFIED:20190303T214238Z
DESCRIPTION:Herren - Kreisliga\nBegegnungs-Nr: 2\nHeim: TuS Holstein Quickborn II\nGast: TuS Appen \n
LOCATION:
CATEGORIES:Saison 2017/18
END:VEVENT
BEGIN:VEVENT
DTSTAMP:20260423T134144Z
DTSTART;TZID=Europe/Berlin:20171006T193400
DTEND;TZID=Europe/Berlin:20171006T223400
SUMMARY:Kreisliga TTC Die Sterne Elmshorn II vs TuS Appen  (20)
UID:83382ee3-375a-598e-e053-1fc7a80a5d7a
STATUS:CONFIRMED
LAST-MODIFIED:20190303T214238Z
DESCRIPTION:Herren - Kreisliga\nBegegnungs-Nr: 20\nHeim: TTC Die Sterne Elmshorn II\nGast: TuS Appen \n
LOCATION:
CATEGORIES:Saison 2017/18
END:VEVENT
BEGIN:VEVENT
DTSTAMP:20260423T134144Z
DTSTART;TZID=Europe/Berlin:20171103T203000
DTEND;TZID=Europe/Berlin:20171103T233000
SUMMARY:Kreisliga TSV Gut-Heil Heist II vs TuS Appen  (37)
UID:83382ee3-38d4-598e-e053-1fc7a80a5d7a
STATUS:CONFIRMED
LAST-MODIFIED:20190303T214238Z
DESCRIPTION:Herren - Kreisliga\nBegegnungs-Nr: 37\nHeim: TSV Gut-Heil Heist II\nGast: TuS Appen \n
LOCATION:
CATEGORIES:Saison 2017/18
END:VEVENT
BEGIN:VEVENT
DTSTAMP:20260423T134144Z
DTSTART;TZID=Europe/Berlin:20171113T201500
DTEND;TZID=Europe/Berlin:20171113T231500
SUMMARY:Kreisliga TuS Esingen III vs TuS Appen  (43)
UID:83382ee3-395b-598e-e053-1fc7a80a5d7a
STATUS:CONFIRMED
LAST-MODIFIED:20190303T214238Z
DESCRIPTION:Herren - Kreisliga\nBegegnungs-Nr: 43\nHeim: TuS Esingen III\nGast: TuS Appen \n
LOCATION:
CATEGORIES:Saison 2017/18
END:VEVENT
BEGIN:VEVENT
DTSTAMP:20260423T134144Z
DTSTART;TZID=Europe/Berlin:20171130T201500
DTEND;TZID=Europe/Berlin:20171130T231500
SUMMARY:Kreisliga TSV Uetersen II vs TuS Appen  (56)
UID:83382ee3-3a75-598e-e053-1fc7a80a5d7a
STATUS:CONFIRMED
LAST-MODIFIED:20190303T214239Z
DESCRIPTION:Herren - Kreisliga\nBegegnungs-Nr: 56\nHeim: TSV Uetersen II\nGast: TuS Appen \n
LOCATION:
CATEGORIES:Saison 2017/18
END:VEVENT
BEGIN:VEVENT
DTSTAMP:20260423T134144Z
DTSTART;TZID=Europe/Berlin:20180209T201500
DTEND;TZID=Europe/Berlin:20180209T231500
SUMMARY:Kreisliga Voßlocher SV  vs TuS Appen  (117)
UID:83382ee3-3cb0-598e-e053-1fc7a80a5d7a
STATUS:CONFIRMED
LAST-MODIFIED:20190303T214239Z
DESCRIPTION:Herren - Kreisliga\nBegegnungs-Nr: 117\nHeim: Voßlocher SV \nGast: TuS Appen \n
LOCATION:
CATEGORIES:Saison 2017/18
END:VEVENT
BEGIN:VEVENT
DTSTAMP:20260423T134144Z
DTSTART;TZID=Europe/Berlin:20180223T201500
DTEND;TZID=Europe/Berlin:20180223T231500
SUMMARY:Kreisliga SV Friedrichsgabe III vs TuS Appen  (128)
UID:83382ee3-3d54-598e-e053-1fc7a80a5d7a
STATUS:CONFIRMED
LAST-MODIFIED:20190303T214239Z
DESCRIPTION:Herren - Kreisliga\nBegegnungs-Nr: 128\nHeim: SV Friedrichsgabe III\nGast: TuS Appen \n
LOCATION:
CATEGORIES:Saison 2017/18
END:VEVENT
BEGIN:VEVENT
DTSTAMP:20260423T134144Z
DTSTART;TZID=Europe/Berlin:20180309T201500
DTEND;TZID=Europe/Berlin:20180309T231500
SUMMARY:Kreisliga SV Hörnerkirchen  vs TuS Appen  (141)
UID:83382ee3-3e31-598e-e053-1fc7a80a5d7a
STATUS:CONFIRMED
LAST-MODIFIED:20190303T214239Z
DESCRIPTION:Herren - Kreisliga\nBegegnungs-Nr: 141\nHeim: SV Hörnerkirchen \nGast: TuS Appen \n
LOCATION:
CATEGORIES:Saison 2017/18
END:VEVENT
BEGIN:VEVENT
DTSTAMP:20260423T134144Z
DTSTART;TZID=Europe/Berlin:20180323T201500
DTEND;TZID=Europe/Berlin:20180323T231500
SUMMARY:Kreisliga TSV Uetersen III vs TuS Appen  (153)
UID:83382ee3-3efb-598e-e053-1fc7a80a5d7a
STATUS:CONFIRMED
LAST-MODIFIED:20190303T214240Z
DESCRIPTION:Herren - Kreisliga\nBegegnungs-Nr: 153\nHeim: TSV Uetersen III\nGast: TuS Appen \n
LOCATION:
CATEGORIES:Saison 2017/18
END:VEVENT
BEGIN:VEVENT
DTSTAMP:20260423T134144Z
DTSTART;TZID=Europe/Berlin:20180426T201500
DTEND;TZID=Europe/Berlin:20180426T231500
SUMMARY:Kreisliga Moorreger SV IV vs TuS Appen  (163)
UID:83382ee3-3fa2-598e-e053-1fc7a80a5d7a
STATUS:CONFIRMED
LAST-MODIFIED:20190303T214240Z
DESCRIPTION:Herren - Kreisliga\nBegegnungs-Nr: 163\nHeim: Moorreger SV IV\nGast: TuS Appen \n
LOCATION:
CATEGORIES:Saison 2017/18
END:VEVENT
END:VCALENDAR
