BEGIN:VCALENDAR
PRODID:-//nuDatenautomaten//framework iCal4j //DE
VERSION:2.0
CALSCALE:GREGORIAN
BEGIN:VTIMEZONE
TZID:Europe/Berlin
LAST-MODIFIED:20260306T231828Z
TZURL:https://www.tzurl.org/zoneinfo/Europe/Berlin
X-LIC-LOCATION:Europe/Berlin
X-PROLEPTIC-TZNAME:LMT
BEGIN:STANDARD
TZNAME:CET
TZOFFSETFROM:+005328
TZOFFSETTO:+0100
DTSTART:18930401T000000
END:STANDARD
BEGIN:DAYLIGHT
TZNAME:CEST
TZOFFSETFROM:+0100
TZOFFSETTO:+0200
DTSTART:19160430T230000
RDATE:19400401T020000
RDATE:19430329T020000
RDATE:19460414T020000
RDATE:19470406T030000
RDATE:19480418T020000
RDATE:19490410T020000
RDATE:19800406T020000
END:DAYLIGHT
BEGIN:STANDARD
TZNAME:CET
TZOFFSETFROM:+0200
TZOFFSETTO:+0100
DTSTART:19161001T010000
RDATE:19421102T030000
RDATE:19431004T030000
RDATE:19441002T030000
RDATE:19451118T030000
RDATE:19461007T030000
END:STANDARD
BEGIN:DAYLIGHT
TZNAME:CEST
TZOFFSETFROM:+0100
TZOFFSETTO:+0200
DTSTART:19170416T020000
RRULE:FREQ=YEARLY;UNTIL=19180415T010000Z;BYMONTH=4;BYDAY=3MO
END:DAYLIGHT
BEGIN:STANDARD
TZNAME:CET
TZOFFSETFROM:+0200
TZOFFSETTO:+0100
DTSTART:19170917T030000
RRULE:FREQ=YEARLY;UNTIL=19180916T010000Z;BYMONTH=9;BYDAY=3MO
END:STANDARD
BEGIN:DAYLIGHT
TZNAME:CEST
TZOFFSETFROM:+0100
TZOFFSETTO:+0200
DTSTART:19440403T020000
RRULE:FREQ=YEARLY;UNTIL=19450402T010000Z;BYMONTH=4;BYDAY=1MO
END:DAYLIGHT
BEGIN:DAYLIGHT
TZNAME:CEMT
TZOFFSETFROM:+0200
TZOFFSETTO:+0300
DTSTART:19450524T020000
RDATE:19470511T030000
END:DAYLIGHT
BEGIN:DAYLIGHT
TZNAME:CEST
TZOFFSETFROM:+0300
TZOFFSETTO:+0200
DTSTART:19450924T030000
RDATE:19470629T030000
END:DAYLIGHT
BEGIN:STANDARD
TZNAME:CET
TZOFFSETFROM:+0100
TZOFFSETTO:+0100
DTSTART:19460101T000000
RDATE:19800101T000000
END:STANDARD
BEGIN:STANDARD
TZNAME:CET
TZOFFSETFROM:+0200
TZOFFSETTO:+0100
DTSTART:19471005T030000
RRULE:FREQ=YEARLY;UNTIL=19491002T010000Z;BYMONTH=10;BYDAY=1SU
END:STANDARD
BEGIN:STANDARD
TZNAME:CET
TZOFFSETFROM:+0200
TZOFFSETTO:+0100
DTSTART:19800928T030000
RRULE:FREQ=YEARLY;UNTIL=19950924T010000Z;BYMONTH=9;BYDAY=-1SU
END:STANDARD
BEGIN:DAYLIGHT
TZNAME:CEST
TZOFFSETFROM:+0100
TZOFFSETTO:+0200
DTSTART:19810329T020000
RRULE:FREQ=YEARLY;BYMONTH=3;BYDAY=-1SU
END:DAYLIGHT
BEGIN:STANDARD
TZNAME:CET
TZOFFSETFROM:+0200
TZOFFSETTO:+0100
DTSTART:19961027T030000
RRULE:FREQ=YEARLY;BYMONTH=10;BYDAY=-1SU
END:STANDARD
END:VTIMEZONE
BEGIN:VEVENT
DTSTAMP:20260424T213334Z
DTSTART;TZID=Europe/Berlin:20171005T201500
DTEND;TZID=Europe/Berlin:20171005T231500
SUMMARY:Kreisliga TSV Uetersen II vs TSV Uetersen III (1)
UID:83382ee3-3661-598e-e053-1fc7a80a5d7a
STATUS:CONFIRMED
LAST-MODIFIED:20190303T214238Z
DESCRIPTION:Herren - Kreisliga\nBegegnungs-Nr: 1\nHeim: TSV Uetersen II\nGast: TSV Uetersen III\n
LOCATION:
CATEGORIES:Saison 2017/18
END:VEVENT
BEGIN:VEVENT
DTSTAMP:20260424T213334Z
DTSTART;TZID=Europe/Berlin:20170928T201500
DTEND;TZID=Europe/Berlin:20170928T231500
SUMMARY:Kreisliga TSV Uetersen II vs SV Friedrichsgabe III (18)
UID:83382ee3-371e-598e-e053-1fc7a80a5d7a
STATUS:CONFIRMED
LAST-MODIFIED:20190303T214238Z
DESCRIPTION:Herren - Kreisliga\nBegegnungs-Nr: 18\nHeim: TSV Uetersen II\nGast: SV Friedrichsgabe III\n
LOCATION:
CATEGORIES:Saison 2017/18
END:VEVENT
BEGIN:VEVENT
DTSTAMP:20260424T213334Z
DTSTART;TZID=Europe/Berlin:20171012T201500
DTEND;TZID=Europe/Berlin:20171012T231500
SUMMARY:Kreisliga TSV Uetersen II vs SV Hörnerkirchen  (29)
UID:83382ee3-380d-598e-e053-1fc7a80a5d7a
STATUS:CONFIRMED
LAST-MODIFIED:20190303T214238Z
DESCRIPTION:Herren - Kreisliga\nBegegnungs-Nr: 29\nHeim: TSV Uetersen II\nGast: SV Hörnerkirchen \n
LOCATION:
CATEGORIES:Saison 2017/18
END:VEVENT
BEGIN:VEVENT
DTSTAMP:20260424T213334Z
DTSTART;TZID=Europe/Berlin:20171130T201500
DTEND;TZID=Europe/Berlin:20171130T231500
SUMMARY:Kreisliga TSV Uetersen II vs TuS Appen  (56)
UID:83382ee3-3a75-598e-e053-1fc7a80a5d7a
STATUS:CONFIRMED
LAST-MODIFIED:20190303T214239Z
DESCRIPTION:Herren - Kreisliga\nBegegnungs-Nr: 56\nHeim: TSV Uetersen II\nGast: TuS Appen \n
LOCATION:
CATEGORIES:Saison 2017/18
END:VEVENT
BEGIN:VEVENT
DTSTAMP:20260424T213334Z
DTSTART;TZID=Europe/Berlin:20170921T201500
DTEND;TZID=Europe/Berlin:20170921T231500
SUMMARY:Kreisliga TSV Uetersen II vs Voßlocher SV  (9)
UID:83382ee3-3b83-598e-e053-1fc7a80a5d7a
STATUS:CONFIRMED
LAST-MODIFIED:20190303T214239Z
DESCRIPTION:Herren - Kreisliga\nBegegnungs-Nr: 9\nHeim: TSV Uetersen II\nGast: Voßlocher SV \n
LOCATION:
CATEGORIES:Saison 2017/18
END:VEVENT
BEGIN:VEVENT
DTSTAMP:20260424T213334Z
DTSTART;TZID=Europe/Berlin:20180125T201500
DTEND;TZID=Europe/Berlin:20180125T231500
SUMMARY:Kreisliga TSV Uetersen II vs TTC Die Sterne Elmshorn II (105)
UID:83382ee3-3bd1-598e-e053-1fc7a80a5d7a
STATUS:CONFIRMED
LAST-MODIFIED:20190303T214239Z
DESCRIPTION:Herren - Kreisliga\nBegegnungs-Nr: 105\nHeim: TSV Uetersen II\nGast: TTC Die Sterne Elmshorn II\n
LOCATION:
CATEGORIES:Saison 2017/18
END:VEVENT
BEGIN:VEVENT
DTSTAMP:20260424T213334Z
DTSTART;TZID=Europe/Berlin:20180215T201500
DTEND;TZID=Europe/Berlin:20180215T231500
SUMMARY:Kreisliga TSV Uetersen II vs TSV Gut-Heil Heist II (124)
UID:83382ee3-3d17-598e-e053-1fc7a80a5d7a
STATUS:CONFIRMED
LAST-MODIFIED:20190303T214239Z
DESCRIPTION:Herren - Kreisliga\nBegegnungs-Nr: 124\nHeim: TSV Uetersen II\nGast: TSV Gut-Heil Heist II\n
LOCATION:
CATEGORIES:Saison 2017/18
END:VEVENT
BEGIN:VEVENT
DTSTAMP:20260424T213334Z
DTSTART;TZID=Europe/Berlin:20180315T201500
DTEND;TZID=Europe/Berlin:20180315T231500
SUMMARY:Kreisliga TSV Uetersen II vs TSV Sparrieshoop II (146)
UID:83382ee3-3e81-598e-e053-1fc7a80a5d7a
STATUS:CONFIRMED
LAST-MODIFIED:20190303T214239Z
DESCRIPTION:Herren - Kreisliga\nBegegnungs-Nr: 146\nHeim: TSV Uetersen II\nGast: TSV Sparrieshoop II\n
LOCATION:
CATEGORIES:Saison 2017/18
END:VEVENT
BEGIN:VEVENT
DTSTAMP:20260424T213334Z
DTSTART;TZID=Europe/Berlin:20180322T201500
DTEND;TZID=Europe/Berlin:20180322T231500
SUMMARY:Kreisliga TSV Uetersen II vs Moorreger SV IV (150)
UID:83382ee3-3ebe-598e-e053-1fc7a80a5d7a
STATUS:CONFIRMED
LAST-MODIFIED:20190303T214239Z
DESCRIPTION:Herren - Kreisliga\nBegegnungs-Nr: 150\nHeim: TSV Uetersen II\nGast: Moorreger SV IV\n
LOCATION:
CATEGORIES:Saison 2017/18
END:VEVENT
BEGIN:VEVENT
DTSTAMP:20260424T213334Z
DTSTART;TZID=Europe/Berlin:20180424T201500
DTEND;TZID=Europe/Berlin:20180424T231500
SUMMARY:Kreisliga TSV Uetersen II vs TuS Holstein Quickborn II (162)
UID:83382ee3-3f8b-598e-e053-1fc7a80a5d7a
STATUS:CONFIRMED
LAST-MODIFIED:20190303T214240Z
DESCRIPTION:Herren - Kreisliga\nBegegnungs-Nr: 162\nHeim: TSV Uetersen II\nGast: TuS Holstein Quickborn II\n
LOCATION:
CATEGORIES:Saison 2017/18
END:VEVENT
BEGIN:VEVENT
DTSTAMP:20260424T213334Z
DTSTART;TZID=Europe/Berlin:20171027T203000
DTEND;TZID=Europe/Berlin:20171027T233000
SUMMARY:Kreisliga TSV Gut-Heil Heist II vs TSV Uetersen II (25)
UID:83382ee3-37c4-598e-e053-1fc7a80a5d7a
STATUS:CONFIRMED
LAST-MODIFIED:20190303T214238Z
DESCRIPTION:Herren - Kreisliga\nBegegnungs-Nr: 25\nHeim: TSV Gut-Heil Heist II\nGast: TSV Uetersen II\n
LOCATION:
CATEGORIES:Saison 2017/18
END:VEVENT
BEGIN:VEVENT
DTSTAMP:20260424T213334Z
DTSTART;TZID=Europe/Berlin:20170915T193400
DTEND;TZID=Europe/Berlin:20170915T223400
SUMMARY:Kreisliga TTC Die Sterne Elmshorn II vs TSV Uetersen II (3)
UID:83382ee3-3820-598e-e053-1fc7a80a5d7a
STATUS:CONFIRMED
LAST-MODIFIED:20190303T214238Z
DESCRIPTION:Herren - Kreisliga\nBegegnungs-Nr: 3\nHeim: TTC Die Sterne Elmshorn II\nGast: TSV Uetersen II\n
LOCATION:
CATEGORIES:Saison 2017/18
END:VEVENT
BEGIN:VEVENT
DTSTAMP:20260424T213334Z
DTSTART;TZID=Europe/Berlin:20171030T201500
DTEND;TZID=Europe/Berlin:20171030T231500
SUMMARY:Kreisliga TuS Esingen III vs TSV Uetersen II (32)
UID:83382ee3-3861-598e-e053-1fc7a80a5d7a
STATUS:CONFIRMED
LAST-MODIFIED:20190303T214238Z
DESCRIPTION:Herren - Kreisliga\nBegegnungs-Nr: 32\nHeim: TuS Esingen III\nGast: TSV Uetersen II\n
LOCATION:
CATEGORIES:Saison 2017/18
END:VEVENT
BEGIN:VEVENT
DTSTAMP:20260424T213334Z
DTSTART;TZID=Europe/Berlin:20171117T201500
DTEND;TZID=Europe/Berlin:20171117T231500
SUMMARY:Kreisliga TSV Sparrieshoop II vs TSV Uetersen II (45)
UID:83382ee3-3981-598e-e053-1fc7a80a5d7a
STATUS:CONFIRMED
LAST-MODIFIED:20190303T214238Z
DESCRIPTION:Herren - Kreisliga\nBegegnungs-Nr: 45\nHeim: TSV Sparrieshoop II\nGast: TSV Uetersen II\n
LOCATION:
CATEGORIES:Saison 2017/18
END:VEVENT
BEGIN:VEVENT
DTSTAMP:20260424T213334Z
DTSTART;TZID=Europe/Berlin:20171123T201500
DTEND;TZID=Europe/Berlin:20171123T231500
SUMMARY:Kreisliga Moorreger SV IV vs TSV Uetersen II (51)
UID:83382ee3-3a13-598e-e053-1fc7a80a5d7a
STATUS:CONFIRMED
LAST-MODIFIED:20190303T214238Z
DESCRIPTION:Herren - Kreisliga\nBegegnungs-Nr: 51\nHeim: Moorreger SV IV\nGast: TSV Uetersen II\n
LOCATION:
CATEGORIES:Saison 2017/18
END:VEVENT
BEGIN:VEVENT
DTSTAMP:20260424T213334Z
DTSTART;TZID=Europe/Berlin:20180201T201500
DTEND;TZID=Europe/Berlin:20180201T231500
SUMMARY:Kreisliga TSV Uetersen III vs TSV Uetersen II (101)
UID:83382ee3-3b96-598e-e053-1fc7a80a5d7a
STATUS:CONFIRMED
LAST-MODIFIED:20190303T214239Z
DESCRIPTION:Herren - Kreisliga\nBegegnungs-Nr: 101\nHeim: TSV Uetersen III\nGast: TSV Uetersen II\n
LOCATION:
CATEGORIES:Saison 2017/18
END:VEVENT
BEGIN:VEVENT
DTSTAMP:20260424T213334Z
DTSTART;TZID=Europe/Berlin:20180202T201500
DTEND;TZID=Europe/Berlin:20180202T231500
SUMMARY:Kreisliga Voßlocher SV  vs TSV Uetersen II (112)
UID:83382ee3-3c4c-598e-e053-1fc7a80a5d7a
STATUS:CONFIRMED
LAST-MODIFIED:20190303T214239Z
DESCRIPTION:Herren - Kreisliga\nBegegnungs-Nr: 112\nHeim: Voßlocher SV \nGast: TSV Uetersen II\n
LOCATION:
CATEGORIES:Saison 2017/18
END:VEVENT
BEGIN:VEVENT
DTSTAMP:20260424T213334Z
DTSTART;TZID=Europe/Berlin:20171206T201500
DTEND;TZID=Europe/Berlin:20171206T231500
SUMMARY:Kreisliga TuS Holstein Quickborn II vs TSV Uetersen II (62)
UID:83382ee3-3b04-598e-e053-1fc7a80a5d7a
STATUS:CONFIRMED
LAST-MODIFIED:20190303T214239Z
DESCRIPTION:Herren - Kreisliga\nBegegnungs-Nr: 62\nHeim: TuS Holstein Quickborn II\nGast: TSV Uetersen II\n
LOCATION:
CATEGORIES:Saison 2017/18
END:VEVENT
BEGIN:VEVENT
DTSTAMP:20260424T213334Z
DTSTART;TZID=Europe/Berlin:20180209T201500
DTEND;TZID=Europe/Berlin:20180209T231500
SUMMARY:Kreisliga SV Friedrichsgabe III vs TSV Uetersen II (115)
UID:83382ee3-3c89-598e-e053-1fc7a80a5d7a
STATUS:CONFIRMED
LAST-MODIFIED:20190303T214239Z
DESCRIPTION:Herren - Kreisliga\nBegegnungs-Nr: 115\nHeim: SV Friedrichsgabe III\nGast: TSV Uetersen II\n
LOCATION:
CATEGORIES:Saison 2017/18
END:VEVENT
BEGIN:VEVENT
DTSTAMP:20260424T213334Z
DTSTART;TZID=Europe/Berlin:20180223T201500
DTEND;TZID=Europe/Berlin:20180223T231500
SUMMARY:Kreisliga SV Hörnerkirchen  vs TSV Uetersen II (130)
UID:83382ee3-3d7c-598e-e053-1fc7a80a5d7a
STATUS:CONFIRMED
LAST-MODIFIED:20190303T214239Z
DESCRIPTION:Herren - Kreisliga\nBegegnungs-Nr: 130\nHeim: SV Hörnerkirchen \nGast: TSV Uetersen II\n
LOCATION:
CATEGORIES:Saison 2017/18
END:VEVENT
BEGIN:VEVENT
DTSTAMP:20260424T213334Z
DTSTART;TZID=Europe/Berlin:20180417T201500
DTEND;TZID=Europe/Berlin:20180417T231500
SUMMARY:Kreisliga TuS Appen  vs TSV Uetersen II (155)
UID:83382ee3-3f22-598e-e053-1fc7a80a5d7a
STATUS:CONFIRMED
LAST-MODIFIED:20190303T214240Z
DESCRIPTION:Herren - Kreisliga\nBegegnungs-Nr: 155\nHeim: TuS Appen \nGast: TSV Uetersen II\n
LOCATION:
CATEGORIES:Saison 2017/18
END:VEVENT
END:VCALENDAR
