BEGIN:VCALENDAR
PRODID:-//nuDatenautomaten//framework iCal4j //DE
VERSION:2.0
CALSCALE:GREGORIAN
BEGIN:VTIMEZONE
TZID:Europe/Berlin
LAST-MODIFIED:20260306T231828Z
TZURL:https://www.tzurl.org/zoneinfo/Europe/Berlin
X-LIC-LOCATION:Europe/Berlin
X-PROLEPTIC-TZNAME:LMT
BEGIN:STANDARD
TZNAME:CET
TZOFFSETFROM:+005328
TZOFFSETTO:+0100
DTSTART:18930401T000000
END:STANDARD
BEGIN:DAYLIGHT
TZNAME:CEST
TZOFFSETFROM:+0100
TZOFFSETTO:+0200
DTSTART:19160430T230000
RDATE:19400401T020000
RDATE:19430329T020000
RDATE:19460414T020000
RDATE:19470406T030000
RDATE:19480418T020000
RDATE:19490410T020000
RDATE:19800406T020000
END:DAYLIGHT
BEGIN:STANDARD
TZNAME:CET
TZOFFSETFROM:+0200
TZOFFSETTO:+0100
DTSTART:19161001T010000
RDATE:19421102T030000
RDATE:19431004T030000
RDATE:19441002T030000
RDATE:19451118T030000
RDATE:19461007T030000
END:STANDARD
BEGIN:DAYLIGHT
TZNAME:CEST
TZOFFSETFROM:+0100
TZOFFSETTO:+0200
DTSTART:19170416T020000
RRULE:FREQ=YEARLY;UNTIL=19180415T010000Z;BYMONTH=4;BYDAY=3MO
END:DAYLIGHT
BEGIN:STANDARD
TZNAME:CET
TZOFFSETFROM:+0200
TZOFFSETTO:+0100
DTSTART:19170917T030000
RRULE:FREQ=YEARLY;UNTIL=19180916T010000Z;BYMONTH=9;BYDAY=3MO
END:STANDARD
BEGIN:DAYLIGHT
TZNAME:CEST
TZOFFSETFROM:+0100
TZOFFSETTO:+0200
DTSTART:19440403T020000
RRULE:FREQ=YEARLY;UNTIL=19450402T010000Z;BYMONTH=4;BYDAY=1MO
END:DAYLIGHT
BEGIN:DAYLIGHT
TZNAME:CEMT
TZOFFSETFROM:+0200
TZOFFSETTO:+0300
DTSTART:19450524T020000
RDATE:19470511T030000
END:DAYLIGHT
BEGIN:DAYLIGHT
TZNAME:CEST
TZOFFSETFROM:+0300
TZOFFSETTO:+0200
DTSTART:19450924T030000
RDATE:19470629T030000
END:DAYLIGHT
BEGIN:STANDARD
TZNAME:CET
TZOFFSETFROM:+0100
TZOFFSETTO:+0100
DTSTART:19460101T000000
RDATE:19800101T000000
END:STANDARD
BEGIN:STANDARD
TZNAME:CET
TZOFFSETFROM:+0200
TZOFFSETTO:+0100
DTSTART:19471005T030000
RRULE:FREQ=YEARLY;UNTIL=19491002T010000Z;BYMONTH=10;BYDAY=1SU
END:STANDARD
BEGIN:STANDARD
TZNAME:CET
TZOFFSETFROM:+0200
TZOFFSETTO:+0100
DTSTART:19800928T030000
RRULE:FREQ=YEARLY;UNTIL=19950924T010000Z;BYMONTH=9;BYDAY=-1SU
END:STANDARD
BEGIN:DAYLIGHT
TZNAME:CEST
TZOFFSETFROM:+0100
TZOFFSETTO:+0200
DTSTART:19810329T020000
RRULE:FREQ=YEARLY;BYMONTH=3;BYDAY=-1SU
END:DAYLIGHT
BEGIN:STANDARD
TZNAME:CET
TZOFFSETFROM:+0200
TZOFFSETTO:+0100
DTSTART:19961027T030000
RRULE:FREQ=YEARLY;BYMONTH=10;BYDAY=-1SU
END:STANDARD
END:VTIMEZONE
BEGIN:VEVENT
DTSTAMP:20260419T125909Z
DTSTART;TZID=Europe/Berlin:20170929T200000
DTEND;TZID=Europe/Berlin:20170929T230000
SUMMARY:6. Kreisklasse SV Preußen Reinfeld V vs TSV Grabau III (12)
UID:83382ee4-96d4-598e-e053-1fc7a80a5d7a
STATUS:CONFIRMED
LAST-MODIFIED:20190303T214348Z
DESCRIPTION:Herren - 6. Kreisklasse  - Stormarn\nBegegnungs-Nr: 12\nHeim: SV Preußen Reinfeld V\nGast: TSV Grabau III\n
LOCATION:
CATEGORIES:Saison 2017/18
END:VEVENT
BEGIN:VEVENT
DTSTAMP:20260419T125909Z
DTSTART;TZID=Europe/Berlin:20171013T200000
DTEND;TZID=Europe/Berlin:20171013T230000
SUMMARY:6. Kreisklasse SV Preußen Reinfeld V vs SV Hamberge  (20)
UID:83382ee4-978e-598e-e053-1fc7a80a5d7a
STATUS:CONFIRMED
LAST-MODIFIED:20190303T214349Z
DESCRIPTION:Herren - 6. Kreisklasse  - Stormarn\nBegegnungs-Nr: 20\nHeim: SV Preußen Reinfeld V\nGast: SV Hamberge \n
LOCATION:
CATEGORIES:Saison 2017/18
END:VEVENT
BEGIN:VEVENT
DTSTAMP:20260419T125909Z
DTSTART;TZID=Europe/Berlin:20180112T200000
DTEND;TZID=Europe/Berlin:20180112T230000
SUMMARY:6. Kreisklasse SV Preußen Reinfeld V vs SSC Hagen Ahrensburg IX (28)
UID:83382ee4-982c-598e-e053-1fc7a80a5d7a
STATUS:CONFIRMED
LAST-MODIFIED:20190303T214349Z
DESCRIPTION:Herren - 6. Kreisklasse  - Stormarn\nBegegnungs-Nr: 28\nHeim: SV Preußen Reinfeld V\nGast: SSC Hagen Ahrensburg IX\n
LOCATION:
CATEGORIES:Saison 2017/18
END:VEVENT
BEGIN:VEVENT
DTSTAMP:20260419T125909Z
DTSTART;TZID=Europe/Berlin:20171006T200000
DTEND;TZID=Europe/Berlin:20171006T230000
SUMMARY:6. Kreisklasse SV Preußen Reinfeld V vs TSV Bargteheide VIII (4)
UID:83382ee4-98e3-598e-e053-1fc7a80a5d7a
STATUS:CONFIRMED
LAST-MODIFIED:20190303T214349Z
DESCRIPTION:Herren - 6. Kreisklasse  - Stormarn\nBegegnungs-Nr: 4\nHeim: SV Preußen Reinfeld V\nGast: TSV Bargteheide VIII\n
LOCATION:
CATEGORIES:Saison 2017/18
END:VEVENT
BEGIN:VEVENT
DTSTAMP:20260419T125909Z
DTSTART;TZID=Europe/Berlin:20180216T200000
DTEND;TZID=Europe/Berlin:20180216T230000
SUMMARY:6. Kreisklasse SV Preußen Reinfeld V vs TSV Lütjensee III (47)
UID:83382ee4-9a67-598e-e053-1fc7a80a5d7a
STATUS:CONFIRMED
LAST-MODIFIED:20190303T214349Z
DESCRIPTION:Herren - 6. Kreisklasse  - Stormarn\nBegegnungs-Nr: 47\nHeim: SV Preußen Reinfeld V\nGast: TSV Lütjensee III\n
LOCATION:
CATEGORIES:Saison 2017/18
END:VEVENT
BEGIN:VEVENT
DTSTAMP:20260419T125909Z
DTSTART;TZID=Europe/Berlin:20180319T200000
DTEND;TZID=Europe/Berlin:20180319T230000
SUMMARY:6. Kreisklasse SV Preußen Reinfeld V vs VfL Tremsbüttel IV (54)
UID:83382ee4-9b25-598e-e053-1fc7a80a5d7a
STATUS:CONFIRMED
LAST-MODIFIED:20190303T214349Z
DESCRIPTION:Herren - 6. Kreisklasse  - Stormarn\nBegegnungs-Nr: 54\nHeim: SV Preußen Reinfeld V\nGast: VfL Tremsbüttel IV\n
LOCATION:
CATEGORIES:Saison 2017/18
END:VEVENT
BEGIN:VEVENT
DTSTAMP:20260419T125909Z
DTSTART;TZID=Europe/Berlin:20180323T200000
DTEND;TZID=Europe/Berlin:20180323T230000
SUMMARY:6. Kreisklasse SV Preußen Reinfeld V vs Bargfelder SV IV (64)
UID:83382ee4-9c28-598e-e053-1fc7a80a5d7a
STATUS:CONFIRMED
LAST-MODIFIED:20190303T214349Z
DESCRIPTION:Herren - 6. Kreisklasse  - Stormarn\nBegegnungs-Nr: 64\nHeim: SV Preußen Reinfeld V\nGast: Bargfelder SV IV\n
LOCATION:
CATEGORIES:Saison 2017/18
END:VEVENT
BEGIN:VEVENT
DTSTAMP:20260419T125909Z
DTSTART;TZID=Europe/Berlin:20171004T200000
DTEND;TZID=Europe/Berlin:20171004T230000
SUMMARY:6. Kreisklasse TSV Lütjensee III vs SV Preußen Reinfeld V (15)
UID:83382ee4-9708-598e-e053-1fc7a80a5d7a
STATUS:CONFIRMED
LAST-MODIFIED:20190303T214349Z
DESCRIPTION:Herren - 6. Kreisklasse  - Stormarn\nBegegnungs-Nr: 15\nHeim: TSV Lütjensee III\nGast: SV Preußen Reinfeld V\n
LOCATION:
CATEGORIES:Saison 2017/18
END:VEVENT
BEGIN:VEVENT
DTSTAMP:20260419T125909Z
DTSTART;TZID=Europe/Berlin:20171102T200000
DTEND;TZID=Europe/Berlin:20171102T230000
SUMMARY:6. Kreisklasse VfL Tremsbüttel IV vs SV Preußen Reinfeld V (24)
UID:83382ee4-97de-598e-e053-1fc7a80a5d7a
STATUS:CONFIRMED
LAST-MODIFIED:20190303T214349Z
DESCRIPTION:Herren - 6. Kreisklasse  - Stormarn\nBegegnungs-Nr: 24\nHeim: VfL Tremsbüttel IV\nGast: SV Preußen Reinfeld V\n
LOCATION:
CATEGORIES:Saison 2017/18
END:VEVENT
BEGIN:VEVENT
DTSTAMP:20260419T125909Z
DTSTART;TZID=Europe/Berlin:20171124T200000
DTEND;TZID=Europe/Berlin:20171124T230000
SUMMARY:6. Kreisklasse Bargfelder SV IV vs SV Preußen Reinfeld V (36)
UID:83382ee4-98ca-598e-e053-1fc7a80a5d7a
STATUS:CONFIRMED
LAST-MODIFIED:20190303T214349Z
DESCRIPTION:Herren - 6. Kreisklasse  - Stormarn\nBegegnungs-Nr: 36\nHeim: Bargfelder SV IV\nGast: SV Preußen Reinfeld V\n
LOCATION:
CATEGORIES:Saison 2017/18
END:VEVENT
BEGIN:VEVENT
DTSTAMP:20260419T125909Z
DTSTART;TZID=Europe/Berlin:20180308T200000
DTEND;TZID=Europe/Berlin:20180308T230000
SUMMARY:6. Kreisklasse TSV Bargteheide VIII vs SV Preußen Reinfeld V (38)
UID:83382ee4-9988-598e-e053-1fc7a80a5d7a
STATUS:CONFIRMED
LAST-MODIFIED:20190303T214349Z
DESCRIPTION:Herren - 6. Kreisklasse  - Stormarn\nBegegnungs-Nr: 38\nHeim: TSV Bargteheide VIII\nGast: SV Preußen Reinfeld V\n
LOCATION:
CATEGORIES:Saison 2017/18
END:VEVENT
BEGIN:VEVENT
DTSTAMP:20260419T125909Z
DTSTART;TZID=Europe/Berlin:20180208T200000
DTEND;TZID=Europe/Berlin:20180208T230000
SUMMARY:6. Kreisklasse TSV Grabau III vs SV Preußen Reinfeld V (45)
UID:83382ee4-9a32-598e-e053-1fc7a80a5d7a
STATUS:CONFIRMED
LAST-MODIFIED:20190303T214349Z
DESCRIPTION:Herren - 6. Kreisklasse  - Stormarn\nBegegnungs-Nr: 45\nHeim: TSV Grabau III\nGast: SV Preußen Reinfeld V\n
LOCATION:
CATEGORIES:Saison 2017/18
END:VEVENT
BEGIN:VEVENT
DTSTAMP:20260419T125909Z
DTSTART;TZID=Europe/Berlin:20180326T200000
DTEND;TZID=Europe/Berlin:20180326T230000
SUMMARY:6. Kreisklasse SV Hamberge  vs SV Preußen Reinfeld V (49)
UID:83382ee4-9a9e-598e-e053-1fc7a80a5d7a
STATUS:CONFIRMED
LAST-MODIFIED:20190303T214349Z
DESCRIPTION:Herren - 6. Kreisklasse  - Stormarn\nBegegnungs-Nr: 49\nHeim: SV Hamberge \nGast: SV Preußen Reinfeld V\n
LOCATION:
CATEGORIES:Saison 2017/18
END:VEVENT
BEGIN:VEVENT
DTSTAMP:20260419T125909Z
DTSTART;TZID=Europe/Berlin:20180403T200000
DTEND;TZID=Europe/Berlin:20180403T230000
SUMMARY:6. Kreisklasse SSC Hagen Ahrensburg IX vs SV Preußen Reinfeld V (57)
UID:83382ee4-9b73-598e-e053-1fc7a80a5d7a
STATUS:CONFIRMED
LAST-MODIFIED:20190303T214349Z
DESCRIPTION:Herren - 6. Kreisklasse  - Stormarn\nBegegnungs-Nr: 57\nHeim: SSC Hagen Ahrensburg IX\nGast: SV Preußen Reinfeld V\n
LOCATION:
CATEGORIES:Saison 2017/18
END:VEVENT
END:VCALENDAR
