BEGIN:VCALENDAR
PRODID:-//nuDatenautomaten//framework iCal4j //DE
VERSION:2.0
CALSCALE:GREGORIAN
BEGIN:VTIMEZONE
TZID:Europe/Berlin
LAST-MODIFIED:20260306T231828Z
TZURL:https://www.tzurl.org/zoneinfo/Europe/Berlin
X-LIC-LOCATION:Europe/Berlin
X-PROLEPTIC-TZNAME:LMT
BEGIN:STANDARD
TZNAME:CET
TZOFFSETFROM:+005328
TZOFFSETTO:+0100
DTSTART:18930401T000000
END:STANDARD
BEGIN:DAYLIGHT
TZNAME:CEST
TZOFFSETFROM:+0100
TZOFFSETTO:+0200
DTSTART:19160430T230000
RDATE:19400401T020000
RDATE:19430329T020000
RDATE:19460414T020000
RDATE:19470406T030000
RDATE:19480418T020000
RDATE:19490410T020000
RDATE:19800406T020000
END:DAYLIGHT
BEGIN:STANDARD
TZNAME:CET
TZOFFSETFROM:+0200
TZOFFSETTO:+0100
DTSTART:19161001T010000
RDATE:19421102T030000
RDATE:19431004T030000
RDATE:19441002T030000
RDATE:19451118T030000
RDATE:19461007T030000
END:STANDARD
BEGIN:DAYLIGHT
TZNAME:CEST
TZOFFSETFROM:+0100
TZOFFSETTO:+0200
DTSTART:19170416T020000
RRULE:FREQ=YEARLY;UNTIL=19180415T010000Z;BYMONTH=4;BYDAY=3MO
END:DAYLIGHT
BEGIN:STANDARD
TZNAME:CET
TZOFFSETFROM:+0200
TZOFFSETTO:+0100
DTSTART:19170917T030000
RRULE:FREQ=YEARLY;UNTIL=19180916T010000Z;BYMONTH=9;BYDAY=3MO
END:STANDARD
BEGIN:DAYLIGHT
TZNAME:CEST
TZOFFSETFROM:+0100
TZOFFSETTO:+0200
DTSTART:19440403T020000
RRULE:FREQ=YEARLY;UNTIL=19450402T010000Z;BYMONTH=4;BYDAY=1MO
END:DAYLIGHT
BEGIN:DAYLIGHT
TZNAME:CEMT
TZOFFSETFROM:+0200
TZOFFSETTO:+0300
DTSTART:19450524T020000
RDATE:19470511T030000
END:DAYLIGHT
BEGIN:DAYLIGHT
TZNAME:CEST
TZOFFSETFROM:+0300
TZOFFSETTO:+0200
DTSTART:19450924T030000
RDATE:19470629T030000
END:DAYLIGHT
BEGIN:STANDARD
TZNAME:CET
TZOFFSETFROM:+0100
TZOFFSETTO:+0100
DTSTART:19460101T000000
RDATE:19800101T000000
END:STANDARD
BEGIN:STANDARD
TZNAME:CET
TZOFFSETFROM:+0200
TZOFFSETTO:+0100
DTSTART:19471005T030000
RRULE:FREQ=YEARLY;UNTIL=19491002T010000Z;BYMONTH=10;BYDAY=1SU
END:STANDARD
BEGIN:STANDARD
TZNAME:CET
TZOFFSETFROM:+0200
TZOFFSETTO:+0100
DTSTART:19800928T030000
RRULE:FREQ=YEARLY;UNTIL=19950924T010000Z;BYMONTH=9;BYDAY=-1SU
END:STANDARD
BEGIN:DAYLIGHT
TZNAME:CEST
TZOFFSETFROM:+0100
TZOFFSETTO:+0200
DTSTART:19810329T020000
RRULE:FREQ=YEARLY;BYMONTH=3;BYDAY=-1SU
END:DAYLIGHT
BEGIN:STANDARD
TZNAME:CET
TZOFFSETFROM:+0200
TZOFFSETTO:+0100
DTSTART:19961027T030000
RRULE:FREQ=YEARLY;BYMONTH=10;BYDAY=-1SU
END:STANDARD
END:VTIMEZONE
BEGIN:VEVENT
DTSTAMP:20260422T202420Z
DTSTART;TZID=Europe/Berlin:20171109T203000
DTEND;TZID=Europe/Berlin:20171109T233000
SUMMARY:4. Kreisklasse A SC Cosmos Wedel IV vs SuS Waldenau V (36)
UID:83382ee3-82ee-598e-e053-1fc7a80a5d7a
STATUS:CONFIRMED
LAST-MODIFIED:20190303T214253Z
DESCRIPTION:Herren - 4. Kreisklasse A\nBegegnungs-Nr: 36\nHeim: SC Cosmos Wedel IV\nGast: SuS Waldenau V\n
LOCATION:
CATEGORIES:Saison 2017/18
END:VEVENT
BEGIN:VEVENT
DTSTAMP:20260422T202420Z
DTSTART;TZID=Europe/Berlin:20170914T203000
DTEND;TZID=Europe/Berlin:20170914T233000
SUMMARY:4. Kreisklasse A SC Cosmos Wedel IV vs Elmshorner MTV  (6)
UID:83382ee3-850d-598e-e053-1fc7a80a5d7a
STATUS:CONFIRMED
LAST-MODIFIED:20190303T214254Z
DESCRIPTION:Herren - 4. Kreisklasse A\nBegegnungs-Nr: 6\nHeim: SC Cosmos Wedel IV\nGast: Elmshorner MTV \n
LOCATION:
CATEGORIES:Saison 2017/18
END:VEVENT
BEGIN:VEVENT
DTSTAMP:20260422T202420Z
DTSTART;TZID=Europe/Berlin:20171130T203000
DTEND;TZID=Europe/Berlin:20171130T233000
SUMMARY:4. Kreisklasse A SC Cosmos Wedel IV vs TSV Ellerbek VII (60)
UID:83382ee3-8521-598e-e053-1fc7a80a5d7a
STATUS:CONFIRMED
LAST-MODIFIED:20190303T214254Z
DESCRIPTION:Herren - 4. Kreisklasse A\nBegegnungs-Nr: 60\nHeim: SC Cosmos Wedel IV\nGast: TSV Ellerbek VII\n
LOCATION:
CATEGORIES:Saison 2017/18
END:VEVENT
BEGIN:VEVENT
DTSTAMP:20260422T202420Z
DTSTART;TZID=Europe/Berlin:20171208T203000
DTEND;TZID=Europe/Berlin:20171208T233000
SUMMARY:4. Kreisklasse A SC Cosmos Wedel IV vs Voßlocher SV IV (66)
UID:83382ee3-8598-598e-e053-1fc7a80a5d7a
STATUS:CONFIRMED
LAST-MODIFIED:20190303T214254Z
DESCRIPTION:Herren - 4. Kreisklasse A\nBegegnungs-Nr: 66\nHeim: SC Cosmos Wedel IV\nGast: Voßlocher SV IV\n
LOCATION:
CATEGORIES:Saison 2017/18
END:VEVENT
BEGIN:VEVENT
DTSTAMP:20260422T202420Z
DTSTART;TZID=Europe/Berlin:20180202T203000
DTEND;TZID=Europe/Berlin:20180202T233000
SUMMARY:4. Kreisklasse A SC Cosmos Wedel IV vs SG Kölln-Reisiek V (112)
UID:83382ee3-86d2-598e-e053-1fc7a80a5d7a
STATUS:CONFIRMED
LAST-MODIFIED:20190303T214254Z
DESCRIPTION:Herren - 4. Kreisklasse A\nBegegnungs-Nr: 112\nHeim: SC Cosmos Wedel IV\nGast: SG Kölln-Reisiek V\n
LOCATION:
CATEGORIES:Saison 2017/18
END:VEVENT
BEGIN:VEVENT
DTSTAMP:20260422T202420Z
DTSTART;TZID=Europe/Berlin:20180216T203000
DTEND;TZID=Europe/Berlin:20180216T233000
SUMMARY:4. Kreisklasse A SC Cosmos Wedel IV vs Barmstedter MTV V (124)
UID:83382ee3-87ba-598e-e053-1fc7a80a5d7a
STATUS:CONFIRMED
LAST-MODIFIED:20190303T214254Z
DESCRIPTION:Herren - 4. Kreisklasse A\nBegegnungs-Nr: 124\nHeim: SC Cosmos Wedel IV\nGast: Barmstedter MTV V\n
LOCATION:
CATEGORIES:Saison 2017/18
END:VEVENT
BEGIN:VEVENT
DTSTAMP:20260422T202420Z
DTSTART;TZID=Europe/Berlin:20180223T203000
DTEND;TZID=Europe/Berlin:20180223T233000
SUMMARY:4. Kreisklasse A SC Cosmos Wedel IV vs TuS Esingen VIII (130)
UID:83382ee3-8833-598e-e053-1fc7a80a5d7a
STATUS:CONFIRMED
LAST-MODIFIED:20190303T214254Z
DESCRIPTION:Herren - 4. Kreisklasse A\nBegegnungs-Nr: 130\nHeim: SC Cosmos Wedel IV\nGast: TuS Esingen VIII\n
LOCATION:
CATEGORIES:Saison 2017/18
END:VEVENT
BEGIN:VEVENT
DTSTAMP:20260422T202420Z
DTSTART;TZID=Europe/Berlin:20180209T203000
DTEND;TZID=Europe/Berlin:20180209T233000
SUMMARY:4. Kreisklasse A SC Cosmos Wedel IV vs TTC Die Sterne Elmshorn V (118)
UID:83382ee3-873d-598e-e053-1fc7a80a5d7a
STATUS:CONFIRMED
LAST-MODIFIED:20190303T214254Z
DESCRIPTION:Herren - 4. Kreisklasse A\nBegegnungs-Nr: 118\nHeim: SC Cosmos Wedel IV\nGast: TTC Die Sterne Elmshorn V\n
LOCATION:
CATEGORIES:Saison 2017/18
END:VEVENT
BEGIN:VEVENT
DTSTAMP:20260422T202420Z
DTSTART;TZID=Europe/Berlin:20180309T203000
DTEND;TZID=Europe/Berlin:20180309T233000
SUMMARY:4. Kreisklasse A SC Cosmos Wedel IV vs Halstenbeker TS III (142)
UID:83382ee3-892c-598e-e053-1fc7a80a5d7a
STATUS:CONFIRMED
LAST-MODIFIED:20190303T214255Z
DESCRIPTION:Herren - 4. Kreisklasse A\nBegegnungs-Nr: 142\nHeim: SC Cosmos Wedel IV\nGast: Halstenbeker TS III\n
LOCATION:
CATEGORIES:Saison 2017/18
END:VEVENT
BEGIN:VEVENT
DTSTAMP:20260422T202420Z
DTSTART;TZID=Europe/Berlin:20180323T203000
DTEND;TZID=Europe/Berlin:20180323T233000
SUMMARY:4. Kreisklasse A SC Cosmos Wedel IV vs TuS Hemdingen-Bilsen II (154)
UID:83382ee3-8a1f-598e-e053-1fc7a80a5d7a
STATUS:CONFIRMED
LAST-MODIFIED:20190303T214255Z
DESCRIPTION:Herren - 4. Kreisklasse A\nBegegnungs-Nr: 154\nHeim: SC Cosmos Wedel IV\nGast: TuS Hemdingen-Bilsen II\n
LOCATION:
CATEGORIES:Saison 2017/18
END:VEVENT
BEGIN:VEVENT
DTSTAMP:20260422T202420Z
DTSTART;TZID=Europe/Berlin:20171117T203000
DTEND;TZID=Europe/Berlin:20171117T233000
SUMMARY:4. Kreisklasse A SC Cosmos Wedel IV vs TTC Seeth-Ekholt VI (48)
UID:83382ee3-83f7-598e-e053-1fc7a80a5d7a
STATUS:CONFIRMED
LAST-MODIFIED:20190303T214254Z
DESCRIPTION:Herren - 4. Kreisklasse A\nBegegnungs-Nr: 48\nHeim: SC Cosmos Wedel IV\nGast: TTC Seeth-Ekholt VI\n
LOCATION:
CATEGORIES:Saison 2017/18
END:VEVENT
BEGIN:VEVENT
DTSTAMP:20260422T202420Z
DTSTART;TZID=Europe/Berlin:20171006T201500
DTEND;TZID=Europe/Berlin:20171006T231500
SUMMARY:4. Kreisklasse A Barmstedter MTV V vs SC Cosmos Wedel IV (24)
UID:83382ee3-81de-598e-e053-1fc7a80a5d7a
STATUS:CONFIRMED
LAST-MODIFIED:20190303T214253Z
DESCRIPTION:Herren - 4. Kreisklasse A\nBegegnungs-Nr: 24\nHeim: Barmstedter MTV V\nGast: SC Cosmos Wedel IV\n
LOCATION:
CATEGORIES:Saison 2017/18
END:VEVENT
BEGIN:VEVENT
DTSTAMP:20260422T202420Z
DTSTART;TZID=Europe/Berlin:20171011T201500
DTEND;TZID=Europe/Berlin:20171011T231500
SUMMARY:4. Kreisklasse A TuS Esingen VIII vs SC Cosmos Wedel IV (25)
UID:83382ee3-81f4-598e-e053-1fc7a80a5d7a
STATUS:CONFIRMED
LAST-MODIFIED:20190303T214253Z
DESCRIPTION:Herren - 4. Kreisklasse A\nBegegnungs-Nr: 25\nHeim: TuS Esingen VIII\nGast: SC Cosmos Wedel IV\n
LOCATION:
CATEGORIES:Saison 2017/18
END:VEVENT
BEGIN:VEVENT
DTSTAMP:20260422T202420Z
DTSTART;TZID=Europe/Berlin:20171110T193000
DTEND;TZID=Europe/Berlin:20171110T223000
SUMMARY:4. Kreisklasse A Halstenbeker TS III vs SC Cosmos Wedel IV (38)
UID:83382ee3-8319-598e-e053-1fc7a80a5d7a
STATUS:CONFIRMED
LAST-MODIFIED:20190303T214253Z
DESCRIPTION:Herren - 4. Kreisklasse A\nBegegnungs-Nr: 38\nHeim: Halstenbeker TS III\nGast: SC Cosmos Wedel IV\n
LOCATION:
CATEGORIES:Saison 2017/18
END:VEVENT
BEGIN:VEVENT
DTSTAMP:20260422T202420Z
DTSTART;TZID=Europe/Berlin:20171124T201500
DTEND;TZID=Europe/Berlin:20171124T231500
SUMMARY:4. Kreisklasse A TuS Hemdingen-Bilsen II vs SC Cosmos Wedel IV (54)
UID:83382ee3-848c-598e-e053-1fc7a80a5d7a
STATUS:CONFIRMED
LAST-MODIFIED:20190303T214254Z
DESCRIPTION:Herren - 4. Kreisklasse A\nBegegnungs-Nr: 54\nHeim: TuS Hemdingen-Bilsen II\nGast: SC Cosmos Wedel IV\n
LOCATION:
CATEGORIES:Saison 2017/18
END:VEVENT
BEGIN:VEVENT
DTSTAMP:20260422T202420Z
DTSTART;TZID=Europe/Berlin:20180122T193000
DTEND;TZID=Europe/Berlin:20180122T223000
SUMMARY:4. Kreisklasse A Elmshorner MTV  vs SC Cosmos Wedel IV (101)
UID:83382ee3-85ec-598e-e053-1fc7a80a5d7a
STATUS:CONFIRMED
LAST-MODIFIED:20190303T214254Z
DESCRIPTION:Herren - 4. Kreisklasse A\nBegegnungs-Nr: 101\nHeim: Elmshorner MTV \nGast: SC Cosmos Wedel IV\n
LOCATION:
CATEGORIES:Saison 2017/18
END:VEVENT
BEGIN:VEVENT
DTSTAMP:20260422T202420Z
DTSTART;TZID=Europe/Berlin:20170922T201500
DTEND;TZID=Europe/Berlin:20170922T231500
SUMMARY:4. Kreisklasse A SG Kölln-Reisiek V vs SC Cosmos Wedel IV (12)
UID:83382ee3-80d8-598e-e053-1fc7a80a5d7a
STATUS:CONFIRMED
LAST-MODIFIED:20190303T214253Z
DESCRIPTION:Herren - 4. Kreisklasse A\nBegegnungs-Nr: 12\nHeim: SG Kölln-Reisiek V\nGast: SC Cosmos Wedel IV\n
LOCATION:
CATEGORIES:Saison 2017/18
END:VEVENT
BEGIN:VEVENT
DTSTAMP:20260422T202420Z
DTSTART;TZID=Europe/Berlin:20170929T193400
DTEND;TZID=Europe/Berlin:20170929T223400
SUMMARY:4. Kreisklasse A TTC Die Sterne Elmshorn V vs SC Cosmos Wedel IV (16)
UID:83382ee3-812e-598e-e053-1fc7a80a5d7a
STATUS:CONFIRMED
LAST-MODIFIED:20190303T214253Z
DESCRIPTION:Herren - 4. Kreisklasse A\nBegegnungs-Nr: 16\nHeim: TTC Die Sterne Elmshorn V\nGast: SC Cosmos Wedel IV\n
LOCATION:
CATEGORIES:Saison 2017/18
END:VEVENT
BEGIN:VEVENT
DTSTAMP:20260422T202420Z
DTSTART;TZID=Europe/Berlin:20180302T201500
DTEND;TZID=Europe/Berlin:20180302T231500
SUMMARY:4. Kreisklasse A SuS Waldenau V vs SC Cosmos Wedel IV (136)
UID:83382ee3-88ac-598e-e053-1fc7a80a5d7a
STATUS:CONFIRMED
LAST-MODIFIED:20190303T214255Z
DESCRIPTION:Herren - 4. Kreisklasse A\nBegegnungs-Nr: 136\nHeim: SuS Waldenau V\nGast: SC Cosmos Wedel IV\n
LOCATION:
CATEGORIES:Saison 2017/18
END:VEVENT
BEGIN:VEVENT
DTSTAMP:20260422T202420Z
DTSTART;TZID=Europe/Berlin:20180423T201500
DTEND;TZID=Europe/Berlin:20180423T231500
SUMMARY:4. Kreisklasse A Voßlocher SV IV vs SC Cosmos Wedel IV (162)
UID:83382ee3-8ac5-598e-e053-1fc7a80a5d7a
STATUS:CONFIRMED
LAST-MODIFIED:20190303T214255Z
DESCRIPTION:Herren - 4. Kreisklasse A\nBegegnungs-Nr: 162\nHeim: Voßlocher SV IV\nGast: SC Cosmos Wedel IV\n
LOCATION:
CATEGORIES:Saison 2017/18
END:VEVENT
BEGIN:VEVENT
DTSTAMP:20260422T202420Z
DTSTART;TZID=Europe/Berlin:20180316T201500
DTEND;TZID=Europe/Berlin:20180316T231500
SUMMARY:4. Kreisklasse A TTC Seeth-Ekholt VI vs SC Cosmos Wedel IV (147)
UID:83382ee3-8992-598e-e053-1fc7a80a5d7a
STATUS:CONFIRMED
LAST-MODIFIED:20190303T214255Z
DESCRIPTION:Herren - 4. Kreisklasse A\nBegegnungs-Nr: 147\nHeim: TTC Seeth-Ekholt VI\nGast: SC Cosmos Wedel IV\n
LOCATION:
CATEGORIES:Saison 2017/18
END:VEVENT
BEGIN:VEVENT
DTSTAMP:20260422T202420Z
DTSTART;TZID=Europe/Berlin:20180416T201500
DTEND;TZID=Europe/Berlin:20180416T231500
SUMMARY:4. Kreisklasse A TSV Ellerbek VII vs SC Cosmos Wedel IV (155)
UID:83382ee3-8a34-598e-e053-1fc7a80a5d7a
STATUS:CONFIRMED
LAST-MODIFIED:20190303T214255Z
DESCRIPTION:Herren - 4. Kreisklasse A\nBegegnungs-Nr: 155\nHeim: TSV Ellerbek VII\nGast: SC Cosmos Wedel IV\n
LOCATION:
CATEGORIES:Saison 2017/18
END:VEVENT
END:VCALENDAR
