BEGIN:VCALENDAR
PRODID:-//nuDatenautomaten//framework iCal4j //DE
VERSION:2.0
CALSCALE:GREGORIAN
BEGIN:VTIMEZONE
TZID:Europe/Berlin
LAST-MODIFIED:20260306T231828Z
TZURL:https://www.tzurl.org/zoneinfo/Europe/Berlin
X-LIC-LOCATION:Europe/Berlin
X-PROLEPTIC-TZNAME:LMT
BEGIN:STANDARD
TZNAME:CET
TZOFFSETFROM:+005328
TZOFFSETTO:+0100
DTSTART:18930401T000000
END:STANDARD
BEGIN:DAYLIGHT
TZNAME:CEST
TZOFFSETFROM:+0100
TZOFFSETTO:+0200
DTSTART:19160430T230000
RDATE:19400401T020000
RDATE:19430329T020000
RDATE:19460414T020000
RDATE:19470406T030000
RDATE:19480418T020000
RDATE:19490410T020000
RDATE:19800406T020000
END:DAYLIGHT
BEGIN:STANDARD
TZNAME:CET
TZOFFSETFROM:+0200
TZOFFSETTO:+0100
DTSTART:19161001T010000
RDATE:19421102T030000
RDATE:19431004T030000
RDATE:19441002T030000
RDATE:19451118T030000
RDATE:19461007T030000
END:STANDARD
BEGIN:DAYLIGHT
TZNAME:CEST
TZOFFSETFROM:+0100
TZOFFSETTO:+0200
DTSTART:19170416T020000
RRULE:FREQ=YEARLY;UNTIL=19180415T010000Z;BYMONTH=4;BYDAY=3MO
END:DAYLIGHT
BEGIN:STANDARD
TZNAME:CET
TZOFFSETFROM:+0200
TZOFFSETTO:+0100
DTSTART:19170917T030000
RRULE:FREQ=YEARLY;UNTIL=19180916T010000Z;BYMONTH=9;BYDAY=3MO
END:STANDARD
BEGIN:DAYLIGHT
TZNAME:CEST
TZOFFSETFROM:+0100
TZOFFSETTO:+0200
DTSTART:19440403T020000
RRULE:FREQ=YEARLY;UNTIL=19450402T010000Z;BYMONTH=4;BYDAY=1MO
END:DAYLIGHT
BEGIN:DAYLIGHT
TZNAME:CEMT
TZOFFSETFROM:+0200
TZOFFSETTO:+0300
DTSTART:19450524T020000
RDATE:19470511T030000
END:DAYLIGHT
BEGIN:DAYLIGHT
TZNAME:CEST
TZOFFSETFROM:+0300
TZOFFSETTO:+0200
DTSTART:19450924T030000
RDATE:19470629T030000
END:DAYLIGHT
BEGIN:STANDARD
TZNAME:CET
TZOFFSETFROM:+0100
TZOFFSETTO:+0100
DTSTART:19460101T000000
RDATE:19800101T000000
END:STANDARD
BEGIN:STANDARD
TZNAME:CET
TZOFFSETFROM:+0200
TZOFFSETTO:+0100
DTSTART:19471005T030000
RRULE:FREQ=YEARLY;UNTIL=19491002T010000Z;BYMONTH=10;BYDAY=1SU
END:STANDARD
BEGIN:STANDARD
TZNAME:CET
TZOFFSETFROM:+0200
TZOFFSETTO:+0100
DTSTART:19800928T030000
RRULE:FREQ=YEARLY;UNTIL=19950924T010000Z;BYMONTH=9;BYDAY=-1SU
END:STANDARD
BEGIN:DAYLIGHT
TZNAME:CEST
TZOFFSETFROM:+0100
TZOFFSETTO:+0200
DTSTART:19810329T020000
RRULE:FREQ=YEARLY;BYMONTH=3;BYDAY=-1SU
END:DAYLIGHT
BEGIN:STANDARD
TZNAME:CET
TZOFFSETFROM:+0200
TZOFFSETTO:+0100
DTSTART:19961027T030000
RRULE:FREQ=YEARLY;BYMONTH=10;BYDAY=-1SU
END:STANDARD
END:VTIMEZONE
BEGIN:VEVENT
DTSTAMP:20260423T173002Z
DTSTART;TZID=Europe/Berlin:20171004T201500
DTEND;TZID=Europe/Berlin:20171004T231500
SUMMARY:3. Kreisklasse B SG Kölln-Reisiek IV vs TSV Uetersen VII (21)
UID:83382ee3-6cb2-598e-e053-1fc7a80a5d7a
STATUS:CONFIRMED
LAST-MODIFIED:20190303T214249Z
DESCRIPTION:Herren - 3. Kreisklasse B\nBegegnungs-Nr: 21\nHeim: SG Kölln-Reisiek IV\nGast: TSV Uetersen VII\n
LOCATION:
CATEGORIES:Saison 2017/18
END:VEVENT
BEGIN:VEVENT
DTSTAMP:20260423T173002Z
DTSTART;TZID=Europe/Berlin:20170913T201500
DTEND;TZID=Europe/Berlin:20170913T231500
SUMMARY:3. Kreisklasse B SG Kölln-Reisiek IV vs SV Hörnerkirchen III (3)
UID:83382ee3-6d66-598e-e053-1fc7a80a5d7a
STATUS:CONFIRMED
LAST-MODIFIED:20190303T214249Z
DESCRIPTION:Herren - 3. Kreisklasse B\nBegegnungs-Nr: 3\nHeim: SG Kölln-Reisiek IV\nGast: SV Hörnerkirchen III\n
LOCATION:
CATEGORIES:Saison 2017/18
END:VEVENT
BEGIN:VEVENT
DTSTAMP:20260423T173002Z
DTSTART;TZID=Europe/Berlin:20171103T201500
DTEND;TZID=Europe/Berlin:20171103T231500
SUMMARY:3. Kreisklasse B SG Kölln-Reisiek IV vs Post SV Elmshorn  (33)
UID:83382ee3-6dbc-598e-e053-1fc7a80a5d7a
STATUS:CONFIRMED
LAST-MODIFIED:20190303T214249Z
DESCRIPTION:Herren - 3. Kreisklasse B\nBegegnungs-Nr: 33\nHeim: SG Kölln-Reisiek IV\nGast: Post SV Elmshorn \n
LOCATION:
CATEGORIES:Saison 2017/18
END:VEVENT
BEGIN:VEVENT
DTSTAMP:20260423T173002Z
DTSTART;TZID=Europe/Berlin:20171115T201500
DTEND;TZID=Europe/Berlin:20171115T231500
SUMMARY:3. Kreisklasse B SG Kölln-Reisiek IV vs TV Haseldorf II (44)
UID:83382ee3-6ebe-598e-e053-1fc7a80a5d7a
STATUS:CONFIRMED
LAST-MODIFIED:20190303T214249Z
DESCRIPTION:Herren - 3. Kreisklasse B\nBegegnungs-Nr: 44\nHeim: SG Kölln-Reisiek IV\nGast: TV Haseldorf II\n
LOCATION:
CATEGORIES:Saison 2017/18
END:VEVENT
BEGIN:VEVENT
DTSTAMP:20260423T173002Z
DTSTART;TZID=Europe/Berlin:20171129T201500
DTEND;TZID=Europe/Berlin:20171129T231500
SUMMARY:3. Kreisklasse B SG Kölln-Reisiek IV vs TSV Prisdorf III (57)
UID:83382ee3-6ff2-598e-e053-1fc7a80a5d7a
STATUS:CONFIRMED
LAST-MODIFIED:20190303T214249Z
DESCRIPTION:Herren - 3. Kreisklasse B\nBegegnungs-Nr: 57\nHeim: SG Kölln-Reisiek IV\nGast: TSV Prisdorf III\n
LOCATION:
CATEGORIES:Saison 2017/18
END:VEVENT
BEGIN:VEVENT
DTSTAMP:20260423T173002Z
DTSTART;TZID=Europe/Berlin:20171206T201500
DTEND;TZID=Europe/Berlin:20171206T231500
SUMMARY:3. Kreisklasse B SG Kölln-Reisiek IV vs TuS Hemdingen-Bilsen  (64)
UID:83382ee3-7097-598e-e053-1fc7a80a5d7a
STATUS:CONFIRMED
LAST-MODIFIED:20190303T214250Z
DESCRIPTION:Herren - 3. Kreisklasse B\nBegegnungs-Nr: 64\nHeim: SG Kölln-Reisiek IV\nGast: TuS Hemdingen-Bilsen \n
LOCATION:
CATEGORIES:Saison 2017/18
END:VEVENT
BEGIN:VEVENT
DTSTAMP:20260423T173002Z
DTSTART;TZID=Europe/Berlin:20180131T201500
DTEND;TZID=Europe/Berlin:20180131T231500
SUMMARY:3. Kreisklasse B SG Kölln-Reisiek IV vs TuS Esingen VII (110)
UID:83382ee3-71df-598e-e053-1fc7a80a5d7a
STATUS:CONFIRMED
LAST-MODIFIED:20190303T214250Z
DESCRIPTION:Herren - 3. Kreisklasse B\nBegegnungs-Nr: 110\nHeim: SG Kölln-Reisiek IV\nGast: TuS Esingen VII\n
LOCATION:
CATEGORIES:Saison 2017/18
END:VEVENT
BEGIN:VEVENT
DTSTAMP:20260423T173002Z
DTSTART;TZID=Europe/Berlin:20180207T201500
DTEND;TZID=Europe/Berlin:20180207T231500
SUMMARY:3. Kreisklasse B SG Kölln-Reisiek IV vs WSG BorKum IV (115)
UID:83382ee3-724b-598e-e053-1fc7a80a5d7a
STATUS:CONFIRMED
LAST-MODIFIED:20190303T214250Z
DESCRIPTION:Herren - 3. Kreisklasse B\nBegegnungs-Nr: 115\nHeim: SG Kölln-Reisiek IV\nGast: WSG BorKum IV\n
LOCATION:
CATEGORIES:Saison 2017/18
END:VEVENT
BEGIN:VEVENT
DTSTAMP:20260423T173002Z
DTSTART;TZID=Europe/Berlin:20180221T201500
DTEND;TZID=Europe/Berlin:20180221T231500
SUMMARY:3. Kreisklasse B SG Kölln-Reisiek IV vs TSV Seestermüher Marsch  (127)
UID:83382ee3-7349-598e-e053-1fc7a80a5d7a
STATUS:CONFIRMED
LAST-MODIFIED:20190303T214250Z
DESCRIPTION:Herren - 3. Kreisklasse B\nBegegnungs-Nr: 127\nHeim: SG Kölln-Reisiek IV\nGast: TSV Seestermüher Marsch \n
LOCATION:
CATEGORIES:Saison 2017/18
END:VEVENT
BEGIN:VEVENT
DTSTAMP:20260423T173002Z
DTSTART;TZID=Europe/Berlin:20180307T201500
DTEND;TZID=Europe/Berlin:20180307T231500
SUMMARY:3. Kreisklasse B SG Kölln-Reisiek IV vs Moorreger SV VI (138)
UID:83382ee3-7426-598e-e053-1fc7a80a5d7a
STATUS:CONFIRMED
LAST-MODIFIED:20190303T214250Z
DESCRIPTION:Herren - 3. Kreisklasse B\nBegegnungs-Nr: 138\nHeim: SG Kölln-Reisiek IV\nGast: Moorreger SV VI\n
LOCATION:
CATEGORIES:Saison 2017/18
END:VEVENT
BEGIN:VEVENT
DTSTAMP:20260423T173002Z
DTSTART;TZID=Europe/Berlin:20180321T201500
DTEND;TZID=Europe/Berlin:20180321T231500
SUMMARY:3. Kreisklasse B SG Kölln-Reisiek IV vs SV Groß Nordende  (152)
UID:83382ee3-7545-598e-e053-1fc7a80a5d7a
STATUS:CONFIRMED
LAST-MODIFIED:20190303T214251Z
DESCRIPTION:Herren - 3. Kreisklasse B\nBegegnungs-Nr: 152\nHeim: SG Kölln-Reisiek IV\nGast: SV Groß Nordende \n
LOCATION:
CATEGORIES:Saison 2017/18
END:VEVENT
BEGIN:VEVENT
DTSTAMP:20260423T173002Z
DTSTART;TZID=Europe/Berlin:20180423T201500
DTEND;TZID=Europe/Berlin:20180423T231500
SUMMARY:3. Kreisklasse B TuS Hemdingen-Bilsen  vs SG Kölln-Reisiek IV (161)
UID:83382ee3-75fb-598e-e053-1fc7a80a5d7a
STATUS:CONFIRMED
LAST-MODIFIED:20190303T214251Z
DESCRIPTION:Herren - 3. Kreisklasse B\nBegegnungs-Nr: 161\nHeim: TuS Hemdingen-Bilsen \nGast: SG Kölln-Reisiek IV\n
LOCATION:
CATEGORIES:Saison 2017/18
END:VEVENT
BEGIN:VEVENT
DTSTAMP:20260423T173002Z
DTSTART;TZID=Europe/Berlin:20170928T201500
DTEND;TZID=Europe/Berlin:20170928T231500
SUMMARY:3. Kreisklasse B WSG BorKum IV vs SG Kölln-Reisiek IV (16)
UID:83382ee3-6c30-598e-e053-1fc7a80a5d7a
STATUS:CONFIRMED
LAST-MODIFIED:20190303T214249Z
DESCRIPTION:Herren - 3. Kreisklasse B\nBegegnungs-Nr: 16\nHeim: WSG BorKum IV\nGast: SG Kölln-Reisiek IV\n
LOCATION:
CATEGORIES:Saison 2017/18
END:VEVENT
BEGIN:VEVENT
DTSTAMP:20260423T173002Z
DTSTART;TZID=Europe/Berlin:20171013T201500
DTEND;TZID=Europe/Berlin:20171013T231500
SUMMARY:3. Kreisklasse B TSV Seestermüher Marsch  vs SG Kölln-Reisiek IV (30)
UID:83382ee3-6d79-598e-e053-1fc7a80a5d7a
STATUS:CONFIRMED
LAST-MODIFIED:20190303T214249Z
DESCRIPTION:Herren - 3. Kreisklasse B\nBegegnungs-Nr: 30\nHeim: TSV Seestermüher Marsch \nGast: SG Kölln-Reisiek IV\n
LOCATION:
CATEGORIES:Saison 2017/18
END:VEVENT
BEGIN:VEVENT
DTSTAMP:20260423T173002Z
DTSTART;TZID=Europe/Berlin:20171106T201500
DTEND;TZID=Europe/Berlin:20171106T231500
SUMMARY:3. Kreisklasse B Moorreger SV VI vs SG Kölln-Reisiek IV (37)
UID:83382ee3-6e13-598e-e053-1fc7a80a5d7a
STATUS:CONFIRMED
LAST-MODIFIED:20190303T214249Z
DESCRIPTION:Herren - 3. Kreisklasse B\nBegegnungs-Nr: 37\nHeim: Moorreger SV VI\nGast: SG Kölln-Reisiek IV\n
LOCATION:
CATEGORIES:Saison 2017/18
END:VEVENT
BEGIN:VEVENT
DTSTAMP:20260423T173002Z
DTSTART;TZID=Europe/Berlin:20171122T201500
DTEND;TZID=Europe/Berlin:20171122T231500
SUMMARY:3. Kreisklasse B SV Groß Nordende  vs SG Kölln-Reisiek IV (51)
UID:83382ee3-6f74-598e-e053-1fc7a80a5d7a
STATUS:CONFIRMED
LAST-MODIFIED:20190303T214249Z
DESCRIPTION:Herren - 3. Kreisklasse B\nBegegnungs-Nr: 51\nHeim: SV Groß Nordende \nGast: SG Kölln-Reisiek IV\n
LOCATION:
CATEGORIES:Saison 2017/18
END:VEVENT
BEGIN:VEVENT
DTSTAMP:20260423T173002Z
DTSTART;TZID=Europe/Berlin:20170920T201500
DTEND;TZID=Europe/Berlin:20170920T231500
SUMMARY:3. Kreisklasse B TuS Esingen VII vs SG Kölln-Reisiek IV (9)
UID:83382ee3-7107-598e-e053-1fc7a80a5d7a
STATUS:CONFIRMED
LAST-MODIFIED:20190303T214250Z
DESCRIPTION:Herren - 3. Kreisklasse B\nBegegnungs-Nr: 9\nHeim: TuS Esingen VII\nGast: SG Kölln-Reisiek IV\n
LOCATION:
CATEGORIES:Saison 2017/18
END:VEVENT
BEGIN:VEVENT
DTSTAMP:20260423T173002Z
DTSTART;TZID=Europe/Berlin:20180209T201500
DTEND;TZID=Europe/Berlin:20180209T231500
SUMMARY:3. Kreisklasse B SV Hörnerkirchen III vs SG Kölln-Reisiek IV (105)
UID:83382ee3-7178-598e-e053-1fc7a80a5d7a
STATUS:CONFIRMED
LAST-MODIFIED:20190303T214250Z
DESCRIPTION:Herren - 3. Kreisklasse B\nBegegnungs-Nr: 105\nHeim: SV Hörnerkirchen III\nGast: SG Kölln-Reisiek IV\n
LOCATION:
CATEGORIES:Saison 2017/18
END:VEVENT
BEGIN:VEVENT
DTSTAMP:20260423T173002Z
DTSTART;TZID=Europe/Berlin:20180214T201500
DTEND;TZID=Europe/Berlin:20180214T231500
SUMMARY:3. Kreisklasse B TSV Uetersen VII vs SG Kölln-Reisiek IV (121)
UID:83382ee3-72c9-598e-e053-1fc7a80a5d7a
STATUS:CONFIRMED
LAST-MODIFIED:20190303T214250Z
DESCRIPTION:Herren - 3. Kreisklasse B\nBegegnungs-Nr: 121\nHeim: TSV Uetersen VII\nGast: SG Kölln-Reisiek IV\n
LOCATION:
CATEGORIES:Saison 2017/18
END:VEVENT
BEGIN:VEVENT
DTSTAMP:20260423T173002Z
DTSTART;TZID=Europe/Berlin:20180228T201500
DTEND;TZID=Europe/Berlin:20180228T231500
SUMMARY:3. Kreisklasse B Post SV Elmshorn  vs SG Kölln-Reisiek IV (132)
UID:83382ee3-73b0-598e-e053-1fc7a80a5d7a
STATUS:CONFIRMED
LAST-MODIFIED:20190303T214250Z
DESCRIPTION:Herren - 3. Kreisklasse B\nBegegnungs-Nr: 132\nHeim: Post SV Elmshorn \nGast: SG Kölln-Reisiek IV\n
LOCATION:
CATEGORIES:Saison 2017/18
END:VEVENT
BEGIN:VEVENT
DTSTAMP:20260423T173002Z
DTSTART;TZID=Europe/Berlin:20180316T200000
DTEND;TZID=Europe/Berlin:20180316T230000
SUMMARY:3. Kreisklasse B TV Haseldorf II vs SG Kölln-Reisiek IV (147)
UID:83382ee3-74de-598e-e053-1fc7a80a5d7a
STATUS:CONFIRMED
LAST-MODIFIED:20190303T214250Z
DESCRIPTION:Herren - 3. Kreisklasse B\nBegegnungs-Nr: 147\nHeim: TV Haseldorf II\nGast: SG Kölln-Reisiek IV\n
LOCATION:
CATEGORIES:Saison 2017/18
END:VEVENT
BEGIN:VEVENT
DTSTAMP:20260423T173002Z
DTSTART;TZID=Europe/Berlin:20180419T201500
DTEND;TZID=Europe/Berlin:20180419T231500
SUMMARY:3. Kreisklasse B TSV Prisdorf III vs SG Kölln-Reisiek IV (158)
UID:83382ee3-75c0-598e-e053-1fc7a80a5d7a
STATUS:CONFIRMED
LAST-MODIFIED:20190303T214251Z
DESCRIPTION:Herren - 3. Kreisklasse B\nBegegnungs-Nr: 158\nHeim: TSV Prisdorf III\nGast: SG Kölln-Reisiek IV\n
LOCATION:
CATEGORIES:Saison 2017/18
END:VEVENT
END:VCALENDAR
