BEGIN:VCALENDAR
PRODID:-//nuDatenautomaten//framework iCal4j //DE
VERSION:2.0
CALSCALE:GREGORIAN
BEGIN:VTIMEZONE
TZID:Europe/Berlin
LAST-MODIFIED:20260306T231828Z
TZURL:https://www.tzurl.org/zoneinfo/Europe/Berlin
X-LIC-LOCATION:Europe/Berlin
X-PROLEPTIC-TZNAME:LMT
BEGIN:STANDARD
TZNAME:CET
TZOFFSETFROM:+005328
TZOFFSETTO:+0100
DTSTART:18930401T000000
END:STANDARD
BEGIN:DAYLIGHT
TZNAME:CEST
TZOFFSETFROM:+0100
TZOFFSETTO:+0200
DTSTART:19160430T230000
RDATE:19400401T020000
RDATE:19430329T020000
RDATE:19460414T020000
RDATE:19470406T030000
RDATE:19480418T020000
RDATE:19490410T020000
RDATE:19800406T020000
END:DAYLIGHT
BEGIN:STANDARD
TZNAME:CET
TZOFFSETFROM:+0200
TZOFFSETTO:+0100
DTSTART:19161001T010000
RDATE:19421102T030000
RDATE:19431004T030000
RDATE:19441002T030000
RDATE:19451118T030000
RDATE:19461007T030000
END:STANDARD
BEGIN:DAYLIGHT
TZNAME:CEST
TZOFFSETFROM:+0100
TZOFFSETTO:+0200
DTSTART:19170416T020000
RRULE:FREQ=YEARLY;UNTIL=19180415T010000Z;BYMONTH=4;BYDAY=3MO
END:DAYLIGHT
BEGIN:STANDARD
TZNAME:CET
TZOFFSETFROM:+0200
TZOFFSETTO:+0100
DTSTART:19170917T030000
RRULE:FREQ=YEARLY;UNTIL=19180916T010000Z;BYMONTH=9;BYDAY=3MO
END:STANDARD
BEGIN:DAYLIGHT
TZNAME:CEST
TZOFFSETFROM:+0100
TZOFFSETTO:+0200
DTSTART:19440403T020000
RRULE:FREQ=YEARLY;UNTIL=19450402T010000Z;BYMONTH=4;BYDAY=1MO
END:DAYLIGHT
BEGIN:DAYLIGHT
TZNAME:CEMT
TZOFFSETFROM:+0200
TZOFFSETTO:+0300
DTSTART:19450524T020000
RDATE:19470511T030000
END:DAYLIGHT
BEGIN:DAYLIGHT
TZNAME:CEST
TZOFFSETFROM:+0300
TZOFFSETTO:+0200
DTSTART:19450924T030000
RDATE:19470629T030000
END:DAYLIGHT
BEGIN:STANDARD
TZNAME:CET
TZOFFSETFROM:+0100
TZOFFSETTO:+0100
DTSTART:19460101T000000
RDATE:19800101T000000
END:STANDARD
BEGIN:STANDARD
TZNAME:CET
TZOFFSETFROM:+0200
TZOFFSETTO:+0100
DTSTART:19471005T030000
RRULE:FREQ=YEARLY;UNTIL=19491002T010000Z;BYMONTH=10;BYDAY=1SU
END:STANDARD
BEGIN:STANDARD
TZNAME:CET
TZOFFSETFROM:+0200
TZOFFSETTO:+0100
DTSTART:19800928T030000
RRULE:FREQ=YEARLY;UNTIL=19950924T010000Z;BYMONTH=9;BYDAY=-1SU
END:STANDARD
BEGIN:DAYLIGHT
TZNAME:CEST
TZOFFSETFROM:+0100
TZOFFSETTO:+0200
DTSTART:19810329T020000
RRULE:FREQ=YEARLY;BYMONTH=3;BYDAY=-1SU
END:DAYLIGHT
BEGIN:STANDARD
TZNAME:CET
TZOFFSETFROM:+0200
TZOFFSETTO:+0100
DTSTART:19961027T030000
RRULE:FREQ=YEARLY;BYMONTH=10;BYDAY=-1SU
END:STANDARD
END:VTIMEZONE
BEGIN:VEVENT
DTSTAMP:20260421T162857Z
DTSTART;TZID=Europe/Berlin:20151214T200000
DTEND;TZID=Europe/Berlin:20151214T230000
SUMMARY:6. Kreisklasse TSV Siems III vs SV Rot-Weiß Moisling II (104)
UID:83382eda-71b0-598e-e053-1fc7a80a5d7a
STATUS:CONFIRMED
LAST-MODIFIED:20190303T213450Z
DESCRIPTION:Herren - 6. Kreisklasse - Lübeck\nBegegnungs-Nr: 104\nHeim: TSV Siems III\nGast: SV Rot-Weiß Moisling II\n
LOCATION:
CATEGORIES:Saison 2015/16
END:VEVENT
BEGIN:VEVENT
DTSTAMP:20260421T162857Z
DTSTART;TZID=Europe/Berlin:20151019T200000
DTEND;TZID=Europe/Berlin:20151019T230000
SUMMARY:6. Kreisklasse TSV Siems III vs TSV Kücknitz VI (114)
UID:83382eda-726b-598e-e053-1fc7a80a5d7a
STATUS:CONFIRMED
LAST-MODIFIED:20190303T213450Z
DESCRIPTION:Herren - 6. Kreisklasse - Lübeck\nBegegnungs-Nr: 114\nHeim: TSV Siems III\nGast: TSV Kücknitz VI\n
LOCATION:
CATEGORIES:Saison 2015/16
END:VEVENT
BEGIN:VEVENT
DTSTAMP:20260421T162857Z
DTSTART;TZID=Europe/Berlin:20151009T200000
DTEND;TZID=Europe/Berlin:20151009T230000
SUMMARY:6. Kreisklasse TSV Siems III vs SF Herrnburg IV (119)
UID:83382eda-72cb-598e-e053-1fc7a80a5d7a
STATUS:CONFIRMED
LAST-MODIFIED:20190303T213450Z
DESCRIPTION:Herren - 6. Kreisklasse - Lübeck\nBegegnungs-Nr: 119\nHeim: TSV Siems III\nGast: SF Herrnburg IV\n
LOCATION:
CATEGORIES:Saison 2015/16
END:VEVENT
BEGIN:VEVENT
DTSTAMP:20260421T162857Z
DTSTART;TZID=Europe/Berlin:20151130T200000
DTEND;TZID=Europe/Berlin:20151130T230000
SUMMARY:6. Kreisklasse TSV Siems III vs TSV Eintracht Groß Grönau V (129)
UID:83382eda-738b-598e-e053-1fc7a80a5d7a
STATUS:CONFIRMED
LAST-MODIFIED:20190303T213450Z
DESCRIPTION:Herren - 6. Kreisklasse - Lübeck\nBegegnungs-Nr: 129\nHeim: TSV Siems III\nGast: TSV Eintracht Groß Grönau V\n
LOCATION:
CATEGORIES:Saison 2015/16
END:VEVENT
BEGIN:VEVENT
DTSTAMP:20260421T162857Z
DTSTART;TZID=Europe/Berlin:20151120T200000
DTEND;TZID=Europe/Berlin:20151120T230000
SUMMARY:6. Kreisklasse TSV Siems III vs TTC Victoria 60 Lübeck V (139)
UID:83382eda-7440-598e-e053-1fc7a80a5d7a
STATUS:CONFIRMED
LAST-MODIFIED:20190303T213450Z
DESCRIPTION:Herren - 6. Kreisklasse - Lübeck\nBegegnungs-Nr: 139\nHeim: TSV Siems III\nGast: TTC Victoria 60 Lübeck V\n
LOCATION:
CATEGORIES:Saison 2015/16
END:VEVENT
BEGIN:VEVENT
DTSTAMP:20260421T162857Z
DTSTART;TZID=Europe/Berlin:20160128T201500
DTEND;TZID=Europe/Berlin:20160128T231500
SUMMARY:6. Kreisklasse TSV Siems III vs VfL Bad Schwartau IX (210)
UID:83382eda-7545-598e-e053-1fc7a80a5d7a
STATUS:CONFIRMED
LAST-MODIFIED:20190303T213450Z
DESCRIPTION:Herren - 6. Kreisklasse - Lübeck\nBegegnungs-Nr: 210\nHeim: TSV Siems III\nGast: VfL Bad Schwartau IX\n
LOCATION:
CATEGORIES:Saison 2015/16
END:VEVENT
BEGIN:VEVENT
DTSTAMP:20260421T162857Z
DTSTART;TZID=Europe/Berlin:20160218T201500
DTEND;TZID=Europe/Berlin:20160218T231500
SUMMARY:6. Kreisklasse TSV Siems III vs TuS Lübeck III (224)
UID:83382eda-7627-598e-e053-1fc7a80a5d7a
STATUS:CONFIRMED
LAST-MODIFIED:20190303T213451Z
DESCRIPTION:Herren - 6. Kreisklasse - Lübeck\nBegegnungs-Nr: 224\nHeim: TSV Siems III\nGast: TuS Lübeck III\n
LOCATION:
CATEGORIES:Saison 2015/16
END:VEVENT
BEGIN:VEVENT
DTSTAMP:20260421T162857Z
DTSTART;TZID=Europe/Berlin:20160317T201500
DTEND;TZID=Europe/Berlin:20160317T231500
SUMMARY:6. Kreisklasse TSV Siems III vs Lübecker Turnerschaft VIII (245)
UID:83382eda-773b-598e-e053-1fc7a80a5d7a
STATUS:CONFIRMED
LAST-MODIFIED:20190303T213451Z
DESCRIPTION:Herren - 6. Kreisklasse - Lübeck\nBegegnungs-Nr: 245\nHeim: TSV Siems III\nGast: Lübecker Turnerschaft VIII\n
LOCATION:
CATEGORIES:Saison 2015/16
END:VEVENT
BEGIN:VEVENT
DTSTAMP:20260421T162857Z
DTSTART;TZID=Europe/Berlin:20150922T200000
DTEND;TZID=Europe/Berlin:20150922T230000
SUMMARY:6. Kreisklasse VfL Bad Schwartau IX vs TSV Siems III (110)
UID:83382eda-721e-598e-e053-1fc7a80a5d7a
STATUS:CONFIRMED
LAST-MODIFIED:20190303T213450Z
DESCRIPTION:Herren - 6. Kreisklasse - Lübeck\nBegegnungs-Nr: 110\nHeim: VfL Bad Schwartau IX\nGast: TSV Siems III\n
LOCATION:
CATEGORIES:Saison 2015/16
END:VEVENT
BEGIN:VEVENT
DTSTAMP:20260421T162857Z
DTSTART;TZID=Europe/Berlin:20151013T200000
DTEND;TZID=Europe/Berlin:20151013T230000
SUMMARY:6. Kreisklasse TuS Lübeck III vs TSV Siems III (122)
UID:83382eda-7304-598e-e053-1fc7a80a5d7a
STATUS:CONFIRMED
LAST-MODIFIED:20190303T213450Z
DESCRIPTION:Herren - 6. Kreisklasse - Lübeck\nBegegnungs-Nr: 122\nHeim: TuS Lübeck III\nGast: TSV Siems III\n
LOCATION:
CATEGORIES:Saison 2015/16
END:VEVENT
BEGIN:VEVENT
DTSTAMP:20260421T162857Z
DTSTART;TZID=Europe/Berlin:20151113T200000
DTEND;TZID=Europe/Berlin:20151113T230000
SUMMARY:6. Kreisklasse TSV Kücknitz VII vs TSV Siems III (135)
UID:83382eda-73f4-598e-e053-1fc7a80a5d7a
STATUS:CONFIRMED
LAST-MODIFIED:20190303T213450Z
DESCRIPTION:Herren - 6. Kreisklasse - Lübeck\nBegegnungs-Nr: 135\nHeim: TSV Kücknitz VII\nGast: TSV Siems III\n
LOCATION:
CATEGORIES:Saison 2015/16
END:VEVENT
BEGIN:VEVENT
DTSTAMP:20260421T162857Z
DTSTART;TZID=Europe/Berlin:20151123T201500
DTEND;TZID=Europe/Berlin:20151123T231500
SUMMARY:6. Kreisklasse Lübecker Turnerschaft VIII vs TSV Siems III (141)
UID:83382eda-7467-598e-e053-1fc7a80a5d7a
STATUS:CONFIRMED
LAST-MODIFIED:20190303T213450Z
DESCRIPTION:Herren - 6. Kreisklasse - Lübeck\nBegegnungs-Nr: 141\nHeim: Lübecker Turnerschaft VIII\nGast: TSV Siems III\n
LOCATION:
CATEGORIES:Saison 2015/16
END:VEVENT
BEGIN:VEVENT
DTSTAMP:20260421T162857Z
DTSTART;TZID=Europe/Berlin:20160119T200000
DTEND;TZID=Europe/Berlin:20160119T230000
SUMMARY:6. Kreisklasse SV Rot-Weiß Moisling II vs TSV Siems III (202)
UID:83382eda-74d9-598e-e053-1fc7a80a5d7a
STATUS:CONFIRMED
LAST-MODIFIED:20190303T213450Z
DESCRIPTION:Herren - 6. Kreisklasse - Lübeck\nBegegnungs-Nr: 202\nHeim: SV Rot-Weiß Moisling II\nGast: TSV Siems III\n
LOCATION:
CATEGORIES:Saison 2015/16
END:VEVENT
BEGIN:VEVENT
DTSTAMP:20260421T162857Z
DTSTART;TZID=Europe/Berlin:20160201T200000
DTEND;TZID=Europe/Berlin:20160201T230000
SUMMARY:6. Kreisklasse TSV Kücknitz VI vs TSV Siems III (211)
UID:83382eda-755a-598e-e053-1fc7a80a5d7a
STATUS:CONFIRMED
LAST-MODIFIED:20190303T213450Z
DESCRIPTION:Herren - 6. Kreisklasse - Lübeck\nBegegnungs-Nr: 211\nHeim: TSV Kücknitz VI\nGast: TSV Siems III\n
LOCATION:
CATEGORIES:Saison 2015/16
END:VEVENT
BEGIN:VEVENT
DTSTAMP:20260421T162857Z
DTSTART;TZID=Europe/Berlin:20160307T200000
DTEND;TZID=Europe/Berlin:20160307T230000
SUMMARY:6. Kreisklasse SF Herrnburg IV vs TSV Siems III (219)
UID:83382eda-75da-598e-e053-1fc7a80a5d7a
STATUS:CONFIRMED
LAST-MODIFIED:20190303T213451Z
DESCRIPTION:Herren - 6. Kreisklasse - Lübeck\nBegegnungs-Nr: 219\nHeim: SF Herrnburg IV\nGast: TSV Siems III\n
LOCATION:
CATEGORIES:Saison 2015/16
END:VEVENT
BEGIN:VEVENT
DTSTAMP:20260421T162857Z
DTSTART;TZID=Europe/Berlin:20160222T194500
DTEND;TZID=Europe/Berlin:20160222T224500
SUMMARY:6. Kreisklasse TSV Eintracht Groß Grönau V vs TSV Siems III (226)
UID:83382eda-7638-598e-e053-1fc7a80a5d7a
STATUS:CONFIRMED
LAST-MODIFIED:20190303T213451Z
DESCRIPTION:Herren - 6. Kreisklasse - Lübeck\nBegegnungs-Nr: 226\nHeim: TSV Eintracht Groß Grönau V\nGast: TSV Siems III\n
LOCATION:
CATEGORIES:Saison 2015/16
END:VEVENT
BEGIN:VEVENT
DTSTAMP:20260421T162857Z
DTSTART;TZID=Europe/Berlin:20160309T200000
DTEND;TZID=Europe/Berlin:20160309T230000
SUMMARY:6. Kreisklasse TTC Victoria 60 Lübeck V vs TSV Siems III (239)
UID:83382eda-76ec-598e-e053-1fc7a80a5d7a
STATUS:CONFIRMED
LAST-MODIFIED:20190303T213451Z
DESCRIPTION:Herren - 6. Kreisklasse - Lübeck\nBegegnungs-Nr: 239\nHeim: TTC Victoria 60 Lübeck V\nGast: TSV Siems III\n
LOCATION:
CATEGORIES:Saison 2015/16
END:VEVENT
END:VCALENDAR
