BEGIN:VCALENDAR
PRODID:-//nuDatenautomaten//framework iCal4j //DE
VERSION:2.0
CALSCALE:GREGORIAN
BEGIN:VTIMEZONE
TZID:Europe/Berlin
LAST-MODIFIED:20260306T231828Z
TZURL:https://www.tzurl.org/zoneinfo/Europe/Berlin
X-LIC-LOCATION:Europe/Berlin
X-PROLEPTIC-TZNAME:LMT
BEGIN:STANDARD
TZNAME:CET
TZOFFSETFROM:+005328
TZOFFSETTO:+0100
DTSTART:18930401T000000
END:STANDARD
BEGIN:DAYLIGHT
TZNAME:CEST
TZOFFSETFROM:+0100
TZOFFSETTO:+0200
DTSTART:19160430T230000
RDATE:19400401T020000
RDATE:19430329T020000
RDATE:19460414T020000
RDATE:19470406T030000
RDATE:19480418T020000
RDATE:19490410T020000
RDATE:19800406T020000
END:DAYLIGHT
BEGIN:STANDARD
TZNAME:CET
TZOFFSETFROM:+0200
TZOFFSETTO:+0100
DTSTART:19161001T010000
RDATE:19421102T030000
RDATE:19431004T030000
RDATE:19441002T030000
RDATE:19451118T030000
RDATE:19461007T030000
END:STANDARD
BEGIN:DAYLIGHT
TZNAME:CEST
TZOFFSETFROM:+0100
TZOFFSETTO:+0200
DTSTART:19170416T020000
RRULE:FREQ=YEARLY;UNTIL=19180415T010000Z;BYMONTH=4;BYDAY=3MO
END:DAYLIGHT
BEGIN:STANDARD
TZNAME:CET
TZOFFSETFROM:+0200
TZOFFSETTO:+0100
DTSTART:19170917T030000
RRULE:FREQ=YEARLY;UNTIL=19180916T010000Z;BYMONTH=9;BYDAY=3MO
END:STANDARD
BEGIN:DAYLIGHT
TZNAME:CEST
TZOFFSETFROM:+0100
TZOFFSETTO:+0200
DTSTART:19440403T020000
RRULE:FREQ=YEARLY;UNTIL=19450402T010000Z;BYMONTH=4;BYDAY=1MO
END:DAYLIGHT
BEGIN:DAYLIGHT
TZNAME:CEMT
TZOFFSETFROM:+0200
TZOFFSETTO:+0300
DTSTART:19450524T020000
RDATE:19470511T030000
END:DAYLIGHT
BEGIN:DAYLIGHT
TZNAME:CEST
TZOFFSETFROM:+0300
TZOFFSETTO:+0200
DTSTART:19450924T030000
RDATE:19470629T030000
END:DAYLIGHT
BEGIN:STANDARD
TZNAME:CET
TZOFFSETFROM:+0100
TZOFFSETTO:+0100
DTSTART:19460101T000000
RDATE:19800101T000000
END:STANDARD
BEGIN:STANDARD
TZNAME:CET
TZOFFSETFROM:+0200
TZOFFSETTO:+0100
DTSTART:19471005T030000
RRULE:FREQ=YEARLY;UNTIL=19491002T010000Z;BYMONTH=10;BYDAY=1SU
END:STANDARD
BEGIN:STANDARD
TZNAME:CET
TZOFFSETFROM:+0200
TZOFFSETTO:+0100
DTSTART:19800928T030000
RRULE:FREQ=YEARLY;UNTIL=19950924T010000Z;BYMONTH=9;BYDAY=-1SU
END:STANDARD
BEGIN:DAYLIGHT
TZNAME:CEST
TZOFFSETFROM:+0100
TZOFFSETTO:+0200
DTSTART:19810329T020000
RRULE:FREQ=YEARLY;BYMONTH=3;BYDAY=-1SU
END:DAYLIGHT
BEGIN:STANDARD
TZNAME:CET
TZOFFSETFROM:+0200
TZOFFSETTO:+0100
DTSTART:19961027T030000
RRULE:FREQ=YEARLY;BYMONTH=10;BYDAY=-1SU
END:STANDARD
END:VTIMEZONE
BEGIN:VEVENT
DTSTAMP:20260419T204903Z
DTSTART;TZID=Europe/Berlin:20160203T200000
DTEND;TZID=Europe/Berlin:20160203T230000
SUMMARY:4. Kreisklasse SV Bönebüttel-Husberg IV vs SV Wasbek VI (688)
UID:83382eda-a77e-598e-e053-1fc7a80a5d7a
STATUS:CONFIRMED
LAST-MODIFIED:20190303T213501Z
DESCRIPTION:Herren - 4. Kreisklasse  - Neumünster\nBegegnungs-Nr: 688\nHeim: SV Bönebüttel-Husberg IV\nGast: SV Wasbek VI\n
LOCATION:
CATEGORIES:Saison 2015/16
END:VEVENT
BEGIN:VEVENT
DTSTAMP:20260419T204903Z
DTSTART;TZID=Europe/Berlin:20160217T200000
DTEND;TZID=Europe/Berlin:20160217T230000
SUMMARY:4. Kreisklasse SV Bönebüttel-Husberg IV vs SV Tungendorf VII (699)
UID:83382eda-a844-598e-e053-1fc7a80a5d7a
STATUS:CONFIRMED
LAST-MODIFIED:20190303T213501Z
DESCRIPTION:Herren - 4. Kreisklasse  - Neumünster\nBegegnungs-Nr: 699\nHeim: SV Bönebüttel-Husberg IV\nGast: SV Tungendorf VII\n
LOCATION:
CATEGORIES:Saison 2015/16
END:VEVENT
BEGIN:VEVENT
DTSTAMP:20260419T204903Z
DTSTART;TZID=Europe/Berlin:20160309T200000
DTEND;TZID=Europe/Berlin:20160309T230000
SUMMARY:4. Kreisklasse SV Bönebüttel-Husberg IV vs Großenasper SV III (716)
UID:83382eda-a9b4-598e-e053-1fc7a80a5d7a
STATUS:CONFIRMED
LAST-MODIFIED:20190303T213501Z
DESCRIPTION:Herren - 4. Kreisklasse  - Neumünster\nBegegnungs-Nr: 716\nHeim: SV Bönebüttel-Husberg IV\nGast: Großenasper SV III\n
LOCATION:
CATEGORIES:Saison 2015/16
END:VEVENT
BEGIN:VEVENT
DTSTAMP:20260419T204903Z
DTSTART;TZID=Europe/Berlin:20160427T200000
DTEND;TZID=Europe/Berlin:20160427T230000
SUMMARY:4. Kreisklasse SV Bönebüttel-Husberg IV vs SG Padenstedt IV (729)
UID:83382eda-aacb-598e-e053-1fc7a80a5d7a
STATUS:CONFIRMED
LAST-MODIFIED:20190303T213502Z
DESCRIPTION:Herren - 4. Kreisklasse  - Neumünster\nBegegnungs-Nr: 729\nHeim: SV Bönebüttel-Husberg IV\nGast: SG Padenstedt IV\n
LOCATION:
CATEGORIES:Saison 2015/16
END:VEVENT
BEGIN:VEVENT
DTSTAMP:20260419T204903Z
DTSTART;TZID=Europe/Berlin:20150923T200000
DTEND;TZID=Europe/Berlin:20150923T230000
SUMMARY:4. Kreisklasse SV Bönebüttel-Husberg IV vs SV Tungendorf VI (612)
UID:83382eda-a1bd-598e-e053-1fc7a80a5d7a
STATUS:CONFIRMED
LAST-MODIFIED:20190303T213500Z
DESCRIPTION:Herren - 4. Kreisklasse  - Neumünster\nBegegnungs-Nr: 612\nHeim: SV Bönebüttel-Husberg IV\nGast: SV Tungendorf VI\n
LOCATION:
CATEGORIES:Saison 2015/16
END:VEVENT
BEGIN:VEVENT
DTSTAMP:20260419T204903Z
DTSTART;TZID=Europe/Berlin:20151007T200000
DTEND;TZID=Europe/Berlin:20151007T230000
SUMMARY:4. Kreisklasse SV Bönebüttel-Husberg IV vs Post SV Neumünster  (623)
UID:83382eda-a293-598e-e053-1fc7a80a5d7a
STATUS:CONFIRMED
LAST-MODIFIED:20190303T213500Z
DESCRIPTION:Herren - 4. Kreisklasse  - Neumünster\nBegegnungs-Nr: 623\nHeim: SV Bönebüttel-Husberg IV\nGast: Post SV Neumünster \n
LOCATION:
CATEGORIES:Saison 2015/16
END:VEVENT
BEGIN:VEVENT
DTSTAMP:20260419T204903Z
DTSTART;TZID=Europe/Berlin:20151104T200000
DTEND;TZID=Europe/Berlin:20151104T230000
SUMMARY:4. Kreisklasse SV Bönebüttel-Husberg IV vs TTC Rendswühren III (635)
UID:83382eda-a375-598e-e053-1fc7a80a5d7a
STATUS:CONFIRMED
LAST-MODIFIED:20190303T213500Z
DESCRIPTION:Herren - 4. Kreisklasse  - Neumünster\nBegegnungs-Nr: 635\nHeim: SV Bönebüttel-Husberg IV\nGast: TTC Rendswühren III\n
LOCATION:
CATEGORIES:Saison 2015/16
END:VEVENT
BEGIN:VEVENT
DTSTAMP:20260419T204903Z
DTSTART;TZID=Europe/Berlin:20151111T200000
DTEND;TZID=Europe/Berlin:20151111T230000
SUMMARY:4. Kreisklasse SV Bönebüttel-Husberg IV vs TS Einfeld Neumünster V (640)
UID:83382eda-a3de-598e-e053-1fc7a80a5d7a
STATUS:CONFIRMED
LAST-MODIFIED:20190303T213500Z
DESCRIPTION:Herren - 4. Kreisklasse  - Neumünster\nBegegnungs-Nr: 640\nHeim: SV Bönebüttel-Husberg IV\nGast: TS Einfeld Neumünster V\n
LOCATION:
CATEGORIES:Saison 2015/16
END:VEVENT
BEGIN:VEVENT
DTSTAMP:20260419T204903Z
DTSTART;TZID=Europe/Berlin:20151125T200000
DTEND;TZID=Europe/Berlin:20151125T230000
SUMMARY:4. Kreisklasse SV Bönebüttel-Husberg IV vs TSV Gadeland Neumünster III (653)
UID:83382eda-a4f4-598e-e053-1fc7a80a5d7a
STATUS:CONFIRMED
LAST-MODIFIED:20190303T213500Z
DESCRIPTION:Herren - 4. Kreisklasse  - Neumünster\nBegegnungs-Nr: 653\nHeim: SV Bönebüttel-Husberg IV\nGast: TSV Gadeland Neumünster III\n
LOCATION:
CATEGORIES:Saison 2015/16
END:VEVENT
BEGIN:VEVENT
DTSTAMP:20260419T204903Z
DTSTART;TZID=Europe/Berlin:20151209T200000
DTEND;TZID=Europe/Berlin:20151209T230000
SUMMARY:4. Kreisklasse SV Bönebüttel-Husberg IV vs TSV 05 Neumünster IV (664)
UID:83382eda-a5d6-598e-e053-1fc7a80a5d7a
STATUS:CONFIRMED
LAST-MODIFIED:20190303T213501Z
DESCRIPTION:Herren - 4. Kreisklasse  - Neumünster\nBegegnungs-Nr: 664\nHeim: SV Bönebüttel-Husberg IV\nGast: TSV 05 Neumünster IV\n
LOCATION:
CATEGORIES:Saison 2015/16
END:VEVENT
BEGIN:VEVENT
DTSTAMP:20260419T204903Z
DTSTART;TZID=Europe/Berlin:20160120T200000
DTEND;TZID=Europe/Berlin:20160120T230000
SUMMARY:4. Kreisklasse SV Bönebüttel-Husberg IV vs SG Padenstedt III (676)
UID:83382eda-a686-598e-e053-1fc7a80a5d7a
STATUS:CONFIRMED
LAST-MODIFIED:20190303T213501Z
DESCRIPTION:Herren - 4. Kreisklasse  - Neumünster\nBegegnungs-Nr: 676\nHeim: SV Bönebüttel-Husberg IV\nGast: SG Padenstedt III\n
LOCATION:
CATEGORIES:Saison 2015/16
END:VEVENT
BEGIN:VEVENT
DTSTAMP:20260419T204903Z
DTSTART;TZID=Europe/Berlin:20160208T193000
DTEND;TZID=Europe/Berlin:20160208T223000
SUMMARY:4. Kreisklasse Post SV Neumünster  vs SV Bönebüttel-Husberg IV (690)
UID:83382eda-a7a8-598e-e053-1fc7a80a5d7a
STATUS:CONFIRMED
LAST-MODIFIED:20190303T213501Z
DESCRIPTION:Herren - 4. Kreisklasse  - Neumünster\nBegegnungs-Nr: 690\nHeim: Post SV Neumünster \nGast: SV Bönebüttel-Husberg IV\n
LOCATION:
CATEGORIES:Saison 2015/16
END:VEVENT
BEGIN:VEVENT
DTSTAMP:20260419T204903Z
DTSTART;TZID=Europe/Berlin:20160301T193000
DTEND;TZID=Europe/Berlin:20160301T223000
SUMMARY:4. Kreisklasse TS Einfeld Neumünster V vs SV Bönebüttel-Husberg IV (709)
UID:83382eda-a91b-598e-e053-1fc7a80a5d7a
STATUS:CONFIRMED
LAST-MODIFIED:20190303T213501Z
DESCRIPTION:Herren - 4. Kreisklasse  - Neumünster\nBegegnungs-Nr: 709\nHeim: TS Einfeld Neumünster V\nGast: SV Bönebüttel-Husberg IV\n
LOCATION:
CATEGORIES:Saison 2015/16
END:VEVENT
BEGIN:VEVENT
DTSTAMP:20260419T204903Z
DTSTART;TZID=Europe/Berlin:20160318T193000
DTEND;TZID=Europe/Berlin:20160318T223000
SUMMARY:4. Kreisklasse TSV Gadeland Neumünster III vs SV Bönebüttel-Husberg IV (723)
UID:83382eda-aa46-598e-e053-1fc7a80a5d7a
STATUS:CONFIRMED
LAST-MODIFIED:20190303T213502Z
DESCRIPTION:Herren - 4. Kreisklasse  - Neumünster\nBegegnungs-Nr: 723\nHeim: TSV Gadeland Neumünster III\nGast: SV Bönebüttel-Husberg IV\n
LOCATION:
CATEGORIES:Saison 2015/16
END:VEVENT
BEGIN:VEVENT
DTSTAMP:20260419T204903Z
DTSTART;TZID=Europe/Berlin:20160420T193000
DTEND;TZID=Europe/Berlin:20160420T223000
SUMMARY:4. Kreisklasse TSV 05 Neumünster IV vs SV Bönebüttel-Husberg IV (734)
UID:83382eda-ab2f-598e-e053-1fc7a80a5d7a
STATUS:CONFIRMED
LAST-MODIFIED:20190303T213502Z
DESCRIPTION:Herren - 4. Kreisklasse  - Neumünster\nBegegnungs-Nr: 734\nHeim: TSV 05 Neumünster IV\nGast: SV Bönebüttel-Husberg IV\n
LOCATION:
CATEGORIES:Saison 2015/16
END:VEVENT
BEGIN:VEVENT
DTSTAMP:20260419T204903Z
DTSTART;TZID=Europe/Berlin:20150914T200000
DTEND;TZID=Europe/Berlin:20150914T230000
SUMMARY:4. Kreisklasse SG Padenstedt III vs SV Bönebüttel-Husberg IV (603)
UID:83382eda-a0fa-598e-e053-1fc7a80a5d7a
STATUS:CONFIRMED
LAST-MODIFIED:20190303T213500Z
DESCRIPTION:Herren - 4. Kreisklasse  - Neumünster\nBegegnungs-Nr: 603\nHeim: SG Padenstedt III\nGast: SV Bönebüttel-Husberg IV\n
LOCATION:
CATEGORIES:Saison 2015/16
END:VEVENT
BEGIN:VEVENT
DTSTAMP:20260419T204903Z
DTSTART;TZID=Europe/Berlin:20150930T200000
DTEND;TZID=Europe/Berlin:20150930T230000
SUMMARY:4. Kreisklasse SV Wasbek VI vs SV Bönebüttel-Husberg IV (618)
UID:83382eda-a240-598e-e053-1fc7a80a5d7a
STATUS:CONFIRMED
LAST-MODIFIED:20190303T213500Z
DESCRIPTION:Herren - 4. Kreisklasse  - Neumünster\nBegegnungs-Nr: 618\nHeim: SV Wasbek VI\nGast: SV Bönebüttel-Husberg IV\n
LOCATION:
CATEGORIES:Saison 2015/16
END:VEVENT
BEGIN:VEVENT
DTSTAMP:20260419T204903Z
DTSTART;TZID=Europe/Berlin:20151012T193000
DTEND;TZID=Europe/Berlin:20151012T223000
SUMMARY:4. Kreisklasse SV Tungendorf VII vs SV Bönebüttel-Husberg IV (626)
UID:83382eda-a2ce-598e-e053-1fc7a80a5d7a
STATUS:CONFIRMED
LAST-MODIFIED:20190303T213500Z
DESCRIPTION:Herren - 4. Kreisklasse  - Neumünster\nBegegnungs-Nr: 626\nHeim: SV Tungendorf VII\nGast: SV Bönebüttel-Husberg IV\n
LOCATION:
CATEGORIES:Saison 2015/16
END:VEVENT
BEGIN:VEVENT
DTSTAMP:20260419T204903Z
DTSTART;TZID=Europe/Berlin:20151118T193000
DTEND;TZID=Europe/Berlin:20151118T223000
SUMMARY:4. Kreisklasse Großenasper SV III vs SV Bönebüttel-Husberg IV (647)
UID:83382eda-a473-598e-e053-1fc7a80a5d7a
STATUS:CONFIRMED
LAST-MODIFIED:20190303T213500Z
DESCRIPTION:Herren - 4. Kreisklasse  - Neumünster\nBegegnungs-Nr: 647\nHeim: Großenasper SV III\nGast: SV Bönebüttel-Husberg IV\n
LOCATION:
CATEGORIES:Saison 2015/16
END:VEVENT
BEGIN:VEVENT
DTSTAMP:20260419T204903Z
DTSTART;TZID=Europe/Berlin:20151130T200000
DTEND;TZID=Europe/Berlin:20151130T230000
SUMMARY:4. Kreisklasse SG Padenstedt IV vs SV Bönebüttel-Husberg IV (656)
UID:83382eda-a530-598e-e053-1fc7a80a5d7a
STATUS:CONFIRMED
LAST-MODIFIED:20190303T213501Z
DESCRIPTION:Herren - 4. Kreisklasse  - Neumünster\nBegegnungs-Nr: 656\nHeim: SG Padenstedt IV\nGast: SV Bönebüttel-Husberg IV\n
LOCATION:
CATEGORIES:Saison 2015/16
END:VEVENT
BEGIN:VEVENT
DTSTAMP:20260419T204903Z
DTSTART;TZID=Europe/Berlin:20160129T193000
DTEND;TZID=Europe/Berlin:20160129T223000
SUMMARY:4. Kreisklasse SV Tungendorf VI vs SV Bönebüttel-Husberg IV (683)
UID:83382eda-a716-598e-e053-1fc7a80a5d7a
STATUS:CONFIRMED
LAST-MODIFIED:20190303T213501Z
DESCRIPTION:Herren - 4. Kreisklasse  - Neumünster\nBegegnungs-Nr: 683\nHeim: SV Tungendorf VI\nGast: SV Bönebüttel-Husberg IV\n
LOCATION:
CATEGORIES:Saison 2015/16
END:VEVENT
BEGIN:VEVENT
DTSTAMP:20260419T204903Z
DTSTART;TZID=Europe/Berlin:20160222T200000
DTEND;TZID=Europe/Berlin:20160222T230000
SUMMARY:4. Kreisklasse TTC Rendswühren III vs SV Bönebüttel-Husberg IV (703)
UID:83382eda-a899-598e-e053-1fc7a80a5d7a
STATUS:CONFIRMED
LAST-MODIFIED:20190303T213501Z
DESCRIPTION:Herren - 4. Kreisklasse  - Neumünster\nBegegnungs-Nr: 703\nHeim: TTC Rendswühren III\nGast: SV Bönebüttel-Husberg IV\n
LOCATION:
CATEGORIES:Saison 2015/16
END:VEVENT
END:VCALENDAR
