BEGIN:VCALENDAR
PRODID:-//nuDatenautomaten//framework iCal4j //DE
VERSION:2.0
CALSCALE:GREGORIAN
BEGIN:VTIMEZONE
TZID:Europe/Berlin
LAST-MODIFIED:20260306T231828Z
TZURL:https://www.tzurl.org/zoneinfo/Europe/Berlin
X-LIC-LOCATION:Europe/Berlin
X-PROLEPTIC-TZNAME:LMT
BEGIN:STANDARD
TZNAME:CET
TZOFFSETFROM:+005328
TZOFFSETTO:+0100
DTSTART:18930401T000000
END:STANDARD
BEGIN:DAYLIGHT
TZNAME:CEST
TZOFFSETFROM:+0100
TZOFFSETTO:+0200
DTSTART:19160430T230000
RDATE:19400401T020000
RDATE:19430329T020000
RDATE:19460414T020000
RDATE:19470406T030000
RDATE:19480418T020000
RDATE:19490410T020000
RDATE:19800406T020000
END:DAYLIGHT
BEGIN:STANDARD
TZNAME:CET
TZOFFSETFROM:+0200
TZOFFSETTO:+0100
DTSTART:19161001T010000
RDATE:19421102T030000
RDATE:19431004T030000
RDATE:19441002T030000
RDATE:19451118T030000
RDATE:19461007T030000
END:STANDARD
BEGIN:DAYLIGHT
TZNAME:CEST
TZOFFSETFROM:+0100
TZOFFSETTO:+0200
DTSTART:19170416T020000
RRULE:FREQ=YEARLY;UNTIL=19180415T010000Z;BYMONTH=4;BYDAY=3MO
END:DAYLIGHT
BEGIN:STANDARD
TZNAME:CET
TZOFFSETFROM:+0200
TZOFFSETTO:+0100
DTSTART:19170917T030000
RRULE:FREQ=YEARLY;UNTIL=19180916T010000Z;BYMONTH=9;BYDAY=3MO
END:STANDARD
BEGIN:DAYLIGHT
TZNAME:CEST
TZOFFSETFROM:+0100
TZOFFSETTO:+0200
DTSTART:19440403T020000
RRULE:FREQ=YEARLY;UNTIL=19450402T010000Z;BYMONTH=4;BYDAY=1MO
END:DAYLIGHT
BEGIN:DAYLIGHT
TZNAME:CEMT
TZOFFSETFROM:+0200
TZOFFSETTO:+0300
DTSTART:19450524T020000
RDATE:19470511T030000
END:DAYLIGHT
BEGIN:DAYLIGHT
TZNAME:CEST
TZOFFSETFROM:+0300
TZOFFSETTO:+0200
DTSTART:19450924T030000
RDATE:19470629T030000
END:DAYLIGHT
BEGIN:STANDARD
TZNAME:CET
TZOFFSETFROM:+0100
TZOFFSETTO:+0100
DTSTART:19460101T000000
RDATE:19800101T000000
END:STANDARD
BEGIN:STANDARD
TZNAME:CET
TZOFFSETFROM:+0200
TZOFFSETTO:+0100
DTSTART:19471005T030000
RRULE:FREQ=YEARLY;UNTIL=19491002T010000Z;BYMONTH=10;BYDAY=1SU
END:STANDARD
BEGIN:STANDARD
TZNAME:CET
TZOFFSETFROM:+0200
TZOFFSETTO:+0100
DTSTART:19800928T030000
RRULE:FREQ=YEARLY;UNTIL=19950924T010000Z;BYMONTH=9;BYDAY=-1SU
END:STANDARD
BEGIN:DAYLIGHT
TZNAME:CEST
TZOFFSETFROM:+0100
TZOFFSETTO:+0200
DTSTART:19810329T020000
RRULE:FREQ=YEARLY;BYMONTH=3;BYDAY=-1SU
END:DAYLIGHT
BEGIN:STANDARD
TZNAME:CET
TZOFFSETFROM:+0200
TZOFFSETTO:+0100
DTSTART:19961027T030000
RRULE:FREQ=YEARLY;BYMONTH=10;BYDAY=-1SU
END:STANDARD
END:VTIMEZONE
BEGIN:VEVENT
DTSTAMP:20260425T141250Z
DTSTART;TZID=Europe/Berlin:20150915T193000
DTEND;TZID=Europe/Berlin:20150915T223000
SUMMARY:2. Kreisklasse TSV Gadeland Neumünster II vs SV Boostedt VI (301)
UID:83382eda-90d0-598e-e053-1fc7a80a5d7a
STATUS:CONFIRMED
LAST-MODIFIED:20190303T213456Z
DESCRIPTION:Herren - 2. Kreisklasse - Neumünster\nBegegnungs-Nr: 301\nHeim: TSV Gadeland Neumünster II\nGast: SV Boostedt VI\n
LOCATION:
CATEGORIES:Saison 2015/16
END:VEVENT
BEGIN:VEVENT
DTSTAMP:20260425T141250Z
DTSTART;TZID=Europe/Berlin:20150929T193000
DTEND;TZID=Europe/Berlin:20150929T223000
SUMMARY:2. Kreisklasse TSV Gadeland Neumünster II vs SV Wasbek IV (311)
UID:83382eda-91a3-598e-e053-1fc7a80a5d7a
STATUS:CONFIRMED
LAST-MODIFIED:20190303T213456Z
DESCRIPTION:Herren - 2. Kreisklasse - Neumünster\nBegegnungs-Nr: 311\nHeim: TSV Gadeland Neumünster II\nGast: SV Wasbek IV\n
LOCATION:
CATEGORIES:Saison 2015/16
END:VEVENT
BEGIN:VEVENT
DTSTAMP:20260425T141250Z
DTSTART;TZID=Europe/Berlin:20151103T193000
DTEND;TZID=Europe/Berlin:20151103T223000
SUMMARY:2. Kreisklasse TSV Gadeland Neumünster II vs Großenasper SV  (327)
UID:83382eda-92f5-598e-e053-1fc7a80a5d7a
STATUS:CONFIRMED
LAST-MODIFIED:20190303T213457Z
DESCRIPTION:Herren - 2. Kreisklasse - Neumünster\nBegegnungs-Nr: 327\nHeim: TSV Gadeland Neumünster II\nGast: Großenasper SV \n
LOCATION:
CATEGORIES:Saison 2015/16
END:VEVENT
BEGIN:VEVENT
DTSTAMP:20260425T141250Z
DTSTART;TZID=Europe/Berlin:20151117T193000
DTEND;TZID=Europe/Berlin:20151117T223000
SUMMARY:2. Kreisklasse TSV Gadeland Neumünster II vs SG Westend Neumünster III (336)
UID:83382eda-93b0-598e-e053-1fc7a80a5d7a
STATUS:CONFIRMED
LAST-MODIFIED:20190303T213457Z
DESCRIPTION:Herren - 2. Kreisklasse - Neumünster\nBegegnungs-Nr: 336\nHeim: TSV Gadeland Neumünster II\nGast: SG Westend Neumünster III\n
LOCATION:
CATEGORIES:Saison 2015/16
END:VEVENT
BEGIN:VEVENT
DTSTAMP:20260425T141250Z
DTSTART;TZID=Europe/Berlin:20160412T193000
DTEND;TZID=Europe/Berlin:20160412T223000
SUMMARY:2. Kreisklasse TSV Gadeland Neumünster II vs Blau-Weiß Wittorf Neumünster III (357)
UID:83382eda-9502-598e-e053-1fc7a80a5d7a
STATUS:CONFIRMED
LAST-MODIFIED:20190303T213457Z
DESCRIPTION:Herren - 2. Kreisklasse - Neumünster\nBegegnungs-Nr: 357\nHeim: TSV Gadeland Neumünster II\nGast: Blau-Weiß Wittorf Neumünster III\n
LOCATION:
CATEGORIES:Saison 2015/16
END:VEVENT
BEGIN:VEVENT
DTSTAMP:20260425T141250Z
DTSTART;TZID=Europe/Berlin:20160209T193000
DTEND;TZID=Europe/Berlin:20160209T223000
SUMMARY:2. Kreisklasse TSV Gadeland Neumünster II vs SV Bönebüttel-Husberg III (367)
UID:83382eda-95d1-598e-e053-1fc7a80a5d7a
STATUS:CONFIRMED
LAST-MODIFIED:20190303T213457Z
DESCRIPTION:Herren - 2. Kreisklasse - Neumünster\nBegegnungs-Nr: 367\nHeim: TSV Gadeland Neumünster II\nGast: SV Bönebüttel-Husberg III\n
LOCATION:
CATEGORIES:Saison 2015/16
END:VEVENT
BEGIN:VEVENT
DTSTAMP:20260425T141250Z
DTSTART;TZID=Europe/Berlin:20160216T193000
DTEND;TZID=Europe/Berlin:20160216T223000
SUMMARY:2. Kreisklasse TSV Gadeland Neumünster II vs SV Bönebüttel-Husberg II (374)
UID:83382eda-9661-598e-e053-1fc7a80a5d7a
STATUS:CONFIRMED
LAST-MODIFIED:20190303T213457Z
DESCRIPTION:Herren - 2. Kreisklasse - Neumünster\nBegegnungs-Nr: 374\nHeim: TSV Gadeland Neumünster II\nGast: SV Bönebüttel-Husberg II\n
LOCATION:
CATEGORIES:Saison 2015/16
END:VEVENT
BEGIN:VEVENT
DTSTAMP:20260425T141250Z
DTSTART;TZID=Europe/Berlin:20160301T193000
DTEND;TZID=Europe/Berlin:20160301T223000
SUMMARY:2. Kreisklasse TSV Gadeland Neumünster II vs SV Boostedt V (383)
UID:83382eda-9716-598e-e053-1fc7a80a5d7a
STATUS:CONFIRMED
LAST-MODIFIED:20190303T213458Z
DESCRIPTION:Herren - 2. Kreisklasse - Neumünster\nBegegnungs-Nr: 383\nHeim: TSV Gadeland Neumünster II\nGast: SV Boostedt V\n
LOCATION:
CATEGORIES:Saison 2015/16
END:VEVENT
BEGIN:VEVENT
DTSTAMP:20260425T141250Z
DTSTART;TZID=Europe/Berlin:20160315T193000
DTEND;TZID=Europe/Berlin:20160315T223000
SUMMARY:2. Kreisklasse TSV Gadeland Neumünster II vs SV Tungendorf IV (391)
UID:83382eda-97b7-598e-e053-1fc7a80a5d7a
STATUS:CONFIRMED
LAST-MODIFIED:20190303T213458Z
DESCRIPTION:Herren - 2. Kreisklasse - Neumünster\nBegegnungs-Nr: 391\nHeim: TSV Gadeland Neumünster II\nGast: SV Tungendorf IV\n
LOCATION:
CATEGORIES:Saison 2015/16
END:VEVENT
BEGIN:VEVENT
DTSTAMP:20260425T141250Z
DTSTART;TZID=Europe/Berlin:20151201T190000
DTEND;TZID=Europe/Berlin:20151201T220000
SUMMARY:2. Kreisklasse Blau-Weiß Wittorf Neumünster III vs TSV Gadeland Neumünster II (309)
UID:83382eda-9177-598e-e053-1fc7a80a5d7a
STATUS:CONFIRMED
LAST-MODIFIED:20190303T213456Z
DESCRIPTION:Herren - 2. Kreisklasse - Neumünster\nBegegnungs-Nr: 309\nHeim: Blau-Weiß Wittorf Neumünster III\nGast: TSV Gadeland Neumünster II\n
LOCATION:
CATEGORIES:Saison 2015/16
END:VEVENT
BEGIN:VEVENT
DTSTAMP:20260425T141250Z
DTSTART;TZID=Europe/Berlin:20151005T200000
DTEND;TZID=Europe/Berlin:20151005T230000
SUMMARY:2. Kreisklasse SV Bönebüttel-Husberg III vs TSV Gadeland Neumünster II (317)
UID:83382eda-9223-598e-e053-1fc7a80a5d7a
STATUS:CONFIRMED
LAST-MODIFIED:20190303T213456Z
DESCRIPTION:Herren - 2. Kreisklasse - Neumünster\nBegegnungs-Nr: 317\nHeim: SV Bönebüttel-Husberg III\nGast: TSV Gadeland Neumünster II\n
LOCATION:
CATEGORIES:Saison 2015/16
END:VEVENT
BEGIN:VEVENT
DTSTAMP:20260425T141250Z
DTSTART;TZID=Europe/Berlin:20151207T200000
DTEND;TZID=Europe/Berlin:20151207T230000
SUMMARY:2. Kreisklasse SV Bönebüttel-Husberg II vs TSV Gadeland Neumünster II (323)
UID:83382eda-929e-598e-e053-1fc7a80a5d7a
STATUS:CONFIRMED
LAST-MODIFIED:20190303T213456Z
DESCRIPTION:Herren - 2. Kreisklasse - Neumünster\nBegegnungs-Nr: 323\nHeim: SV Bönebüttel-Husberg II\nGast: TSV Gadeland Neumünster II\n
LOCATION:
CATEGORIES:Saison 2015/16
END:VEVENT
BEGIN:VEVENT
DTSTAMP:20260425T141250Z
DTSTART;TZID=Europe/Berlin:20151204T193000
DTEND;TZID=Europe/Berlin:20151204T223000
SUMMARY:2. Kreisklasse SV Boostedt V vs TSV Gadeland Neumünster II (333)
UID:83382eda-9376-598e-e053-1fc7a80a5d7a
STATUS:CONFIRMED
LAST-MODIFIED:20190303T213457Z
DESCRIPTION:Herren - 2. Kreisklasse - Neumünster\nBegegnungs-Nr: 333\nHeim: SV Boostedt V\nGast: TSV Gadeland Neumünster II\n
LOCATION:
CATEGORIES:Saison 2015/16
END:VEVENT
BEGIN:VEVENT
DTSTAMP:20260425T141250Z
DTSTART;TZID=Europe/Berlin:20151123T193000
DTEND;TZID=Europe/Berlin:20151123T223000
SUMMARY:2. Kreisklasse SV Tungendorf IV vs TSV Gadeland Neumünster II (339)
UID:83382eda-93ef-598e-e053-1fc7a80a5d7a
STATUS:CONFIRMED
LAST-MODIFIED:20190303T213457Z
DESCRIPTION:Herren - 2. Kreisklasse - Neumünster\nBegegnungs-Nr: 339\nHeim: SV Tungendorf IV\nGast: TSV Gadeland Neumünster II\n
LOCATION:
CATEGORIES:Saison 2015/16
END:VEVENT
BEGIN:VEVENT
DTSTAMP:20260425T141250Z
DTSTART;TZID=Europe/Berlin:20160118T193000
DTEND;TZID=Europe/Berlin:20160118T223000
SUMMARY:2. Kreisklasse SV Boostedt VI vs TSV Gadeland Neumünster II (354)
UID:83382eda-94c8-598e-e053-1fc7a80a5d7a
STATUS:CONFIRMED
LAST-MODIFIED:20190303T213457Z
DESCRIPTION:Herren - 2. Kreisklasse - Neumünster\nBegegnungs-Nr: 354\nHeim: SV Boostedt VI\nGast: TSV Gadeland Neumünster II\n
LOCATION:
CATEGORIES:Saison 2015/16
END:VEVENT
BEGIN:VEVENT
DTSTAMP:20260425T141250Z
DTSTART;TZID=Europe/Berlin:20160203T200000
DTEND;TZID=Europe/Berlin:20160203T230000
SUMMARY:2. Kreisklasse SV Wasbek IV vs TSV Gadeland Neumünster II (366)
UID:83382eda-95ba-598e-e053-1fc7a80a5d7a
STATUS:CONFIRMED
LAST-MODIFIED:20190303T213457Z
DESCRIPTION:Herren - 2. Kreisklasse - Neumünster\nBegegnungs-Nr: 366\nHeim: SV Wasbek IV\nGast: TSV Gadeland Neumünster II\n
LOCATION:
CATEGORIES:Saison 2015/16
END:VEVENT
BEGIN:VEVENT
DTSTAMP:20260425T141250Z
DTSTART;TZID=Europe/Berlin:20160311T200000
DTEND;TZID=Europe/Berlin:20160311T230000
SUMMARY:2. Kreisklasse Großenasper SV  vs TSV Gadeland Neumünster II (378)
UID:83382eda-96b1-598e-e053-1fc7a80a5d7a
STATUS:CONFIRMED
LAST-MODIFIED:20190303T213457Z
DESCRIPTION:Herren - 2. Kreisklasse - Neumünster\nBegegnungs-Nr: 378\nHeim: Großenasper SV \nGast: TSV Gadeland Neumünster II\n
LOCATION:
CATEGORIES:Saison 2015/16
END:VEVENT
BEGIN:VEVENT
DTSTAMP:20260425T141250Z
DTSTART;TZID=Europe/Berlin:20160308T193000
DTEND;TZID=Europe/Berlin:20160308T223000
SUMMARY:2. Kreisklasse SG Westend Neumünster III vs TSV Gadeland Neumünster II (387)
UID:83382eda-9768-598e-e053-1fc7a80a5d7a
STATUS:CONFIRMED
LAST-MODIFIED:20190303T213458Z
DESCRIPTION:Herren - 2. Kreisklasse - Neumünster\nBegegnungs-Nr: 387\nHeim: SG Westend Neumünster III\nGast: TSV Gadeland Neumünster II\n
LOCATION:
CATEGORIES:Saison 2015/16
END:VEVENT
END:VCALENDAR
