BEGIN:VCALENDAR
PRODID:-//nuDatenautomaten//framework iCal4j //DE
VERSION:2.0
CALSCALE:GREGORIAN
BEGIN:VTIMEZONE
TZID:Europe/Berlin
LAST-MODIFIED:20260306T231828Z
TZURL:https://www.tzurl.org/zoneinfo/Europe/Berlin
X-LIC-LOCATION:Europe/Berlin
X-PROLEPTIC-TZNAME:LMT
BEGIN:STANDARD
TZNAME:CET
TZOFFSETFROM:+005328
TZOFFSETTO:+0100
DTSTART:18930401T000000
END:STANDARD
BEGIN:DAYLIGHT
TZNAME:CEST
TZOFFSETFROM:+0100
TZOFFSETTO:+0200
DTSTART:19160430T230000
RDATE:19400401T020000
RDATE:19430329T020000
RDATE:19460414T020000
RDATE:19470406T030000
RDATE:19480418T020000
RDATE:19490410T020000
RDATE:19800406T020000
END:DAYLIGHT
BEGIN:STANDARD
TZNAME:CET
TZOFFSETFROM:+0200
TZOFFSETTO:+0100
DTSTART:19161001T010000
RDATE:19421102T030000
RDATE:19431004T030000
RDATE:19441002T030000
RDATE:19451118T030000
RDATE:19461007T030000
END:STANDARD
BEGIN:DAYLIGHT
TZNAME:CEST
TZOFFSETFROM:+0100
TZOFFSETTO:+0200
DTSTART:19170416T020000
RRULE:FREQ=YEARLY;UNTIL=19180415T010000Z;BYMONTH=4;BYDAY=3MO
END:DAYLIGHT
BEGIN:STANDARD
TZNAME:CET
TZOFFSETFROM:+0200
TZOFFSETTO:+0100
DTSTART:19170917T030000
RRULE:FREQ=YEARLY;UNTIL=19180916T010000Z;BYMONTH=9;BYDAY=3MO
END:STANDARD
BEGIN:DAYLIGHT
TZNAME:CEST
TZOFFSETFROM:+0100
TZOFFSETTO:+0200
DTSTART:19440403T020000
RRULE:FREQ=YEARLY;UNTIL=19450402T010000Z;BYMONTH=4;BYDAY=1MO
END:DAYLIGHT
BEGIN:DAYLIGHT
TZNAME:CEMT
TZOFFSETFROM:+0200
TZOFFSETTO:+0300
DTSTART:19450524T020000
RDATE:19470511T030000
END:DAYLIGHT
BEGIN:DAYLIGHT
TZNAME:CEST
TZOFFSETFROM:+0300
TZOFFSETTO:+0200
DTSTART:19450924T030000
RDATE:19470629T030000
END:DAYLIGHT
BEGIN:STANDARD
TZNAME:CET
TZOFFSETFROM:+0100
TZOFFSETTO:+0100
DTSTART:19460101T000000
RDATE:19800101T000000
END:STANDARD
BEGIN:STANDARD
TZNAME:CET
TZOFFSETFROM:+0200
TZOFFSETTO:+0100
DTSTART:19471005T030000
RRULE:FREQ=YEARLY;UNTIL=19491002T010000Z;BYMONTH=10;BYDAY=1SU
END:STANDARD
BEGIN:STANDARD
TZNAME:CET
TZOFFSETFROM:+0200
TZOFFSETTO:+0100
DTSTART:19800928T030000
RRULE:FREQ=YEARLY;UNTIL=19950924T010000Z;BYMONTH=9;BYDAY=-1SU
END:STANDARD
BEGIN:DAYLIGHT
TZNAME:CEST
TZOFFSETFROM:+0100
TZOFFSETTO:+0200
DTSTART:19810329T020000
RRULE:FREQ=YEARLY;BYMONTH=3;BYDAY=-1SU
END:DAYLIGHT
BEGIN:STANDARD
TZNAME:CET
TZOFFSETFROM:+0200
TZOFFSETTO:+0100
DTSTART:19961027T030000
RRULE:FREQ=YEARLY;BYMONTH=10;BYDAY=-1SU
END:STANDARD
END:VTIMEZONE
BEGIN:VEVENT
DTSTAMP:20260423T223709Z
DTSTART;TZID=Europe/Berlin:20160219T201500
DTEND;TZID=Europe/Berlin:20160219T231500
SUMMARY:4. Kreisklasse Preetzer TSV VIII vs TuS Hohwacht II (20)
UID:83382edb-cc4a-598e-e053-1fc7a80a5d7a
STATUS:CONFIRMED
LAST-MODIFIED:20190303T213603Z
DESCRIPTION:Herren - 4. Kreisklasse - Plön\nBegegnungs-Nr: 20\nHeim: Preetzer TSV VIII\nGast: TuS Hohwacht II\n
LOCATION:
CATEGORIES:Saison 2015/16
END:VEVENT
BEGIN:VEVENT
DTSTAMP:20260423T223709Z
DTSTART;TZID=Europe/Berlin:20160304T201500
DTEND;TZID=Europe/Berlin:20160304T231500
SUMMARY:4. Kreisklasse Preetzer TSV VIII vs SSV Marina Wendtorf III (30)
UID:83382edb-cd25-598e-e053-1fc7a80a5d7a
STATUS:CONFIRMED
LAST-MODIFIED:20190303T213603Z
DESCRIPTION:Herren - 4. Kreisklasse - Plön\nBegegnungs-Nr: 30\nHeim: Preetzer TSV VIII\nGast: SSV Marina Wendtorf III\n
LOCATION:
CATEGORIES:Saison 2015/16
END:VEVENT
BEGIN:VEVENT
DTSTAMP:20260423T223709Z
DTSTART;TZID=Europe/Berlin:20160311T201500
DTEND;TZID=Europe/Berlin:20160311T231500
SUMMARY:4. Kreisklasse Preetzer TSV VIII vs Raisdorfer TSV VI (40)
UID:83382edb-ce01-598e-e053-1fc7a80a5d7a
STATUS:CONFIRMED
LAST-MODIFIED:20190303T213603Z
DESCRIPTION:Herren - 4. Kreisklasse - Plön\nBegegnungs-Nr: 40\nHeim: Preetzer TSV VIII\nGast: Raisdorfer TSV VI\n
LOCATION:
CATEGORIES:Saison 2015/16
END:VEVENT
BEGIN:VEVENT
DTSTAMP:20260423T223709Z
DTSTART;TZID=Europe/Berlin:20160115T201500
DTEND;TZID=Europe/Berlin:20160115T231500
SUMMARY:4. Kreisklasse Preetzer TSV VIII vs SV Fortuna Bösdorf II (5)
UID:83382edb-ce70-598e-e053-1fc7a80a5d7a
STATUS:CONFIRMED
LAST-MODIFIED:20190303T213603Z
DESCRIPTION:Herren - 4. Kreisklasse - Plön\nBegegnungs-Nr: 5\nHeim: Preetzer TSV VIII\nGast: SV Fortuna Bösdorf II\n
LOCATION:
CATEGORIES:Saison 2015/16
END:VEVENT
BEGIN:VEVENT
DTSTAMP:20260423T223709Z
DTSTART;TZID=Europe/Berlin:20150925T201500
DTEND;TZID=Europe/Berlin:20150925T231500
SUMMARY:4. Kreisklasse Preetzer TSV VIII vs Preetzer TSV IX (10)
UID:83382edb-c822-598e-e053-1fc7a80a5d7a
STATUS:CONFIRMED
LAST-MODIFIED:20190303T213602Z
DESCRIPTION:Herren - 4. Kreisklasse - Plön\nBegegnungs-Nr: 10\nHeim: Preetzer TSV VIII\nGast: Preetzer TSV IX\n
LOCATION:
CATEGORIES:Saison 2015/16
END:VEVENT
BEGIN:VEVENT
DTSTAMP:20260423T223709Z
DTSTART;TZID=Europe/Berlin:20151009T201500
DTEND;TZID=Europe/Berlin:20151009T231500
SUMMARY:4. Kreisklasse Preetzer TSV VIII vs TSV Lepahn II (15)
UID:83382edb-c87f-598e-e053-1fc7a80a5d7a
STATUS:CONFIRMED
LAST-MODIFIED:20190303T213602Z
DESCRIPTION:Herren - 4. Kreisklasse - Plön\nBegegnungs-Nr: 15\nHeim: Preetzer TSV VIII\nGast: TSV Lepahn II\n
LOCATION:
CATEGORIES:Saison 2015/16
END:VEVENT
BEGIN:VEVENT
DTSTAMP:20260423T223709Z
DTSTART;TZID=Europe/Berlin:20151218T201500
DTEND;TZID=Europe/Berlin:20151218T231500
SUMMARY:4. Kreisklasse Preetzer TSV VIII vs TSV Schönberg IV (25)
UID:83382edb-c94d-598e-e053-1fc7a80a5d7a
STATUS:CONFIRMED
LAST-MODIFIED:20190303T213602Z
DESCRIPTION:Herren - 4. Kreisklasse - Plön\nBegegnungs-Nr: 25\nHeim: Preetzer TSV VIII\nGast: TSV Schönberg IV\n
LOCATION:
CATEGORIES:Saison 2015/16
END:VEVENT
BEGIN:VEVENT
DTSTAMP:20260423T223709Z
DTSTART;TZID=Europe/Berlin:20151120T201500
DTEND;TZID=Europe/Berlin:20151120T231500
SUMMARY:4. Kreisklasse Preetzer TSV VIII vs SG Hohenfelde II (35)
UID:83382edb-ca20-598e-e053-1fc7a80a5d7a
STATUS:CONFIRMED
LAST-MODIFIED:20190303T213603Z
DESCRIPTION:Herren - 4. Kreisklasse - Plön\nBegegnungs-Nr: 35\nHeim: Preetzer TSV VIII\nGast: SG Hohenfelde II\n
LOCATION:
CATEGORIES:Saison 2015/16
END:VEVENT
BEGIN:VEVENT
DTSTAMP:20260423T223709Z
DTSTART;TZID=Europe/Berlin:20151204T201500
DTEND;TZID=Europe/Berlin:20151204T231500
SUMMARY:4. Kreisklasse Preetzer TSV VIII vs TSV Wankendorf II (45)
UID:83382edb-caf0-598e-e053-1fc7a80a5d7a
STATUS:CONFIRMED
LAST-MODIFIED:20190303T213603Z
DESCRIPTION:Herren - 4. Kreisklasse - Plön\nBegegnungs-Nr: 45\nHeim: Preetzer TSV VIII\nGast: TSV Wankendorf II\n
LOCATION:
CATEGORIES:Saison 2015/16
END:VEVENT
BEGIN:VEVENT
DTSTAMP:20260423T223709Z
DTSTART;TZID=Europe/Berlin:20160321T200000
DTEND;TZID=Europe/Berlin:20160321T230000
SUMMARY:4. Kreisklasse TSV Schönberg IV vs Preetzer TSV VIII (22)
UID:83382edb-cc73-598e-e053-1fc7a80a5d7a
STATUS:CONFIRMED
LAST-MODIFIED:20190303T213603Z
DESCRIPTION:Herren - 4. Kreisklasse - Plön\nBegegnungs-Nr: 22\nHeim: TSV Schönberg IV\nGast: Preetzer TSV VIII\n
LOCATION:
CATEGORIES:Saison 2015/16
END:VEVENT
BEGIN:VEVENT
DTSTAMP:20260423T223709Z
DTSTART;TZID=Europe/Berlin:20160229T194500
DTEND;TZID=Europe/Berlin:20160229T224500
SUMMARY:4. Kreisklasse SG Hohenfelde II vs Preetzer TSV VIII (31)
UID:83382edb-cd37-598e-e053-1fc7a80a5d7a
STATUS:CONFIRMED
LAST-MODIFIED:20190303T213603Z
DESCRIPTION:Herren - 4. Kreisklasse - Plön\nBegegnungs-Nr: 31\nHeim: SG Hohenfelde II\nGast: Preetzer TSV VIII\n
LOCATION:
CATEGORIES:Saison 2015/16
END:VEVENT
BEGIN:VEVENT
DTSTAMP:20260423T223709Z
DTSTART;TZID=Europe/Berlin:20160314T200000
DTEND;TZID=Europe/Berlin:20160314T230000
SUMMARY:4. Kreisklasse TSV Wankendorf II vs Preetzer TSV VIII (42)
UID:83382edb-ce28-598e-e053-1fc7a80a5d7a
STATUS:CONFIRMED
LAST-MODIFIED:20190303T213603Z
DESCRIPTION:Herren - 4. Kreisklasse - Plön\nBegegnungs-Nr: 42\nHeim: TSV Wankendorf II\nGast: Preetzer TSV VIII\n
LOCATION:
CATEGORIES:Saison 2015/16
END:VEVENT
BEGIN:VEVENT
DTSTAMP:20260423T223709Z
DTSTART;TZID=Europe/Berlin:20160118T201500
DTEND;TZID=Europe/Berlin:20160118T231500
SUMMARY:4. Kreisklasse Preetzer TSV IX vs Preetzer TSV VIII (8)
UID:83382edb-cea9-598e-e053-1fc7a80a5d7a
STATUS:CONFIRMED
LAST-MODIFIED:20190303T213604Z
DESCRIPTION:Herren - 4. Kreisklasse - Plön\nBegegnungs-Nr: 8\nHeim: Preetzer TSV IX\nGast: Preetzer TSV VIII\n
LOCATION:
CATEGORIES:Saison 2015/16
END:VEVENT
BEGIN:VEVENT
DTSTAMP:20260423T223709Z
DTSTART;TZID=Europe/Berlin:20151013T200000
DTEND;TZID=Europe/Berlin:20151013T230000
SUMMARY:4. Kreisklasse TuS Hohwacht II vs Preetzer TSV VIII (20)
UID:83382edb-c8ef-598e-e053-1fc7a80a5d7a
STATUS:CONFIRMED
LAST-MODIFIED:20190303T213602Z
DESCRIPTION:Herren - 4. Kreisklasse - Plön\nBegegnungs-Nr: 20\nHeim: TuS Hohwacht II\nGast: Preetzer TSV VIII\n
LOCATION:
CATEGORIES:Saison 2015/16
END:VEVENT
BEGIN:VEVENT
DTSTAMP:20260423T223709Z
DTSTART;TZID=Europe/Berlin:20151207T201500
DTEND;TZID=Europe/Berlin:20151207T231500
SUMMARY:4. Kreisklasse SSV Marina Wendtorf III vs Preetzer TSV VIII (28)
UID:83382edb-c989-598e-e053-1fc7a80a5d7a
STATUS:CONFIRMED
LAST-MODIFIED:20190303T213602Z
DESCRIPTION:Herren - 4. Kreisklasse - Plön\nBegegnungs-Nr: 28\nHeim: SSV Marina Wendtorf III\nGast: Preetzer TSV VIII\n
LOCATION:
CATEGORIES:Saison 2015/16
END:VEVENT
BEGIN:VEVENT
DTSTAMP:20260423T223709Z
DTSTART;TZID=Europe/Berlin:20151130T200000
DTEND;TZID=Europe/Berlin:20151130T230000
SUMMARY:4. Kreisklasse Raisdorfer TSV VI vs Preetzer TSV VIII (37)
UID:83382edb-ca48-598e-e053-1fc7a80a5d7a
STATUS:CONFIRMED
LAST-MODIFIED:20190303T213603Z
DESCRIPTION:Herren - 4. Kreisklasse - Plön\nBegegnungs-Nr: 37\nHeim: Raisdorfer TSV VI\nGast: Preetzer TSV VIII\n
LOCATION:
CATEGORIES:Saison 2015/16
END:VEVENT
BEGIN:VEVENT
DTSTAMP:20260423T223709Z
DTSTART;TZID=Europe/Berlin:20150915T200000
DTEND;TZID=Europe/Berlin:20150915T230000
SUMMARY:4. Kreisklasse SV Fortuna Bösdorf II vs Preetzer TSV VIII (5)
UID:83382edb-cb05-598e-e053-1fc7a80a5d7a
STATUS:CONFIRMED
LAST-MODIFIED:20190303T213603Z
DESCRIPTION:Herren - 4. Kreisklasse - Plön\nBegegnungs-Nr: 5\nHeim: SV Fortuna Bösdorf II\nGast: Preetzer TSV VIII\n
LOCATION:
CATEGORIES:Saison 2015/16
END:VEVENT
BEGIN:VEVENT
DTSTAMP:20260423T223709Z
DTSTART;TZID=Europe/Berlin:20160211T200000
DTEND;TZID=Europe/Berlin:20160211T230000
SUMMARY:4. Kreisklasse TSV Lepahn II vs Preetzer TSV VIII (15)
UID:83382edb-cbd6-598e-e053-1fc7a80a5d7a
STATUS:CONFIRMED
LAST-MODIFIED:20190303T213603Z
DESCRIPTION:Herren - 4. Kreisklasse - Plön\nBegegnungs-Nr: 15\nHeim: TSV Lepahn II\nGast: Preetzer TSV VIII\n
LOCATION:
CATEGORIES:Saison 2015/16
END:VEVENT
END:VCALENDAR
