BEGIN:VCALENDAR
PRODID:-//nuDatenautomaten//framework iCal4j //DE
VERSION:2.0
CALSCALE:GREGORIAN
BEGIN:VTIMEZONE
TZID:Europe/Berlin
LAST-MODIFIED:20260306T231828Z
TZURL:https://www.tzurl.org/zoneinfo/Europe/Berlin
X-LIC-LOCATION:Europe/Berlin
X-PROLEPTIC-TZNAME:LMT
BEGIN:STANDARD
TZNAME:CET
TZOFFSETFROM:+005328
TZOFFSETTO:+0100
DTSTART:18930401T000000
END:STANDARD
BEGIN:DAYLIGHT
TZNAME:CEST
TZOFFSETFROM:+0100
TZOFFSETTO:+0200
DTSTART:19160430T230000
RDATE:19400401T020000
RDATE:19430329T020000
RDATE:19460414T020000
RDATE:19470406T030000
RDATE:19480418T020000
RDATE:19490410T020000
RDATE:19800406T020000
END:DAYLIGHT
BEGIN:STANDARD
TZNAME:CET
TZOFFSETFROM:+0200
TZOFFSETTO:+0100
DTSTART:19161001T010000
RDATE:19421102T030000
RDATE:19431004T030000
RDATE:19441002T030000
RDATE:19451118T030000
RDATE:19461007T030000
END:STANDARD
BEGIN:DAYLIGHT
TZNAME:CEST
TZOFFSETFROM:+0100
TZOFFSETTO:+0200
DTSTART:19170416T020000
RRULE:FREQ=YEARLY;UNTIL=19180415T010000Z;BYMONTH=4;BYDAY=3MO
END:DAYLIGHT
BEGIN:STANDARD
TZNAME:CET
TZOFFSETFROM:+0200
TZOFFSETTO:+0100
DTSTART:19170917T030000
RRULE:FREQ=YEARLY;UNTIL=19180916T010000Z;BYMONTH=9;BYDAY=3MO
END:STANDARD
BEGIN:DAYLIGHT
TZNAME:CEST
TZOFFSETFROM:+0100
TZOFFSETTO:+0200
DTSTART:19440403T020000
RRULE:FREQ=YEARLY;UNTIL=19450402T010000Z;BYMONTH=4;BYDAY=1MO
END:DAYLIGHT
BEGIN:DAYLIGHT
TZNAME:CEMT
TZOFFSETFROM:+0200
TZOFFSETTO:+0300
DTSTART:19450524T020000
RDATE:19470511T030000
END:DAYLIGHT
BEGIN:DAYLIGHT
TZNAME:CEST
TZOFFSETFROM:+0300
TZOFFSETTO:+0200
DTSTART:19450924T030000
RDATE:19470629T030000
END:DAYLIGHT
BEGIN:STANDARD
TZNAME:CET
TZOFFSETFROM:+0100
TZOFFSETTO:+0100
DTSTART:19460101T000000
RDATE:19800101T000000
END:STANDARD
BEGIN:STANDARD
TZNAME:CET
TZOFFSETFROM:+0200
TZOFFSETTO:+0100
DTSTART:19471005T030000
RRULE:FREQ=YEARLY;UNTIL=19491002T010000Z;BYMONTH=10;BYDAY=1SU
END:STANDARD
BEGIN:STANDARD
TZNAME:CET
TZOFFSETFROM:+0200
TZOFFSETTO:+0100
DTSTART:19800928T030000
RRULE:FREQ=YEARLY;UNTIL=19950924T010000Z;BYMONTH=9;BYDAY=-1SU
END:STANDARD
BEGIN:DAYLIGHT
TZNAME:CEST
TZOFFSETFROM:+0100
TZOFFSETTO:+0200
DTSTART:19810329T020000
RRULE:FREQ=YEARLY;BYMONTH=3;BYDAY=-1SU
END:DAYLIGHT
BEGIN:STANDARD
TZNAME:CET
TZOFFSETFROM:+0200
TZOFFSETTO:+0100
DTSTART:19961027T030000
RRULE:FREQ=YEARLY;BYMONTH=10;BYDAY=-1SU
END:STANDARD
END:VTIMEZONE
BEGIN:VEVENT
DTSTAMP:20260423T190611Z
DTSTART;TZID=Europe/Berlin:20160129T201500
DTEND;TZID=Europe/Berlin:20160129T231500
SUMMARY:4. Kreisklasse B TuS Appen V vs TV Haseldorf II (105)
UID:83382edb-9943-598e-e053-1fc7a80a5d7a
STATUS:CONFIRMED
LAST-MODIFIED:20190303T213552Z
DESCRIPTION:Herren - 4. Kreisklasse  B\nBegegnungs-Nr: 105\nHeim: TuS Appen V\nGast: TV Haseldorf II\n
LOCATION:
CATEGORIES:Saison 2015/16
END:VEVENT
BEGIN:VEVENT
DTSTAMP:20260423T190611Z
DTSTART;TZID=Europe/Berlin:20160219T201500
DTEND;TZID=Europe/Berlin:20160219T231500
SUMMARY:4. Kreisklasse B TuS Appen V vs WSG BorKum IV (124)
UID:83382edb-9ab8-598e-e053-1fc7a80a5d7a
STATUS:CONFIRMED
LAST-MODIFIED:20190303T213553Z
DESCRIPTION:Herren - 4. Kreisklasse  B\nBegegnungs-Nr: 124\nHeim: TuS Appen V\nGast: WSG BorKum IV\n
LOCATION:
CATEGORIES:Saison 2015/16
END:VEVENT
BEGIN:VEVENT
DTSTAMP:20260423T190611Z
DTSTART;TZID=Europe/Berlin:20160226T201500
DTEND;TZID=Europe/Berlin:20160226T231500
SUMMARY:4. Kreisklasse B TuS Appen V vs SuS Waldenau III (129)
UID:83382edb-9b14-598e-e053-1fc7a80a5d7a
STATUS:CONFIRMED
LAST-MODIFIED:20190303T213553Z
DESCRIPTION:Herren - 4. Kreisklasse  B\nBegegnungs-Nr: 129\nHeim: TuS Appen V\nGast: SuS Waldenau III\n
LOCATION:
CATEGORIES:Saison 2015/16
END:VEVENT
BEGIN:VEVENT
DTSTAMP:20260423T190611Z
DTSTART;TZID=Europe/Berlin:20160311T201500
DTEND;TZID=Europe/Berlin:20160311T231500
SUMMARY:4. Kreisklasse B TuS Appen V vs Post SV Elmshorn  (140)
UID:83382edb-9bef-598e-e053-1fc7a80a5d7a
STATUS:CONFIRMED
LAST-MODIFIED:20190303T213553Z
DESCRIPTION:Herren - 4. Kreisklasse  B\nBegegnungs-Nr: 140\nHeim: TuS Appen V\nGast: Post SV Elmshorn \n
LOCATION:
CATEGORIES:Saison 2015/16
END:VEVENT
BEGIN:VEVENT
DTSTAMP:20260423T190611Z
DTSTART;TZID=Europe/Berlin:20160429T201500
DTEND;TZID=Europe/Berlin:20160429T231500
SUMMARY:4. Kreisklasse B TuS Appen V vs TSV Ellerbek IX (165)
UID:83382edb-9db3-598e-e053-1fc7a80a5d7a
STATUS:CONFIRMED
LAST-MODIFIED:20190303T213553Z
DESCRIPTION:Herren - 4. Kreisklasse  B\nBegegnungs-Nr: 165\nHeim: TuS Appen V\nGast: TSV Ellerbek IX\n
LOCATION:
CATEGORIES:Saison 2015/16
END:VEVENT
BEGIN:VEVENT
DTSTAMP:20260423T190611Z
DTSTART;TZID=Europe/Berlin:20151127T201500
DTEND;TZID=Europe/Berlin:20151127T231500
SUMMARY:4. Kreisklasse B TuS Appen V vs SG Kölln-Reisiek IV (11)
UID:83382edb-93d7-598e-e053-1fc7a80a5d7a
STATUS:CONFIRMED
LAST-MODIFIED:20190303T213551Z
DESCRIPTION:Herren - 4. Kreisklasse  B\nBegegnungs-Nr: 11\nHeim: TuS Appen V\nGast: SG Kölln-Reisiek IV\n
LOCATION:
CATEGORIES:Saison 2015/16
END:VEVENT
BEGIN:VEVENT
DTSTAMP:20260423T190611Z
DTSTART;TZID=Europe/Berlin:20151002T201500
DTEND;TZID=Europe/Berlin:20151002T231500
SUMMARY:4. Kreisklasse B TuS Appen V vs TuS Hemdingen-Bilsen III (18)
UID:83382edb-9467-598e-e053-1fc7a80a5d7a
STATUS:CONFIRMED
LAST-MODIFIED:20190303T213551Z
DESCRIPTION:Herren - 4. Kreisklasse  B\nBegegnungs-Nr: 18\nHeim: TuS Appen V\nGast: TuS Hemdingen-Bilsen III\n
LOCATION:
CATEGORIES:Saison 2015/16
END:VEVENT
BEGIN:VEVENT
DTSTAMP:20260423T190611Z
DTSTART;TZID=Europe/Berlin:20151201T201500
DTEND;TZID=Europe/Berlin:20151201T231500
SUMMARY:4. Kreisklasse B TuS Appen V vs TSV Uetersen VIII (35)
UID:83382edb-95e9-598e-e053-1fc7a80a5d7a
STATUS:CONFIRMED
LAST-MODIFIED:20190303T213552Z
DESCRIPTION:Herren - 4. Kreisklasse  B\nBegegnungs-Nr: 35\nHeim: TuS Appen V\nGast: TSV Uetersen VIII\n
LOCATION:
CATEGORIES:Saison 2015/16
END:VEVENT
BEGIN:VEVENT
DTSTAMP:20260423T190611Z
DTSTART;TZID=Europe/Berlin:20151120T201500
DTEND;TZID=Europe/Berlin:20151120T231500
SUMMARY:4. Kreisklasse B TuS Appen V vs Moorreger SV VII (46)
UID:83382edb-96e3-598e-e053-1fc7a80a5d7a
STATUS:CONFIRMED
LAST-MODIFIED:20190303T213552Z
DESCRIPTION:Herren - 4. Kreisklasse  B\nBegegnungs-Nr: 46\nHeim: TuS Appen V\nGast: Moorreger SV VII\n
LOCATION:
CATEGORIES:Saison 2015/16
END:VEVENT
BEGIN:VEVENT
DTSTAMP:20260423T190611Z
DTSTART;TZID=Europe/Berlin:20151204T201500
DTEND;TZID=Europe/Berlin:20151204T231500
SUMMARY:4. Kreisklasse B TuS Appen V vs SC Pinneberg IV (60)
UID:83382edb-982b-598e-e053-1fc7a80a5d7a
STATUS:CONFIRMED
LAST-MODIFIED:20190303T213552Z
DESCRIPTION:Herren - 4. Kreisklasse  B\nBegegnungs-Nr: 60\nHeim: TuS Appen V\nGast: SC Pinneberg IV\n
LOCATION:
CATEGORIES:Saison 2015/16
END:VEVENT
BEGIN:VEVENT
DTSTAMP:20260423T190611Z
DTSTART;TZID=Europe/Berlin:20160203T201500
DTEND;TZID=Europe/Berlin:20160203T231500
SUMMARY:4. Kreisklasse B SG Kölln-Reisiek IV vs TuS Appen V (110)
UID:83382edb-99a2-598e-e053-1fc7a80a5d7a
STATUS:CONFIRMED
LAST-MODIFIED:20190303T213553Z
DESCRIPTION:Herren - 4. Kreisklasse  B\nBegegnungs-Nr: 110\nHeim: SG Kölln-Reisiek IV\nGast: TuS Appen V\n
LOCATION:
CATEGORIES:Saison 2015/16
END:VEVENT
BEGIN:VEVENT
DTSTAMP:20260423T190611Z
DTSTART;TZID=Europe/Berlin:20160215T201500
DTEND;TZID=Europe/Berlin:20160215T231500
SUMMARY:4. Kreisklasse B TuS Hemdingen-Bilsen III vs TuS Appen V (113)
UID:83382edb-99e2-598e-e053-1fc7a80a5d7a
STATUS:CONFIRMED
LAST-MODIFIED:20190303T213553Z
DESCRIPTION:Herren - 4. Kreisklasse  B\nBegegnungs-Nr: 113\nHeim: TuS Hemdingen-Bilsen III\nGast: TuS Appen V\n
LOCATION:
CATEGORIES:Saison 2015/16
END:VEVENT
BEGIN:VEVENT
DTSTAMP:20260423T190611Z
DTSTART;TZID=Europe/Berlin:20160303T201500
DTEND;TZID=Europe/Berlin:20160303T231500
SUMMARY:4. Kreisklasse B TSV Uetersen VIII vs TuS Appen V (134)
UID:83382edb-9b73-598e-e053-1fc7a80a5d7a
STATUS:CONFIRMED
LAST-MODIFIED:20190303T213553Z
DESCRIPTION:Herren - 4. Kreisklasse  B\nBegegnungs-Nr: 134\nHeim: TSV Uetersen VIII\nGast: TuS Appen V\n
LOCATION:
CATEGORIES:Saison 2015/16
END:VEVENT
BEGIN:VEVENT
DTSTAMP:20260423T190611Z
DTSTART;TZID=Europe/Berlin:20160314T201500
DTEND;TZID=Europe/Berlin:20160314T231500
SUMMARY:4. Kreisklasse B Moorreger SV VII vs TuS Appen V (144)
UID:83382edb-9c3d-598e-e053-1fc7a80a5d7a
STATUS:CONFIRMED
LAST-MODIFIED:20190303T213553Z
DESCRIPTION:Herren - 4. Kreisklasse  B\nBegegnungs-Nr: 144\nHeim: Moorreger SV VII\nGast: TuS Appen V\n
LOCATION:
CATEGORIES:Saison 2015/16
END:VEVENT
BEGIN:VEVENT
DTSTAMP:20260423T190611Z
DTSTART;TZID=Europe/Berlin:20160422T200000
DTEND;TZID=Europe/Berlin:20160422T230000
SUMMARY:4. Kreisklasse B SC Pinneberg IV vs TuS Appen V (160)
UID:83382edb-9d66-598e-e053-1fc7a80a5d7a
STATUS:CONFIRMED
LAST-MODIFIED:20190303T213553Z
DESCRIPTION:Herren - 4. Kreisklasse  B\nBegegnungs-Nr: 160\nHeim: SC Pinneberg IV\nGast: TuS Appen V\n
LOCATION:
CATEGORIES:Saison 2015/16
END:VEVENT
BEGIN:VEVENT
DTSTAMP:20260423T190611Z
DTSTART;TZID=Europe/Berlin:20151009T201500
DTEND;TZID=Europe/Berlin:20151009T231500
SUMMARY:4. Kreisklasse B WSG BorKum IV vs TuS Appen V (24)
UID:83382edb-94f5-598e-e053-1fc7a80a5d7a
STATUS:CONFIRMED
LAST-MODIFIED:20190303T213552Z
DESCRIPTION:Herren - 4. Kreisklasse  B\nBegegnungs-Nr: 24\nHeim: WSG BorKum IV\nGast: TuS Appen V\n
LOCATION:
CATEGORIES:Saison 2015/16
END:VEVENT
BEGIN:VEVENT
DTSTAMP:20260423T190611Z
DTSTART;TZID=Europe/Berlin:20151016T201500
DTEND;TZID=Europe/Berlin:20151016T231500
SUMMARY:4. Kreisklasse B SuS Waldenau III vs TuS Appen V (30)
UID:83382edb-9587-598e-e053-1fc7a80a5d7a
STATUS:CONFIRMED
LAST-MODIFIED:20190303T213552Z
DESCRIPTION:Herren - 4. Kreisklasse  B\nBegegnungs-Nr: 30\nHeim: SuS Waldenau III\nGast: TuS Appen V\n
LOCATION:
CATEGORIES:Saison 2015/16
END:VEVENT
BEGIN:VEVENT
DTSTAMP:20260423T190611Z
DTSTART;TZID=Europe/Berlin:20151111T201500
DTEND;TZID=Europe/Berlin:20151111T231500
SUMMARY:4. Kreisklasse B Post SV Elmshorn  vs TuS Appen V (40)
UID:83382edb-9669-598e-e053-1fc7a80a5d7a
STATUS:CONFIRMED
LAST-MODIFIED:20190303T213552Z
DESCRIPTION:Herren - 4. Kreisklasse  B\nBegegnungs-Nr: 40\nHeim: Post SV Elmshorn \nGast: TuS Appen V\n
LOCATION:
CATEGORIES:Saison 2015/16
END:VEVENT
BEGIN:VEVENT
DTSTAMP:20260423T190611Z
DTSTART;TZID=Europe/Berlin:20151123T201500
DTEND;TZID=Europe/Berlin:20151123T231500
SUMMARY:4. Kreisklasse B Barmstedter MTV IV vs TuS Appen V (49)
UID:83382edb-9720-598e-e053-1fc7a80a5d7a
STATUS:CONFIRMED
LAST-MODIFIED:20190303T213552Z
DESCRIPTION:Herren - 4. Kreisklasse  B\nBegegnungs-Nr: 49\nHeim: Barmstedter MTV IV\nGast: TuS Appen V\n
LOCATION:
CATEGORIES:Saison 2015/16
END:VEVENT
BEGIN:VEVENT
DTSTAMP:20260423T190611Z
DTSTART;TZID=Europe/Berlin:20151113T200000
DTEND;TZID=Europe/Berlin:20151113T230000
SUMMARY:4. Kreisklasse B TV Haseldorf II vs TuS Appen V (5)
UID:83382edb-9734-598e-e053-1fc7a80a5d7a
STATUS:CONFIRMED
LAST-MODIFIED:20190303T213552Z
DESCRIPTION:Herren - 4. Kreisklasse  B\nBegegnungs-Nr: 5\nHeim: TV Haseldorf II\nGast: TuS Appen V\n
LOCATION:
CATEGORIES:Saison 2015/16
END:VEVENT
BEGIN:VEVENT
DTSTAMP:20260423T190611Z
DTSTART;TZID=Europe/Berlin:20151207T201500
DTEND;TZID=Europe/Berlin:20151207T231500
SUMMARY:4. Kreisklasse B TSV Ellerbek IX vs TuS Appen V (61)
UID:83382edb-9840-598e-e053-1fc7a80a5d7a
STATUS:CONFIRMED
LAST-MODIFIED:20190303T213552Z
DESCRIPTION:Herren - 4. Kreisklasse  B\nBegegnungs-Nr: 61\nHeim: TSV Ellerbek IX\nGast: TuS Appen V\n
LOCATION:
CATEGORIES:Saison 2015/16
END:VEVENT
END:VCALENDAR
