BEGIN:VCALENDAR
PRODID:-//nuDatenautomaten//framework iCal4j //DE
VERSION:2.0
CALSCALE:GREGORIAN
BEGIN:VTIMEZONE
TZID:Europe/Berlin
LAST-MODIFIED:20260306T231828Z
TZURL:https://www.tzurl.org/zoneinfo/Europe/Berlin
X-LIC-LOCATION:Europe/Berlin
X-PROLEPTIC-TZNAME:LMT
BEGIN:STANDARD
TZNAME:CET
TZOFFSETFROM:+005328
TZOFFSETTO:+0100
DTSTART:18930401T000000
END:STANDARD
BEGIN:DAYLIGHT
TZNAME:CEST
TZOFFSETFROM:+0100
TZOFFSETTO:+0200
DTSTART:19160430T230000
RDATE:19400401T020000
RDATE:19430329T020000
RDATE:19460414T020000
RDATE:19470406T030000
RDATE:19480418T020000
RDATE:19490410T020000
RDATE:19800406T020000
END:DAYLIGHT
BEGIN:STANDARD
TZNAME:CET
TZOFFSETFROM:+0200
TZOFFSETTO:+0100
DTSTART:19161001T010000
RDATE:19421102T030000
RDATE:19431004T030000
RDATE:19441002T030000
RDATE:19451118T030000
RDATE:19461007T030000
END:STANDARD
BEGIN:DAYLIGHT
TZNAME:CEST
TZOFFSETFROM:+0100
TZOFFSETTO:+0200
DTSTART:19170416T020000
RRULE:FREQ=YEARLY;UNTIL=19180415T010000Z;BYMONTH=4;BYDAY=3MO
END:DAYLIGHT
BEGIN:STANDARD
TZNAME:CET
TZOFFSETFROM:+0200
TZOFFSETTO:+0100
DTSTART:19170917T030000
RRULE:FREQ=YEARLY;UNTIL=19180916T010000Z;BYMONTH=9;BYDAY=3MO
END:STANDARD
BEGIN:DAYLIGHT
TZNAME:CEST
TZOFFSETFROM:+0100
TZOFFSETTO:+0200
DTSTART:19440403T020000
RRULE:FREQ=YEARLY;UNTIL=19450402T010000Z;BYMONTH=4;BYDAY=1MO
END:DAYLIGHT
BEGIN:DAYLIGHT
TZNAME:CEMT
TZOFFSETFROM:+0200
TZOFFSETTO:+0300
DTSTART:19450524T020000
RDATE:19470511T030000
END:DAYLIGHT
BEGIN:DAYLIGHT
TZNAME:CEST
TZOFFSETFROM:+0300
TZOFFSETTO:+0200
DTSTART:19450924T030000
RDATE:19470629T030000
END:DAYLIGHT
BEGIN:STANDARD
TZNAME:CET
TZOFFSETFROM:+0100
TZOFFSETTO:+0100
DTSTART:19460101T000000
RDATE:19800101T000000
END:STANDARD
BEGIN:STANDARD
TZNAME:CET
TZOFFSETFROM:+0200
TZOFFSETTO:+0100
DTSTART:19471005T030000
RRULE:FREQ=YEARLY;UNTIL=19491002T010000Z;BYMONTH=10;BYDAY=1SU
END:STANDARD
BEGIN:STANDARD
TZNAME:CET
TZOFFSETFROM:+0200
TZOFFSETTO:+0100
DTSTART:19800928T030000
RRULE:FREQ=YEARLY;UNTIL=19950924T010000Z;BYMONTH=9;BYDAY=-1SU
END:STANDARD
BEGIN:DAYLIGHT
TZNAME:CEST
TZOFFSETFROM:+0100
TZOFFSETTO:+0200
DTSTART:19810329T020000
RRULE:FREQ=YEARLY;BYMONTH=3;BYDAY=-1SU
END:DAYLIGHT
BEGIN:STANDARD
TZNAME:CET
TZOFFSETFROM:+0200
TZOFFSETTO:+0100
DTSTART:19961027T030000
RRULE:FREQ=YEARLY;BYMONTH=10;BYDAY=-1SU
END:STANDARD
END:VTIMEZONE
BEGIN:VEVENT
DTSTAMP:20260423T142655Z
DTSTART;TZID=Europe/Berlin:20160129T201500
DTEND;TZID=Europe/Berlin:20160129T231500
SUMMARY:4. Kreisklasse B SuS Waldenau III vs SG Kölln-Reisiek IV (104)
UID:83382edb-9930-598e-e053-1fc7a80a5d7a
STATUS:CONFIRMED
LAST-MODIFIED:20190303T213552Z
DESCRIPTION:Herren - 4. Kreisklasse  B\nBegegnungs-Nr: 104\nHeim: SuS Waldenau III\nGast: SG Kölln-Reisiek IV\n
LOCATION:
CATEGORIES:Saison 2015/16
END:VEVENT
BEGIN:VEVENT
DTSTAMP:20260423T142655Z
DTSTART;TZID=Europe/Berlin:20160219T201500
DTEND;TZID=Europe/Berlin:20160219T231500
SUMMARY:4. Kreisklasse B SuS Waldenau III vs TuS Hemdingen-Bilsen III (123)
UID:83382edb-9aa7-598e-e053-1fc7a80a5d7a
STATUS:CONFIRMED
LAST-MODIFIED:20190303T213553Z
DESCRIPTION:Herren - 4. Kreisklasse  B\nBegegnungs-Nr: 123\nHeim: SuS Waldenau III\nGast: TuS Hemdingen-Bilsen III\n
LOCATION:
CATEGORIES:Saison 2015/16
END:VEVENT
BEGIN:VEVENT
DTSTAMP:20260423T142655Z
DTSTART;TZID=Europe/Berlin:20160304T201500
DTEND;TZID=Europe/Berlin:20160304T231500
SUMMARY:4. Kreisklasse B SuS Waldenau III vs WSG BorKum IV (136)
UID:83382edb-9ba0-598e-e053-1fc7a80a5d7a
STATUS:CONFIRMED
LAST-MODIFIED:20190303T213553Z
DESCRIPTION:Herren - 4. Kreisklasse  B\nBegegnungs-Nr: 136\nHeim: SuS Waldenau III\nGast: WSG BorKum IV\n
LOCATION:
CATEGORIES:Saison 2015/16
END:VEVENT
BEGIN:VEVENT
DTSTAMP:20260423T142655Z
DTSTART;TZID=Europe/Berlin:20160322T201500
DTEND;TZID=Europe/Berlin:20160322T231500
SUMMARY:4. Kreisklasse B SuS Waldenau III vs TSV Uetersen VIII (141)
UID:83382edb-9c01-598e-e053-1fc7a80a5d7a
STATUS:CONFIRMED
LAST-MODIFIED:20190303T213553Z
DESCRIPTION:Herren - 4. Kreisklasse  B\nBegegnungs-Nr: 141\nHeim: SuS Waldenau III\nGast: TSV Uetersen VIII\n
LOCATION:
CATEGORIES:Saison 2015/16
END:VEVENT
BEGIN:VEVENT
DTSTAMP:20260423T142655Z
DTSTART;TZID=Europe/Berlin:20160415T201500
DTEND;TZID=Europe/Berlin:20160415T231500
SUMMARY:4. Kreisklasse B SuS Waldenau III vs Moorreger SV VII (154)
UID:83382edb-9cfc-598e-e053-1fc7a80a5d7a
STATUS:CONFIRMED
LAST-MODIFIED:20190303T213553Z
DESCRIPTION:Herren - 4. Kreisklasse  B\nBegegnungs-Nr: 154\nHeim: SuS Waldenau III\nGast: Moorreger SV VII\n
LOCATION:
CATEGORIES:Saison 2015/16
END:VEVENT
BEGIN:VEVENT
DTSTAMP:20260423T142655Z
DTSTART;TZID=Europe/Berlin:20160429T201500
DTEND;TZID=Europe/Berlin:20160429T231500
SUMMARY:4. Kreisklasse B SuS Waldenau III vs SC Pinneberg IV (164)
UID:83382edb-9d9d-598e-e053-1fc7a80a5d7a
STATUS:CONFIRMED
LAST-MODIFIED:20190303T213553Z
DESCRIPTION:Herren - 4. Kreisklasse  B\nBegegnungs-Nr: 164\nHeim: SuS Waldenau III\nGast: SC Pinneberg IV\n
LOCATION:
CATEGORIES:Saison 2015/16
END:VEVENT
BEGIN:VEVENT
DTSTAMP:20260423T142655Z
DTSTART;TZID=Europe/Berlin:20150925T193000
DTEND;TZID=Europe/Berlin:20150925T223000
SUMMARY:4. Kreisklasse B SuS Waldenau III vs TSV Ellerbek IX (10)
UID:83382edb-93c5-598e-e053-1fc7a80a5d7a
STATUS:CONFIRMED
LAST-MODIFIED:20190303T213551Z
DESCRIPTION:Herren - 4. Kreisklasse  B\nBegegnungs-Nr: 10\nHeim: SuS Waldenau III\nGast: TSV Ellerbek IX\n
LOCATION:
CATEGORIES:Saison 2015/16
END:VEVENT
BEGIN:VEVENT
DTSTAMP:20260423T142655Z
DTSTART;TZID=Europe/Berlin:20151002T201500
DTEND;TZID=Europe/Berlin:20151002T231500
SUMMARY:4. Kreisklasse B SuS Waldenau III vs TV Haseldorf II (17)
UID:83382edb-9452-598e-e053-1fc7a80a5d7a
STATUS:CONFIRMED
LAST-MODIFIED:20190303T213551Z
DESCRIPTION:Herren - 4. Kreisklasse  B\nBegegnungs-Nr: 17\nHeim: SuS Waldenau III\nGast: TV Haseldorf II\n
LOCATION:
CATEGORIES:Saison 2015/16
END:VEVENT
BEGIN:VEVENT
DTSTAMP:20260423T142655Z
DTSTART;TZID=Europe/Berlin:20151016T201500
DTEND;TZID=Europe/Berlin:20151016T231500
SUMMARY:4. Kreisklasse B SuS Waldenau III vs TuS Appen V (30)
UID:83382edb-9587-598e-e053-1fc7a80a5d7a
STATUS:CONFIRMED
LAST-MODIFIED:20190303T213552Z
DESCRIPTION:Herren - 4. Kreisklasse  B\nBegegnungs-Nr: 30\nHeim: SuS Waldenau III\nGast: TuS Appen V\n
LOCATION:
CATEGORIES:Saison 2015/16
END:VEVENT
BEGIN:VEVENT
DTSTAMP:20260423T142655Z
DTSTART;TZID=Europe/Berlin:20151120T201500
DTEND;TZID=Europe/Berlin:20151120T231500
SUMMARY:4. Kreisklasse B SuS Waldenau III vs Post SV Elmshorn  (47)
UID:83382edb-96f7-598e-e053-1fc7a80a5d7a
STATUS:CONFIRMED
LAST-MODIFIED:20190303T213552Z
DESCRIPTION:Herren - 4. Kreisklasse  B\nBegegnungs-Nr: 47\nHeim: SuS Waldenau III\nGast: Post SV Elmshorn \n
LOCATION:
CATEGORIES:Saison 2015/16
END:VEVENT
BEGIN:VEVENT
DTSTAMP:20260423T142655Z
DTSTART;TZID=Europe/Berlin:20151204T201500
DTEND;TZID=Europe/Berlin:20151204T231500
SUMMARY:4. Kreisklasse B SuS Waldenau III vs Barmstedter MTV IV (58)
UID:83382edb-97ed-598e-e053-1fc7a80a5d7a
STATUS:CONFIRMED
LAST-MODIFIED:20190303T213552Z
DESCRIPTION:Herren - 4. Kreisklasse  B\nBegegnungs-Nr: 58\nHeim: SuS Waldenau III\nGast: Barmstedter MTV IV\n
LOCATION:
CATEGORIES:Saison 2015/16
END:VEVENT
BEGIN:VEVENT
DTSTAMP:20260423T142655Z
DTSTART;TZID=Europe/Berlin:20151211T200000
DTEND;TZID=Europe/Berlin:20151211T230000
SUMMARY:4. Kreisklasse B SC Pinneberg IV vs SuS Waldenau III (66)
UID:83382edb-98af-598e-e053-1fc7a80a5d7a
STATUS:CONFIRMED
LAST-MODIFIED:20190303T213552Z
DESCRIPTION:Herren - 4. Kreisklasse  B\nBegegnungs-Nr: 66\nHeim: SC Pinneberg IV\nGast: SuS Waldenau III\n
LOCATION:
CATEGORIES:Saison 2015/16
END:VEVENT
BEGIN:VEVENT
DTSTAMP:20260423T142655Z
DTSTART;TZID=Europe/Berlin:20160201T201500
DTEND;TZID=Europe/Berlin:20160201T231500
SUMMARY:4. Kreisklasse B TSV Ellerbek IX vs SuS Waldenau III (109)
UID:83382edb-9991-598e-e053-1fc7a80a5d7a
STATUS:CONFIRMED
LAST-MODIFIED:20190303T213552Z
DESCRIPTION:Herren - 4. Kreisklasse  B\nBegegnungs-Nr: 109\nHeim: TSV Ellerbek IX\nGast: SuS Waldenau III\n
LOCATION:
CATEGORIES:Saison 2015/16
END:VEVENT
BEGIN:VEVENT
DTSTAMP:20260423T142655Z
DTSTART;TZID=Europe/Berlin:20160212T200000
DTEND;TZID=Europe/Berlin:20160212T230000
SUMMARY:4. Kreisklasse B TV Haseldorf II vs SuS Waldenau III (116)
UID:83382edb-9a1e-598e-e053-1fc7a80a5d7a
STATUS:CONFIRMED
LAST-MODIFIED:20190303T213553Z
DESCRIPTION:Herren - 4. Kreisklasse  B\nBegegnungs-Nr: 116\nHeim: TV Haseldorf II\nGast: SuS Waldenau III\n
LOCATION:
CATEGORIES:Saison 2015/16
END:VEVENT
BEGIN:VEVENT
DTSTAMP:20260423T142655Z
DTSTART;TZID=Europe/Berlin:20160226T201500
DTEND;TZID=Europe/Berlin:20160226T231500
SUMMARY:4. Kreisklasse B TuS Appen V vs SuS Waldenau III (129)
UID:83382edb-9b14-598e-e053-1fc7a80a5d7a
STATUS:CONFIRMED
LAST-MODIFIED:20190303T213553Z
DESCRIPTION:Herren - 4. Kreisklasse  B\nBegegnungs-Nr: 129\nHeim: TuS Appen V\nGast: SuS Waldenau III\n
LOCATION:
CATEGORIES:Saison 2015/16
END:VEVENT
BEGIN:VEVENT
DTSTAMP:20260423T142655Z
DTSTART;TZID=Europe/Berlin:20160316T201500
DTEND;TZID=Europe/Berlin:20160316T231500
SUMMARY:4. Kreisklasse B Post SV Elmshorn  vs SuS Waldenau III (146)
UID:83382edb-9c69-598e-e053-1fc7a80a5d7a
STATUS:CONFIRMED
LAST-MODIFIED:20190303T213553Z
DESCRIPTION:Herren - 4. Kreisklasse  B\nBegegnungs-Nr: 146\nHeim: Post SV Elmshorn \nGast: SuS Waldenau III\n
LOCATION:
CATEGORIES:Saison 2015/16
END:VEVENT
BEGIN:VEVENT
DTSTAMP:20260423T142655Z
DTSTART;TZID=Europe/Berlin:20160418T202500
DTEND;TZID=Europe/Berlin:20160418T232500
SUMMARY:4. Kreisklasse B Barmstedter MTV IV vs SuS Waldenau III (156)
UID:83382edb-9d22-598e-e053-1fc7a80a5d7a
STATUS:CONFIRMED
LAST-MODIFIED:20190303T213553Z
DESCRIPTION:Herren - 4. Kreisklasse  B\nBegegnungs-Nr: 156\nHeim: Barmstedter MTV IV\nGast: SuS Waldenau III\n
LOCATION:
CATEGORIES:Saison 2015/16
END:VEVENT
BEGIN:VEVENT
DTSTAMP:20260423T142655Z
DTSTART;TZID=Europe/Berlin:20151005T201500
DTEND;TZID=Europe/Berlin:20151005T231500
SUMMARY:4. Kreisklasse B TuS Hemdingen-Bilsen III vs SuS Waldenau III (19)
UID:83382edb-947c-598e-e053-1fc7a80a5d7a
STATUS:CONFIRMED
LAST-MODIFIED:20190303T213551Z
DESCRIPTION:Herren - 4. Kreisklasse  B\nBegegnungs-Nr: 19\nHeim: TuS Hemdingen-Bilsen III\nGast: SuS Waldenau III\n
LOCATION:
CATEGORIES:Saison 2015/16
END:VEVENT
BEGIN:VEVENT
DTSTAMP:20260423T142655Z
DTSTART;TZID=Europe/Berlin:20151106T201500
DTEND;TZID=Europe/Berlin:20151106T231500
SUMMARY:4. Kreisklasse B WSG BorKum IV vs SuS Waldenau III (36)
UID:83382edb-95ff-598e-e053-1fc7a80a5d7a
STATUS:CONFIRMED
LAST-MODIFIED:20190303T213552Z
DESCRIPTION:Herren - 4. Kreisklasse  B\nBegegnungs-Nr: 36\nHeim: WSG BorKum IV\nGast: SuS Waldenau III\n
LOCATION:
CATEGORIES:Saison 2015/16
END:VEVENT
BEGIN:VEVENT
DTSTAMP:20260423T142655Z
DTSTART;TZID=Europe/Berlin:20150916T201500
DTEND;TZID=Europe/Berlin:20150916T231500
SUMMARY:4. Kreisklasse B SG Kölln-Reisiek IV vs SuS Waldenau III (4)
UID:83382edb-9654-598e-e053-1fc7a80a5d7a
STATUS:CONFIRMED
LAST-MODIFIED:20190303T213552Z
DESCRIPTION:Herren - 4. Kreisklasse  B\nBegegnungs-Nr: 4\nHeim: SG Kölln-Reisiek IV\nGast: SuS Waldenau III\n
LOCATION:
CATEGORIES:Saison 2015/16
END:VEVENT
BEGIN:VEVENT
DTSTAMP:20260423T142655Z
DTSTART;TZID=Europe/Berlin:20151112T201500
DTEND;TZID=Europe/Berlin:20151112T231500
SUMMARY:4. Kreisklasse B TSV Uetersen VIII vs SuS Waldenau III (41)
UID:83382edb-967a-598e-e053-1fc7a80a5d7a
STATUS:CONFIRMED
LAST-MODIFIED:20190303T213552Z
DESCRIPTION:Herren - 4. Kreisklasse  B\nBegegnungs-Nr: 41\nHeim: TSV Uetersen VIII\nGast: SuS Waldenau III\n
LOCATION:
CATEGORIES:Saison 2015/16
END:VEVENT
BEGIN:VEVENT
DTSTAMP:20260423T142655Z
DTSTART;TZID=Europe/Berlin:20151123T201500
DTEND;TZID=Europe/Berlin:20151123T231500
SUMMARY:4. Kreisklasse B Moorreger SV VII vs SuS Waldenau III (50)
UID:83382edb-9747-598e-e053-1fc7a80a5d7a
STATUS:CONFIRMED
LAST-MODIFIED:20190303T213552Z
DESCRIPTION:Herren - 4. Kreisklasse  B\nBegegnungs-Nr: 50\nHeim: Moorreger SV VII\nGast: SuS Waldenau III\n
LOCATION:
CATEGORIES:Saison 2015/16
END:VEVENT
END:VCALENDAR
