BEGIN:VCALENDAR
PRODID:-//nuDatenautomaten//framework iCal4j //DE
VERSION:2.0
CALSCALE:GREGORIAN
BEGIN:VTIMEZONE
TZID:Europe/Berlin
LAST-MODIFIED:20260306T231828Z
TZURL:https://www.tzurl.org/zoneinfo/Europe/Berlin
X-LIC-LOCATION:Europe/Berlin
X-PROLEPTIC-TZNAME:LMT
BEGIN:STANDARD
TZNAME:CET
TZOFFSETFROM:+005328
TZOFFSETTO:+0100
DTSTART:18930401T000000
END:STANDARD
BEGIN:DAYLIGHT
TZNAME:CEST
TZOFFSETFROM:+0100
TZOFFSETTO:+0200
DTSTART:19160430T230000
RDATE:19400401T020000
RDATE:19430329T020000
RDATE:19460414T020000
RDATE:19470406T030000
RDATE:19480418T020000
RDATE:19490410T020000
RDATE:19800406T020000
END:DAYLIGHT
BEGIN:STANDARD
TZNAME:CET
TZOFFSETFROM:+0200
TZOFFSETTO:+0100
DTSTART:19161001T010000
RDATE:19421102T030000
RDATE:19431004T030000
RDATE:19441002T030000
RDATE:19451118T030000
RDATE:19461007T030000
END:STANDARD
BEGIN:DAYLIGHT
TZNAME:CEST
TZOFFSETFROM:+0100
TZOFFSETTO:+0200
DTSTART:19170416T020000
RRULE:FREQ=YEARLY;UNTIL=19180415T010000Z;BYMONTH=4;BYDAY=3MO
END:DAYLIGHT
BEGIN:STANDARD
TZNAME:CET
TZOFFSETFROM:+0200
TZOFFSETTO:+0100
DTSTART:19170917T030000
RRULE:FREQ=YEARLY;UNTIL=19180916T010000Z;BYMONTH=9;BYDAY=3MO
END:STANDARD
BEGIN:DAYLIGHT
TZNAME:CEST
TZOFFSETFROM:+0100
TZOFFSETTO:+0200
DTSTART:19440403T020000
RRULE:FREQ=YEARLY;UNTIL=19450402T010000Z;BYMONTH=4;BYDAY=1MO
END:DAYLIGHT
BEGIN:DAYLIGHT
TZNAME:CEMT
TZOFFSETFROM:+0200
TZOFFSETTO:+0300
DTSTART:19450524T020000
RDATE:19470511T030000
END:DAYLIGHT
BEGIN:DAYLIGHT
TZNAME:CEST
TZOFFSETFROM:+0300
TZOFFSETTO:+0200
DTSTART:19450924T030000
RDATE:19470629T030000
END:DAYLIGHT
BEGIN:STANDARD
TZNAME:CET
TZOFFSETFROM:+0100
TZOFFSETTO:+0100
DTSTART:19460101T000000
RDATE:19800101T000000
END:STANDARD
BEGIN:STANDARD
TZNAME:CET
TZOFFSETFROM:+0200
TZOFFSETTO:+0100
DTSTART:19471005T030000
RRULE:FREQ=YEARLY;UNTIL=19491002T010000Z;BYMONTH=10;BYDAY=1SU
END:STANDARD
BEGIN:STANDARD
TZNAME:CET
TZOFFSETFROM:+0200
TZOFFSETTO:+0100
DTSTART:19800928T030000
RRULE:FREQ=YEARLY;UNTIL=19950924T010000Z;BYMONTH=9;BYDAY=-1SU
END:STANDARD
BEGIN:DAYLIGHT
TZNAME:CEST
TZOFFSETFROM:+0100
TZOFFSETTO:+0200
DTSTART:19810329T020000
RRULE:FREQ=YEARLY;BYMONTH=3;BYDAY=-1SU
END:DAYLIGHT
BEGIN:STANDARD
TZNAME:CET
TZOFFSETFROM:+0200
TZOFFSETTO:+0100
DTSTART:19961027T030000
RRULE:FREQ=YEARLY;BYMONTH=10;BYDAY=-1SU
END:STANDARD
END:VTIMEZONE
BEGIN:VEVENT
DTSTAMP:20260421T204643Z
DTSTART;TZID=Europe/Berlin:20160310T201500
DTEND;TZID=Europe/Berlin:20160310T231500
SUMMARY:4. Kreisklasse A TSV Uetersen IX vs TTC Seeth-Ekholt VI (153)
UID:83382edb-a88a-598e-e053-1fc7a80a5d7a
STATUS:CONFIRMED
LAST-MODIFIED:20190303T213556Z
DESCRIPTION:Herren - 4. Kreisklasse A\nBegegnungs-Nr: 153\nHeim: TSV Uetersen IX\nGast: TTC Seeth-Ekholt VI\n
LOCATION:
CATEGORIES:Saison 2015/16
END:VEVENT
BEGIN:VEVENT
DTSTAMP:20260421T204643Z
DTSTART;TZID=Europe/Berlin:20160421T201500
DTEND;TZID=Europe/Berlin:20160421T231500
SUMMARY:4. Kreisklasse A TSV Uetersen IX vs TSV Prisdorf IV (169)
UID:83382edb-a9d8-598e-e053-1fc7a80a5d7a
STATUS:CONFIRMED
LAST-MODIFIED:20190303T213556Z
DESCRIPTION:Herren - 4. Kreisklasse A\nBegegnungs-Nr: 169\nHeim: TSV Uetersen IX\nGast: TSV Prisdorf IV\n
LOCATION:
CATEGORIES:Saison 2015/16
END:VEVENT
BEGIN:VEVENT
DTSTAMP:20260421T204643Z
DTSTART;TZID=Europe/Berlin:20150917T201500
DTEND;TZID=Europe/Berlin:20150917T231500
SUMMARY:4. Kreisklasse A TSV Uetersen IX vs Voßlocher SV III (15)
UID:83382edb-9e5a-598e-e053-1fc7a80a5d7a
STATUS:CONFIRMED
LAST-MODIFIED:20190303T213553Z
DESCRIPTION:Herren - 4. Kreisklasse A\nBegegnungs-Nr: 15\nHeim: TSV Uetersen IX\nGast: Voßlocher SV III\n
LOCATION:
CATEGORIES:Saison 2015/16
END:VEVENT
BEGIN:VEVENT
DTSTAMP:20260421T204643Z
DTSTART;TZID=Europe/Berlin:20150903T201500
DTEND;TZID=Europe/Berlin:20150903T231500
SUMMARY:4. Kreisklasse A TSV Uetersen IX vs TuS Hemdingen-Bilsen II (3)
UID:83382edb-9faf-598e-e053-1fc7a80a5d7a
STATUS:CONFIRMED
LAST-MODIFIED:20190303T213554Z
DESCRIPTION:Herren - 4. Kreisklasse A\nBegegnungs-Nr: 3\nHeim: TSV Uetersen IX\nGast: TuS Hemdingen-Bilsen II\n
LOCATION:
CATEGORIES:Saison 2015/16
END:VEVENT
BEGIN:VEVENT
DTSTAMP:20260421T204643Z
DTSTART;TZID=Europe/Berlin:20151008T201500
DTEND;TZID=Europe/Berlin:20151008T231500
SUMMARY:4. Kreisklasse A TSV Uetersen IX vs SuS Waldenau IV (34)
UID:83382edb-a01e-598e-e053-1fc7a80a5d7a
STATUS:CONFIRMED
LAST-MODIFIED:20190303T213554Z
DESCRIPTION:Herren - 4. Kreisklasse A\nBegegnungs-Nr: 34\nHeim: TSV Uetersen IX\nGast: SuS Waldenau IV\n
LOCATION:
CATEGORIES:Saison 2015/16
END:VEVENT
BEGIN:VEVENT
DTSTAMP:20260421T204643Z
DTSTART;TZID=Europe/Berlin:20151105T201500
DTEND;TZID=Europe/Berlin:20151105T231500
SUMMARY:4. Kreisklasse A TSV Uetersen IX vs Halstenbeker TS III (47)
UID:83382edb-a140-598e-e053-1fc7a80a5d7a
STATUS:CONFIRMED
LAST-MODIFIED:20190303T213554Z
DESCRIPTION:Herren - 4. Kreisklasse A\nBegegnungs-Nr: 47\nHeim: TSV Uetersen IX\nGast: Halstenbeker TS III\n
LOCATION:
CATEGORIES:Saison 2015/16
END:VEVENT
BEGIN:VEVENT
DTSTAMP:20260421T204643Z
DTSTART;TZID=Europe/Berlin:20151119T201500
DTEND;TZID=Europe/Berlin:20151119T231500
SUMMARY:4. Kreisklasse A TSV Uetersen IX vs TSV Ellerbek VIII (60)
UID:83382edb-a27c-598e-e053-1fc7a80a5d7a
STATUS:CONFIRMED
LAST-MODIFIED:20190303T213554Z
DESCRIPTION:Herren - 4. Kreisklasse A\nBegegnungs-Nr: 60\nHeim: TSV Uetersen IX\nGast: TSV Ellerbek VIII\n
LOCATION:
CATEGORIES:Saison 2015/16
END:VEVENT
BEGIN:VEVENT
DTSTAMP:20260421T204643Z
DTSTART;TZID=Europe/Berlin:20151210T201500
DTEND;TZID=Europe/Berlin:20151210T231500
SUMMARY:4. Kreisklasse A TSV Uetersen IX vs TuS Esingen VIII (75)
UID:83382edb-a3d0-598e-e053-1fc7a80a5d7a
STATUS:CONFIRMED
LAST-MODIFIED:20190303T213555Z
DESCRIPTION:Herren - 4. Kreisklasse A\nBegegnungs-Nr: 75\nHeim: TSV Uetersen IX\nGast: TuS Esingen VIII\n
LOCATION:
CATEGORIES:Saison 2015/16
END:VEVENT
BEGIN:VEVENT
DTSTAMP:20260421T204643Z
DTSTART;TZID=Europe/Berlin:20160121T201500
DTEND;TZID=Europe/Berlin:20160121T231500
SUMMARY:4. Kreisklasse A TSV Uetersen IX vs TuS Holstein Quickborn V (109)
UID:83382edb-a500-598e-e053-1fc7a80a5d7a
STATUS:CONFIRMED
LAST-MODIFIED:20190303T213555Z
DESCRIPTION:Herren - 4. Kreisklasse A\nBegegnungs-Nr: 109\nHeim: TSV Uetersen IX\nGast: TuS Holstein Quickborn V\n
LOCATION:
CATEGORIES:Saison 2015/16
END:VEVENT
BEGIN:VEVENT
DTSTAMP:20260421T204643Z
DTSTART;TZID=Europe/Berlin:20160204T201500
DTEND;TZID=Europe/Berlin:20160204T231500
SUMMARY:4. Kreisklasse A TSV Uetersen IX vs WSG BorKum V (121)
UID:83382edb-a5f2-598e-e053-1fc7a80a5d7a
STATUS:CONFIRMED
LAST-MODIFIED:20190303T213555Z
DESCRIPTION:Herren - 4. Kreisklasse A\nBegegnungs-Nr: 121\nHeim: TSV Uetersen IX\nGast: WSG BorKum V\n
LOCATION:
CATEGORIES:Saison 2015/16
END:VEVENT
BEGIN:VEVENT
DTSTAMP:20260421T204643Z
DTSTART;TZID=Europe/Berlin:20160211T201500
DTEND;TZID=Europe/Berlin:20160211T231500
SUMMARY:4. Kreisklasse A TSV Uetersen IX vs SV Friedrichsgabe VIII (128)
UID:83382edb-a681-598e-e053-1fc7a80a5d7a
STATUS:CONFIRMED
LAST-MODIFIED:20190303T213555Z
DESCRIPTION:Herren - 4. Kreisklasse A\nBegegnungs-Nr: 128\nHeim: TSV Uetersen IX\nGast: SV Friedrichsgabe VIII\n
LOCATION:
CATEGORIES:Saison 2015/16
END:VEVENT
BEGIN:VEVENT
DTSTAMP:20260421T204643Z
DTSTART;TZID=Europe/Berlin:20160225T201500
DTEND;TZID=Europe/Berlin:20160225T231500
SUMMARY:4. Kreisklasse A TSV Uetersen IX vs SC Pinneberg V (141)
UID:83382edb-a78d-598e-e053-1fc7a80a5d7a
STATUS:CONFIRMED
LAST-MODIFIED:20190303T213555Z
DESCRIPTION:Herren - 4. Kreisklasse A\nBegegnungs-Nr: 141\nHeim: TSV Uetersen IX\nGast: SC Pinneberg V\n
LOCATION:
CATEGORIES:Saison 2015/16
END:VEVENT
BEGIN:VEVENT
DTSTAMP:20260421T204643Z
DTSTART;TZID=Europe/Berlin:20160408T193000
DTEND;TZID=Europe/Berlin:20160408T223000
SUMMARY:4. Kreisklasse A Halstenbeker TS III vs TSV Uetersen IX (145)
UID:83382edb-a7e2-598e-e053-1fc7a80a5d7a
STATUS:CONFIRMED
LAST-MODIFIED:20190303T213556Z
DESCRIPTION:Herren - 4. Kreisklasse A\nBegegnungs-Nr: 145\nHeim: Halstenbeker TS III\nGast: TSV Uetersen IX\n
LOCATION:
CATEGORIES:Saison 2015/16
END:VEVENT
BEGIN:VEVENT
DTSTAMP:20260421T204643Z
DTSTART;TZID=Europe/Berlin:20160321T201500
DTEND;TZID=Europe/Berlin:20160321T231500
SUMMARY:4. Kreisklasse A TSV Ellerbek VIII vs TSV Uetersen IX (155)
UID:83382edb-a8af-598e-e053-1fc7a80a5d7a
STATUS:CONFIRMED
LAST-MODIFIED:20190303T213556Z
DESCRIPTION:Herren - 4. Kreisklasse A\nBegegnungs-Nr: 155\nHeim: TSV Ellerbek VIII\nGast: TSV Uetersen IX\n
LOCATION:
CATEGORIES:Saison 2015/16
END:VEVENT
BEGIN:VEVENT
DTSTAMP:20260421T204643Z
DTSTART;TZID=Europe/Berlin:20160427T201500
DTEND;TZID=Europe/Berlin:20160427T231500
SUMMARY:4. Kreisklasse A TuS Esingen VIII vs TSV Uetersen IX (176)
UID:83382edb-aa75-598e-e053-1fc7a80a5d7a
STATUS:CONFIRMED
LAST-MODIFIED:20190303T213556Z
DESCRIPTION:Herren - 4. Kreisklasse A\nBegegnungs-Nr: 176\nHeim: TuS Esingen VIII\nGast: TSV Uetersen IX\n
LOCATION:
CATEGORIES:Saison 2015/16
END:VEVENT
BEGIN:VEVENT
DTSTAMP:20260421T204643Z
DTSTART;TZID=Europe/Berlin:20150922T201500
DTEND;TZID=Europe/Berlin:20150922T231500
SUMMARY:4. Kreisklasse A WSG BorKum V vs TSV Uetersen IX (21)
UID:83382edb-9ef4-598e-e053-1fc7a80a5d7a
STATUS:CONFIRMED
LAST-MODIFIED:20190303T213554Z
DESCRIPTION:Herren - 4. Kreisklasse A\nBegegnungs-Nr: 21\nHeim: WSG BorKum V\nGast: TSV Uetersen IX\n
LOCATION:
CATEGORIES:Saison 2015/16
END:VEVENT
BEGIN:VEVENT
DTSTAMP:20260421T204643Z
DTSTART;TZID=Europe/Berlin:20151001T201500
DTEND;TZID=Europe/Berlin:20151001T231500
SUMMARY:4. Kreisklasse A SV Friedrichsgabe VIII vs TSV Uetersen IX (28)
UID:83382edb-9f84-598e-e053-1fc7a80a5d7a
STATUS:CONFIRMED
LAST-MODIFIED:20190303T213554Z
DESCRIPTION:Herren - 4. Kreisklasse A\nBegegnungs-Nr: 28\nHeim: SV Friedrichsgabe VIII\nGast: TSV Uetersen IX\n
LOCATION:
CATEGORIES:Saison 2015/16
END:VEVENT
BEGIN:VEVENT
DTSTAMP:20260421T204643Z
DTSTART;TZID=Europe/Berlin:20151014T200000
DTEND;TZID=Europe/Berlin:20151014T230000
SUMMARY:4. Kreisklasse A SC Pinneberg V vs TSV Uetersen IX (38)
UID:83382edb-a06c-598e-e053-1fc7a80a5d7a
STATUS:CONFIRMED
LAST-MODIFIED:20190303T213554Z
DESCRIPTION:Herren - 4. Kreisklasse A\nBegegnungs-Nr: 38\nHeim: SC Pinneberg V\nGast: TSV Uetersen IX\n
LOCATION:
CATEGORIES:Saison 2015/16
END:VEVENT
BEGIN:VEVENT
DTSTAMP:20260421T204643Z
DTSTART;TZID=Europe/Berlin:20151113T200000
DTEND;TZID=Europe/Berlin:20151113T230000
SUMMARY:4. Kreisklasse A TTC Seeth-Ekholt VI vs TSV Uetersen IX (52)
UID:83382edb-a1c3-598e-e053-1fc7a80a5d7a
STATUS:CONFIRMED
LAST-MODIFIED:20190303T213554Z
DESCRIPTION:Herren - 4. Kreisklasse A\nBegegnungs-Nr: 52\nHeim: TTC Seeth-Ekholt VI\nGast: TSV Uetersen IX\n
LOCATION:
CATEGORIES:Saison 2015/16
END:VEVENT
BEGIN:VEVENT
DTSTAMP:20260421T204643Z
DTSTART;TZID=Europe/Berlin:20150907T201500
DTEND;TZID=Europe/Berlin:20150907T231500
SUMMARY:4. Kreisklasse A TuS Holstein Quickborn V vs TSV Uetersen IX (7)
UID:83382edb-a353-598e-e053-1fc7a80a5d7a
STATUS:CONFIRMED
LAST-MODIFIED:20190303T213555Z
DESCRIPTION:Herren - 4. Kreisklasse A\nBegegnungs-Nr: 7\nHeim: TuS Holstein Quickborn V\nGast: TSV Uetersen IX\n
LOCATION:
CATEGORIES:Saison 2015/16
END:VEVENT
BEGIN:VEVENT
DTSTAMP:20260421T204643Z
DTSTART;TZID=Europe/Berlin:20151203T201500
DTEND;TZID=Europe/Berlin:20151203T231500
SUMMARY:4. Kreisklasse A TSV Prisdorf IV vs TSV Uetersen IX (71)
UID:83382edb-a37d-598e-e053-1fc7a80a5d7a
STATUS:CONFIRMED
LAST-MODIFIED:20190303T213555Z
DESCRIPTION:Herren - 4. Kreisklasse A\nBegegnungs-Nr: 71\nHeim: TSV Prisdorf IV\nGast: TSV Uetersen IX\n
LOCATION:
CATEGORIES:Saison 2015/16
END:VEVENT
BEGIN:VEVENT
DTSTAMP:20260421T204643Z
DTSTART;TZID=Europe/Berlin:20160115T201500
DTEND;TZID=Europe/Berlin:20160115T231500
SUMMARY:4. Kreisklasse A TuS Hemdingen-Bilsen II vs TSV Uetersen IX (105)
UID:83382edb-a4a7-598e-e053-1fc7a80a5d7a
STATUS:CONFIRMED
LAST-MODIFIED:20190303T213555Z
DESCRIPTION:Herren - 4. Kreisklasse A\nBegegnungs-Nr: 105\nHeim: TuS Hemdingen-Bilsen II\nGast: TSV Uetersen IX\n
LOCATION:
CATEGORIES:Saison 2015/16
END:VEVENT
BEGIN:VEVENT
DTSTAMP:20260421T204643Z
DTSTART;TZID=Europe/Berlin:20160215T201500
DTEND;TZID=Europe/Berlin:20160215T231500
SUMMARY:4. Kreisklasse A Voßlocher SV III vs TSV Uetersen IX (114)
UID:83382edb-a561-598e-e053-1fc7a80a5d7a
STATUS:CONFIRMED
LAST-MODIFIED:20190303T213555Z
DESCRIPTION:Herren - 4. Kreisklasse A\nBegegnungs-Nr: 114\nHeim: Voßlocher SV III\nGast: TSV Uetersen IX\n
LOCATION:
CATEGORIES:Saison 2015/16
END:VEVENT
BEGIN:VEVENT
DTSTAMP:20260421T204643Z
DTSTART;TZID=Europe/Berlin:20160219T201500
DTEND;TZID=Europe/Berlin:20160219T231500
SUMMARY:4. Kreisklasse A SuS Waldenau IV vs TSV Uetersen IX (135)
UID:83382edb-a713-598e-e053-1fc7a80a5d7a
STATUS:CONFIRMED
LAST-MODIFIED:20190303T213555Z
DESCRIPTION:Herren - 4. Kreisklasse A\nBegegnungs-Nr: 135\nHeim: SuS Waldenau IV\nGast: TSV Uetersen IX\n
LOCATION:
CATEGORIES:Saison 2015/16
END:VEVENT
END:VCALENDAR
