BEGIN:VCALENDAR
PRODID:-//nuDatenautomaten//framework iCal4j //DE
VERSION:2.0
CALSCALE:GREGORIAN
BEGIN:VTIMEZONE
TZID:Europe/Berlin
LAST-MODIFIED:20260306T231828Z
TZURL:https://www.tzurl.org/zoneinfo/Europe/Berlin
X-LIC-LOCATION:Europe/Berlin
X-PROLEPTIC-TZNAME:LMT
BEGIN:STANDARD
TZNAME:CET
TZOFFSETFROM:+005328
TZOFFSETTO:+0100
DTSTART:18930401T000000
END:STANDARD
BEGIN:DAYLIGHT
TZNAME:CEST
TZOFFSETFROM:+0100
TZOFFSETTO:+0200
DTSTART:19160430T230000
RDATE:19400401T020000
RDATE:19430329T020000
RDATE:19460414T020000
RDATE:19470406T030000
RDATE:19480418T020000
RDATE:19490410T020000
RDATE:19800406T020000
END:DAYLIGHT
BEGIN:STANDARD
TZNAME:CET
TZOFFSETFROM:+0200
TZOFFSETTO:+0100
DTSTART:19161001T010000
RDATE:19421102T030000
RDATE:19431004T030000
RDATE:19441002T030000
RDATE:19451118T030000
RDATE:19461007T030000
END:STANDARD
BEGIN:DAYLIGHT
TZNAME:CEST
TZOFFSETFROM:+0100
TZOFFSETTO:+0200
DTSTART:19170416T020000
RRULE:FREQ=YEARLY;UNTIL=19180415T010000Z;BYMONTH=4;BYDAY=3MO
END:DAYLIGHT
BEGIN:STANDARD
TZNAME:CET
TZOFFSETFROM:+0200
TZOFFSETTO:+0100
DTSTART:19170917T030000
RRULE:FREQ=YEARLY;UNTIL=19180916T010000Z;BYMONTH=9;BYDAY=3MO
END:STANDARD
BEGIN:DAYLIGHT
TZNAME:CEST
TZOFFSETFROM:+0100
TZOFFSETTO:+0200
DTSTART:19440403T020000
RRULE:FREQ=YEARLY;UNTIL=19450402T010000Z;BYMONTH=4;BYDAY=1MO
END:DAYLIGHT
BEGIN:DAYLIGHT
TZNAME:CEMT
TZOFFSETFROM:+0200
TZOFFSETTO:+0300
DTSTART:19450524T020000
RDATE:19470511T030000
END:DAYLIGHT
BEGIN:DAYLIGHT
TZNAME:CEST
TZOFFSETFROM:+0300
TZOFFSETTO:+0200
DTSTART:19450924T030000
RDATE:19470629T030000
END:DAYLIGHT
BEGIN:STANDARD
TZNAME:CET
TZOFFSETFROM:+0100
TZOFFSETTO:+0100
DTSTART:19460101T000000
RDATE:19800101T000000
END:STANDARD
BEGIN:STANDARD
TZNAME:CET
TZOFFSETFROM:+0200
TZOFFSETTO:+0100
DTSTART:19471005T030000
RRULE:FREQ=YEARLY;UNTIL=19491002T010000Z;BYMONTH=10;BYDAY=1SU
END:STANDARD
BEGIN:STANDARD
TZNAME:CET
TZOFFSETFROM:+0200
TZOFFSETTO:+0100
DTSTART:19800928T030000
RRULE:FREQ=YEARLY;UNTIL=19950924T010000Z;BYMONTH=9;BYDAY=-1SU
END:STANDARD
BEGIN:DAYLIGHT
TZNAME:CEST
TZOFFSETFROM:+0100
TZOFFSETTO:+0200
DTSTART:19810329T020000
RRULE:FREQ=YEARLY;BYMONTH=3;BYDAY=-1SU
END:DAYLIGHT
BEGIN:STANDARD
TZNAME:CET
TZOFFSETFROM:+0200
TZOFFSETTO:+0100
DTSTART:19961027T030000
RRULE:FREQ=YEARLY;BYMONTH=10;BYDAY=-1SU
END:STANDARD
END:VTIMEZONE
BEGIN:VEVENT
DTSTAMP:20260424T192743Z
DTSTART;TZID=Europe/Berlin:20151007T193400
DTEND;TZID=Europe/Berlin:20151007T223400
SUMMARY:2. Kreisklasse A TTC Die Sterne Elmshorn V vs SV Hörnerkirchen  (9)
UID:83382edb-722e-598e-e053-1fc7a80a5d7a
STATUS:CONFIRMED
LAST-MODIFIED:20190303T213544Z
DESCRIPTION:Herren - 2. Kreisklasse A\nBegegnungs-Nr: 9\nHeim: TTC Die Sterne Elmshorn V\nGast: SV Hörnerkirchen \n
LOCATION:
CATEGORIES:Saison 2015/16
END:VEVENT
BEGIN:VEVENT
DTSTAMP:20260424T192743Z
DTSTART;TZID=Europe/Berlin:20160127T193400
DTEND;TZID=Europe/Berlin:20160127T223400
SUMMARY:2. Kreisklasse A TTC Die Sterne Elmshorn V vs MTV Ellerhoop  (103)
UID:83382edb-726a-598e-e053-1fc7a80a5d7a
STATUS:CONFIRMED
LAST-MODIFIED:20190303T213544Z
DESCRIPTION:Herren - 2. Kreisklasse A\nBegegnungs-Nr: 103\nHeim: TTC Die Sterne Elmshorn V\nGast: MTV Ellerhoop \n
LOCATION:
CATEGORIES:Saison 2015/16
END:VEVENT
BEGIN:VEVENT
DTSTAMP:20260424T192743Z
DTSTART;TZID=Europe/Berlin:20160224T193400
DTEND;TZID=Europe/Berlin:20160224T223400
SUMMARY:2. Kreisklasse A TTC Die Sterne Elmshorn V vs TSV Ellerbek VI (126)
UID:83382edb-73df-598e-e053-1fc7a80a5d7a
STATUS:CONFIRMED
LAST-MODIFIED:20190303T213544Z
DESCRIPTION:Herren - 2. Kreisklasse A\nBegegnungs-Nr: 126\nHeim: TTC Die Sterne Elmshorn V\nGast: TSV Ellerbek VI\n
LOCATION:
CATEGORIES:Saison 2015/16
END:VEVENT
BEGIN:VEVENT
DTSTAMP:20260424T192743Z
DTSTART;TZID=Europe/Berlin:20160309T193400
DTEND;TZID=Europe/Berlin:20160309T223400
SUMMARY:2. Kreisklasse A TTC Die Sterne Elmshorn V vs SV Friedrichsgabe V (139)
UID:83382edb-74bf-598e-e053-1fc7a80a5d7a
STATUS:CONFIRMED
LAST-MODIFIED:20190303T213545Z
DESCRIPTION:Herren - 2. Kreisklasse A\nBegegnungs-Nr: 139\nHeim: TTC Die Sterne Elmshorn V\nGast: SV Friedrichsgabe V\n
LOCATION:
CATEGORIES:Saison 2015/16
END:VEVENT
BEGIN:VEVENT
DTSTAMP:20260424T192743Z
DTSTART;TZID=Europe/Berlin:20160413T193400
DTEND;TZID=Europe/Berlin:20160413T223400
SUMMARY:2. Kreisklasse A TTC Die Sterne Elmshorn V vs Halstenbeker TS  (150)
UID:83382edb-757a-598e-e053-1fc7a80a5d7a
STATUS:CONFIRMED
LAST-MODIFIED:20190303T213545Z
DESCRIPTION:Herren - 2. Kreisklasse A\nBegegnungs-Nr: 150\nHeim: TTC Die Sterne Elmshorn V\nGast: Halstenbeker TS \n
LOCATION:
CATEGORIES:Saison 2015/16
END:VEVENT
BEGIN:VEVENT
DTSTAMP:20260424T192743Z
DTSTART;TZID=Europe/Berlin:20160427T193400
DTEND;TZID=Europe/Berlin:20160427T223400
SUMMARY:2. Kreisklasse A TTC Die Sterne Elmshorn V vs TuS Holstein Quickborn III (163)
UID:83382edb-7666-598e-e053-1fc7a80a5d7a
STATUS:CONFIRMED
LAST-MODIFIED:20190303T213545Z
DESCRIPTION:Herren - 2. Kreisklasse A\nBegegnungs-Nr: 163\nHeim: TTC Die Sterne Elmshorn V\nGast: TuS Holstein Quickborn III\n
LOCATION:
CATEGORIES:Saison 2015/16
END:VEVENT
BEGIN:VEVENT
DTSTAMP:20260424T192743Z
DTSTART;TZID=Europe/Berlin:20150930T193400
DTEND;TZID=Europe/Berlin:20150930T223400
SUMMARY:2. Kreisklasse A TTC Die Sterne Elmshorn V vs Moorreger SV V (15)
UID:83382edb-6d6e-598e-e053-1fc7a80a5d7a
STATUS:CONFIRMED
LAST-MODIFIED:20190303T213543Z
DESCRIPTION:Herren - 2. Kreisklasse A\nBegegnungs-Nr: 15\nHeim: TTC Die Sterne Elmshorn V\nGast: Moorreger SV V\n
LOCATION:
CATEGORIES:Saison 2015/16
END:VEVENT
BEGIN:VEVENT
DTSTAMP:20260424T192743Z
DTSTART;TZID=Europe/Berlin:20151104T193400
DTEND;TZID=Europe/Berlin:20151104T223400
SUMMARY:2. Kreisklasse A TTC Die Sterne Elmshorn V vs TSV Uetersen VI (32)
UID:83382edb-6ee5-598e-e053-1fc7a80a5d7a
STATUS:CONFIRMED
LAST-MODIFIED:20190303T213543Z
DESCRIPTION:Herren - 2. Kreisklasse A\nBegegnungs-Nr: 32\nHeim: TTC Die Sterne Elmshorn V\nGast: TSV Uetersen VI\n
LOCATION:
CATEGORIES:Saison 2015/16
END:VEVENT
BEGIN:VEVENT
DTSTAMP:20260424T192743Z
DTSTART;TZID=Europe/Berlin:20151118T193400
DTEND;TZID=Europe/Berlin:20151118T223400
SUMMARY:2. Kreisklasse A TTC Die Sterne Elmshorn V vs TSV Gut-Heil Heist III (45)
UID:83382edb-7007-598e-e053-1fc7a80a5d7a
STATUS:CONFIRMED
LAST-MODIFIED:20190303T213544Z
DESCRIPTION:Herren - 2. Kreisklasse A\nBegegnungs-Nr: 45\nHeim: TTC Die Sterne Elmshorn V\nGast: TSV Gut-Heil Heist III\n
LOCATION:
CATEGORIES:Saison 2015/16
END:VEVENT
BEGIN:VEVENT
DTSTAMP:20260424T192743Z
DTSTART;TZID=Europe/Berlin:20151202T193400
DTEND;TZID=Europe/Berlin:20151202T223400
SUMMARY:2. Kreisklasse A TTC Die Sterne Elmshorn V vs TV Haseldorf  (56)
UID:83382edb-7101-598e-e053-1fc7a80a5d7a
STATUS:CONFIRMED
LAST-MODIFIED:20190303T213544Z
DESCRIPTION:Herren - 2. Kreisklasse A\nBegegnungs-Nr: 56\nHeim: TTC Die Sterne Elmshorn V\nGast: TV Haseldorf \n
LOCATION:
CATEGORIES:Saison 2015/16
END:VEVENT
BEGIN:VEVENT
DTSTAMP:20260424T192743Z
DTSTART;TZID=Europe/Berlin:20151209T201500
DTEND;TZID=Europe/Berlin:20151209T231500
SUMMARY:2. Kreisklasse A TuS Holstein Quickborn III vs TTC Die Sterne Elmshorn V (62)
UID:83382edb-7197-598e-e053-1fc7a80a5d7a
STATUS:CONFIRMED
LAST-MODIFIED:20190303T213544Z
DESCRIPTION:Herren - 2. Kreisklasse A\nBegegnungs-Nr: 62\nHeim: TuS Holstein Quickborn III\nGast: TTC Die Sterne Elmshorn V\n
LOCATION:
CATEGORIES:Saison 2015/16
END:VEVENT
BEGIN:VEVENT
DTSTAMP:20260424T192743Z
DTSTART;TZID=Europe/Berlin:20160411T201500
DTEND;TZID=Europe/Berlin:20160411T231500
SUMMARY:2. Kreisklasse A SV Hörnerkirchen  vs TTC Die Sterne Elmshorn V (107)
UID:83382edb-72a5-598e-e053-1fc7a80a5d7a
STATUS:CONFIRMED
LAST-MODIFIED:20190303T213544Z
DESCRIPTION:Herren - 2. Kreisklasse A\nBegegnungs-Nr: 107\nHeim: SV Hörnerkirchen \nGast: TTC Die Sterne Elmshorn V\n
LOCATION:
CATEGORIES:Saison 2015/16
END:VEVENT
BEGIN:VEVENT
DTSTAMP:20260424T192743Z
DTSTART;TZID=Europe/Berlin:20160302T201500
DTEND;TZID=Europe/Berlin:20160302T231500
SUMMARY:2. Kreisklasse A TSV Uetersen VI vs TTC Die Sterne Elmshorn V (133)
UID:83382edb-7442-598e-e053-1fc7a80a5d7a
STATUS:CONFIRMED
LAST-MODIFIED:20190303T213545Z
DESCRIPTION:Herren - 2. Kreisklasse A\nBegegnungs-Nr: 133\nHeim: TSV Uetersen VI\nGast: TTC Die Sterne Elmshorn V\n
LOCATION:
CATEGORIES:Saison 2015/16
END:VEVENT
BEGIN:VEVENT
DTSTAMP:20260424T192743Z
DTSTART;TZID=Europe/Berlin:20160318T203000
DTEND;TZID=Europe/Berlin:20160318T233000
SUMMARY:2. Kreisklasse A TSV Gut-Heil Heist III vs TTC Die Sterne Elmshorn V (148)
UID:83382edb-754e-598e-e053-1fc7a80a5d7a
STATUS:CONFIRMED
LAST-MODIFIED:20190303T213545Z
DESCRIPTION:Herren - 2. Kreisklasse A\nBegegnungs-Nr: 148\nHeim: TSV Gut-Heil Heist III\nGast: TTC Die Sterne Elmshorn V\n
LOCATION:
CATEGORIES:Saison 2015/16
END:VEVENT
BEGIN:VEVENT
DTSTAMP:20260424T192743Z
DTSTART;TZID=Europe/Berlin:20160422T201500
DTEND;TZID=Europe/Berlin:20160422T231500
SUMMARY:2. Kreisklasse A TV Haseldorf  vs TTC Die Sterne Elmshorn V (159)
UID:83382edb-7613-598e-e053-1fc7a80a5d7a
STATUS:CONFIRMED
LAST-MODIFIED:20190303T213545Z
DESCRIPTION:Herren - 2. Kreisklasse A\nBegegnungs-Nr: 159\nHeim: TV Haseldorf \nGast: TTC Die Sterne Elmshorn V\n
LOCATION:
CATEGORIES:Saison 2015/16
END:VEVENT
BEGIN:VEVENT
DTSTAMP:20260424T192743Z
DTSTART;TZID=Europe/Berlin:20151026T201500
DTEND;TZID=Europe/Berlin:20151026T231500
SUMMARY:2. Kreisklasse A WSG BorKum III vs TTC Die Sterne Elmshorn V (23)
UID:83382edb-6e1f-598e-e053-1fc7a80a5d7a
STATUS:CONFIRMED
LAST-MODIFIED:20190303T213543Z
DESCRIPTION:Herren - 2. Kreisklasse A\nBegegnungs-Nr: 23\nHeim: WSG BorKum III\nGast: TTC Die Sterne Elmshorn V\n
LOCATION:
CATEGORIES:Saison 2015/16
END:VEVENT
BEGIN:VEVENT
DTSTAMP:20260424T192743Z
DTSTART;TZID=Europe/Berlin:20151012T201500
DTEND;TZID=Europe/Berlin:20151012T231500
SUMMARY:2. Kreisklasse A TSV Ellerbek VI vs TTC Die Sterne Elmshorn V (25)
UID:83382edb-6e46-598e-e053-1fc7a80a5d7a
STATUS:CONFIRMED
LAST-MODIFIED:20190303T213543Z
DESCRIPTION:Herren - 2. Kreisklasse A\nBegegnungs-Nr: 25\nHeim: TSV Ellerbek VI\nGast: TTC Die Sterne Elmshorn V\n
LOCATION:
CATEGORIES:Saison 2015/16
END:VEVENT
BEGIN:VEVENT
DTSTAMP:20260424T192743Z
DTSTART;TZID=Europe/Berlin:20150921T201500
DTEND;TZID=Europe/Berlin:20150921T231500
SUMMARY:2. Kreisklasse A MTV Ellerhoop  vs TTC Die Sterne Elmshorn V (3)
UID:83382edb-6ea5-598e-e053-1fc7a80a5d7a
STATUS:CONFIRMED
LAST-MODIFIED:20190303T213543Z
DESCRIPTION:Herren - 2. Kreisklasse A\nBegegnungs-Nr: 3\nHeim: MTV Ellerhoop \nGast: TTC Die Sterne Elmshorn V\n
LOCATION:
CATEGORIES:Saison 2015/16
END:VEVENT
BEGIN:VEVENT
DTSTAMP:20260424T192743Z
DTSTART;TZID=Europe/Berlin:20151110T201500
DTEND;TZID=Europe/Berlin:20151110T231500
SUMMARY:2. Kreisklasse A SV Friedrichsgabe V vs TTC Die Sterne Elmshorn V (37)
UID:83382edb-6f50-598e-e053-1fc7a80a5d7a
STATUS:CONFIRMED
LAST-MODIFIED:20190303T213543Z
DESCRIPTION:Herren - 2. Kreisklasse A\nBegegnungs-Nr: 37\nHeim: SV Friedrichsgabe V\nGast: TTC Die Sterne Elmshorn V\n
LOCATION:
CATEGORIES:Saison 2015/16
END:VEVENT
BEGIN:VEVENT
DTSTAMP:20260424T192743Z
DTSTART;TZID=Europe/Berlin:20151127T193000
DTEND;TZID=Europe/Berlin:20151127T223000
SUMMARY:2. Kreisklasse A Halstenbeker TS  vs TTC Die Sterne Elmshorn V (52)
UID:83382edb-70ae-598e-e053-1fc7a80a5d7a
STATUS:CONFIRMED
LAST-MODIFIED:20190303T213544Z
DESCRIPTION:Herren - 2. Kreisklasse A\nBegegnungs-Nr: 52\nHeim: Halstenbeker TS \nGast: TTC Die Sterne Elmshorn V\n
LOCATION:
CATEGORIES:Saison 2015/16
END:VEVENT
END:VCALENDAR
