BEGIN:VCALENDAR
PRODID:-//nuDatenautomaten//framework iCal4j //DE
VERSION:2.0
CALSCALE:GREGORIAN
BEGIN:VTIMEZONE
TZID:Europe/Berlin
LAST-MODIFIED:20260306T231828Z
TZURL:https://www.tzurl.org/zoneinfo/Europe/Berlin
X-LIC-LOCATION:Europe/Berlin
X-PROLEPTIC-TZNAME:LMT
BEGIN:STANDARD
TZNAME:CET
TZOFFSETFROM:+005328
TZOFFSETTO:+0100
DTSTART:18930401T000000
END:STANDARD
BEGIN:DAYLIGHT
TZNAME:CEST
TZOFFSETFROM:+0100
TZOFFSETTO:+0200
DTSTART:19160430T230000
RDATE:19400401T020000
RDATE:19430329T020000
RDATE:19460414T020000
RDATE:19470406T030000
RDATE:19480418T020000
RDATE:19490410T020000
RDATE:19800406T020000
END:DAYLIGHT
BEGIN:STANDARD
TZNAME:CET
TZOFFSETFROM:+0200
TZOFFSETTO:+0100
DTSTART:19161001T010000
RDATE:19421102T030000
RDATE:19431004T030000
RDATE:19441002T030000
RDATE:19451118T030000
RDATE:19461007T030000
END:STANDARD
BEGIN:DAYLIGHT
TZNAME:CEST
TZOFFSETFROM:+0100
TZOFFSETTO:+0200
DTSTART:19170416T020000
RRULE:FREQ=YEARLY;UNTIL=19180415T010000Z;BYMONTH=4;BYDAY=3MO
END:DAYLIGHT
BEGIN:STANDARD
TZNAME:CET
TZOFFSETFROM:+0200
TZOFFSETTO:+0100
DTSTART:19170917T030000
RRULE:FREQ=YEARLY;UNTIL=19180916T010000Z;BYMONTH=9;BYDAY=3MO
END:STANDARD
BEGIN:DAYLIGHT
TZNAME:CEST
TZOFFSETFROM:+0100
TZOFFSETTO:+0200
DTSTART:19440403T020000
RRULE:FREQ=YEARLY;UNTIL=19450402T010000Z;BYMONTH=4;BYDAY=1MO
END:DAYLIGHT
BEGIN:DAYLIGHT
TZNAME:CEMT
TZOFFSETFROM:+0200
TZOFFSETTO:+0300
DTSTART:19450524T020000
RDATE:19470511T030000
END:DAYLIGHT
BEGIN:DAYLIGHT
TZNAME:CEST
TZOFFSETFROM:+0300
TZOFFSETTO:+0200
DTSTART:19450924T030000
RDATE:19470629T030000
END:DAYLIGHT
BEGIN:STANDARD
TZNAME:CET
TZOFFSETFROM:+0100
TZOFFSETTO:+0100
DTSTART:19460101T000000
RDATE:19800101T000000
END:STANDARD
BEGIN:STANDARD
TZNAME:CET
TZOFFSETFROM:+0200
TZOFFSETTO:+0100
DTSTART:19471005T030000
RRULE:FREQ=YEARLY;UNTIL=19491002T010000Z;BYMONTH=10;BYDAY=1SU
END:STANDARD
BEGIN:STANDARD
TZNAME:CET
TZOFFSETFROM:+0200
TZOFFSETTO:+0100
DTSTART:19800928T030000
RRULE:FREQ=YEARLY;UNTIL=19950924T010000Z;BYMONTH=9;BYDAY=-1SU
END:STANDARD
BEGIN:DAYLIGHT
TZNAME:CEST
TZOFFSETFROM:+0100
TZOFFSETTO:+0200
DTSTART:19810329T020000
RRULE:FREQ=YEARLY;BYMONTH=3;BYDAY=-1SU
END:DAYLIGHT
BEGIN:STANDARD
TZNAME:CET
TZOFFSETFROM:+0200
TZOFFSETTO:+0100
DTSTART:19961027T030000
RRULE:FREQ=YEARLY;BYMONTH=10;BYDAY=-1SU
END:STANDARD
END:VTIMEZONE
BEGIN:VEVENT
DTSTAMP:20260419T220511Z
DTSTART;TZID=Europe/Berlin:20151002T201500
DTEND;TZID=Europe/Berlin:20151002T231500
SUMMARY:1. Kreisklasse B TSV Uetersen III vs TuS Appen IV (3)
UID:83382edb-5ee9-598e-e053-1fc7a80a5d7a
STATUS:CONFIRMED
LAST-MODIFIED:20190303T213540Z
DESCRIPTION:Herren - 1. Kreisklasse  B\nBegegnungs-Nr: 3\nHeim: TSV Uetersen III\nGast: TuS Appen IV\n
LOCATION:
CATEGORIES:Saison 2015/16
END:VEVENT
BEGIN:VEVENT
DTSTAMP:20260419T220511Z
DTSTART;TZID=Europe/Berlin:20151127T201500
DTEND;TZID=Europe/Berlin:20151127T231500
SUMMARY:1. Kreisklasse B TSV Uetersen III vs TuS Appen III (36)
UID:83382edb-5f6f-598e-e053-1fc7a80a5d7a
STATUS:CONFIRMED
LAST-MODIFIED:20190303T213540Z
DESCRIPTION:Herren - 1. Kreisklasse  B\nBegegnungs-Nr: 36\nHeim: TSV Uetersen III\nGast: TuS Appen III\n
LOCATION:
CATEGORIES:Saison 2015/16
END:VEVENT
BEGIN:VEVENT
DTSTAMP:20260419T220511Z
DTSTART;TZID=Europe/Berlin:20160219T201500
DTEND;TZID=Europe/Berlin:20160219T231500
SUMMARY:1. Kreisklasse B TSV Uetersen III vs Barmstedter MTV III (108)
UID:83382edb-6148-598e-e053-1fc7a80a5d7a
STATUS:CONFIRMED
LAST-MODIFIED:20190303T213540Z
DESCRIPTION:Herren - 1. Kreisklasse  B\nBegegnungs-Nr: 108\nHeim: TSV Uetersen III\nGast: Barmstedter MTV III\n
LOCATION:
CATEGORIES:Saison 2015/16
END:VEVENT
BEGIN:VEVENT
DTSTAMP:20260419T220511Z
DTSTART;TZID=Europe/Berlin:20160304T201500
DTEND;TZID=Europe/Berlin:20160304T231500
SUMMARY:1. Kreisklasse B TSV Uetersen III vs SuS Waldenau  (118)
UID:83382edb-6215-598e-e053-1fc7a80a5d7a
STATUS:CONFIRMED
LAST-MODIFIED:20190303T213541Z
DESCRIPTION:Herren - 1. Kreisklasse  B\nBegegnungs-Nr: 118\nHeim: TSV Uetersen III\nGast: SuS Waldenau \n
LOCATION:
CATEGORIES:Saison 2015/16
END:VEVENT
BEGIN:VEVENT
DTSTAMP:20260419T220511Z
DTSTART;TZID=Europe/Berlin:20160408T201500
DTEND;TZID=Europe/Berlin:20160408T231500
SUMMARY:1. Kreisklasse B TSV Uetersen III vs TSV Prisdorf  (131)
UID:83382edb-631a-598e-e053-1fc7a80a5d7a
STATUS:CONFIRMED
LAST-MODIFIED:20190303T213541Z
DESCRIPTION:Herren - 1. Kreisklasse  B\nBegegnungs-Nr: 131\nHeim: TSV Uetersen III\nGast: TSV Prisdorf \n
LOCATION:
CATEGORIES:Saison 2015/16
END:VEVENT
BEGIN:VEVENT
DTSTAMP:20260419T220511Z
DTSTART;TZID=Europe/Berlin:20160422T201500
DTEND;TZID=Europe/Berlin:20160422T231500
SUMMARY:1. Kreisklasse B TSV Uetersen III vs TuS Holstein Quickborn II (141)
UID:83382edb-63d9-598e-e053-1fc7a80a5d7a
STATUS:CONFIRMED
LAST-MODIFIED:20190303T213541Z
DESCRIPTION:Herren - 1. Kreisklasse  B\nBegegnungs-Nr: 141\nHeim: TSV Uetersen III\nGast: TuS Holstein Quickborn II\n
LOCATION:
CATEGORIES:Saison 2015/16
END:VEVENT
BEGIN:VEVENT
DTSTAMP:20260419T220511Z
DTSTART;TZID=Europe/Berlin:20160429T201500
DTEND;TZID=Europe/Berlin:20160429T231500
SUMMARY:1. Kreisklasse B TSV Uetersen III vs TTC Die Sterne Elmshorn III (143)
UID:83382edb-6400-598e-e053-1fc7a80a5d7a
STATUS:CONFIRMED
LAST-MODIFIED:20190303T213541Z
DESCRIPTION:Herren - 1. Kreisklasse  B\nBegegnungs-Nr: 143\nHeim: TSV Uetersen III\nGast: TTC Die Sterne Elmshorn III\n
LOCATION:
CATEGORIES:Saison 2015/16
END:VEVENT
BEGIN:VEVENT
DTSTAMP:20260419T220511Z
DTSTART;TZID=Europe/Berlin:20151016T201500
DTEND;TZID=Europe/Berlin:20151016T231500
SUMMARY:1. Kreisklasse B TSV Uetersen III vs TuS Esingen V (13)
UID:83382edb-5d81-598e-e053-1fc7a80a5d7a
STATUS:CONFIRMED
LAST-MODIFIED:20190303T213540Z
DESCRIPTION:Herren - 1. Kreisklasse  B\nBegegnungs-Nr: 13\nHeim: TSV Uetersen III\nGast: TuS Esingen V\n
LOCATION:
CATEGORIES:Saison 2015/16
END:VEVENT
BEGIN:VEVENT
DTSTAMP:20260419T220511Z
DTSTART;TZID=Europe/Berlin:20151113T201500
DTEND;TZID=Europe/Berlin:20151113T231500
SUMMARY:1. Kreisklasse B TSV Uetersen III vs SV Friedrichsgabe IV (23)
UID:83382edb-5e59-598e-e053-1fc7a80a5d7a
STATUS:CONFIRMED
LAST-MODIFIED:20190303T213540Z
DESCRIPTION:Herren - 1. Kreisklasse  B\nBegegnungs-Nr: 23\nHeim: TSV Uetersen III\nGast: SV Friedrichsgabe IV\n
LOCATION:
CATEGORIES:Saison 2015/16
END:VEVENT
BEGIN:VEVENT
DTSTAMP:20260419T220511Z
DTSTART;TZID=Europe/Berlin:20151120T201500
DTEND;TZID=Europe/Berlin:20151120T231500
SUMMARY:1. Kreisklasse B TSV Prisdorf  vs TSV Uetersen III (29)
UID:83382edb-5ed5-598e-e053-1fc7a80a5d7a
STATUS:CONFIRMED
LAST-MODIFIED:20190303T213540Z
DESCRIPTION:Herren - 1. Kreisklasse  B\nBegegnungs-Nr: 29\nHeim: TSV Prisdorf \nGast: TSV Uetersen III\n
LOCATION:
CATEGORIES:Saison 2015/16
END:VEVENT
BEGIN:VEVENT
DTSTAMP:20260419T220511Z
DTSTART;TZID=Europe/Berlin:20151202T201500
DTEND;TZID=Europe/Berlin:20151202T231500
SUMMARY:1. Kreisklasse B TuS Holstein Quickborn II vs TSV Uetersen III (37)
UID:83382edb-5f83-598e-e053-1fc7a80a5d7a
STATUS:CONFIRMED
LAST-MODIFIED:20190303T213540Z
DESCRIPTION:Herren - 1. Kreisklasse  B\nBegegnungs-Nr: 37\nHeim: TuS Holstein Quickborn II\nGast: TSV Uetersen III\n
LOCATION:
CATEGORIES:Saison 2015/16
END:VEVENT
BEGIN:VEVENT
DTSTAMP:20260419T220511Z
DTSTART;TZID=Europe/Berlin:20151211T193400
DTEND;TZID=Europe/Berlin:20151211T223400
SUMMARY:1. Kreisklasse B TTC Die Sterne Elmshorn III vs TSV Uetersen III (43)
UID:83382edb-600d-598e-e053-1fc7a80a5d7a
STATUS:CONFIRMED
LAST-MODIFIED:20190303T213540Z
DESCRIPTION:Herren - 1. Kreisklasse  B\nBegegnungs-Nr: 43\nHeim: TTC Die Sterne Elmshorn III\nGast: TSV Uetersen III\n
LOCATION:
CATEGORIES:Saison 2015/16
END:VEVENT
BEGIN:VEVENT
DTSTAMP:20260419T220511Z
DTSTART;TZID=Europe/Berlin:20160212T201500
DTEND;TZID=Europe/Berlin:20160212T231500
SUMMARY:1. Kreisklasse B TuS Appen IV vs TSV Uetersen III (104)
UID:83382edb-60f9-598e-e053-1fc7a80a5d7a
STATUS:CONFIRMED
LAST-MODIFIED:20190303T213540Z
DESCRIPTION:Herren - 1. Kreisklasse  B\nBegegnungs-Nr: 104\nHeim: TuS Appen IV\nGast: TSV Uetersen III\n
LOCATION:
CATEGORIES:Saison 2015/16
END:VEVENT
BEGIN:VEVENT
DTSTAMP:20260419T220511Z
DTSTART;TZID=Europe/Berlin:20160224T201500
DTEND;TZID=Europe/Berlin:20160224T231500
SUMMARY:1. Kreisklasse B TuS Esingen V vs TSV Uetersen III (113)
UID:83382edb-61ae-598e-e053-1fc7a80a5d7a
STATUS:CONFIRMED
LAST-MODIFIED:20190303T213541Z
DESCRIPTION:Herren - 1. Kreisklasse  B\nBegegnungs-Nr: 113\nHeim: TuS Esingen V\nGast: TSV Uetersen III\n
LOCATION:
CATEGORIES:Saison 2015/16
END:VEVENT
BEGIN:VEVENT
DTSTAMP:20260419T220511Z
DTSTART;TZID=Europe/Berlin:20160311T201500
DTEND;TZID=Europe/Berlin:20160311T231500
SUMMARY:1. Kreisklasse B SV Friedrichsgabe IV vs TSV Uetersen III (125)
UID:83382edb-62a1-598e-e053-1fc7a80a5d7a
STATUS:CONFIRMED
LAST-MODIFIED:20190303T213541Z
DESCRIPTION:Herren - 1. Kreisklasse  B\nBegegnungs-Nr: 125\nHeim: SV Friedrichsgabe IV\nGast: TSV Uetersen III\n
LOCATION:
CATEGORIES:Saison 2015/16
END:VEVENT
BEGIN:VEVENT
DTSTAMP:20260419T220511Z
DTSTART;TZID=Europe/Berlin:20160415T201500
DTEND;TZID=Europe/Berlin:20160415T231500
SUMMARY:1. Kreisklasse B TuS Appen III vs TSV Uetersen III (133)
UID:83382edb-6345-598e-e053-1fc7a80a5d7a
STATUS:CONFIRMED
LAST-MODIFIED:20190303T213541Z
DESCRIPTION:Herren - 1. Kreisklasse  B\nBegegnungs-Nr: 133\nHeim: TuS Appen III\nGast: TSV Uetersen III\n
LOCATION:
CATEGORIES:Saison 2015/16
END:VEVENT
BEGIN:VEVENT
DTSTAMP:20260419T220511Z
DTSTART;TZID=Europe/Berlin:20151009T201500
DTEND;TZID=Europe/Berlin:20151009T231500
SUMMARY:1. Kreisklasse B Barmstedter MTV III vs TSV Uetersen III (11)
UID:83382edb-5d5d-598e-e053-1fc7a80a5d7a
STATUS:CONFIRMED
LAST-MODIFIED:20190303T213540Z
DESCRIPTION:Herren - 1. Kreisklasse  B\nBegegnungs-Nr: 11\nHeim: Barmstedter MTV III\nGast: TSV Uetersen III\n
LOCATION:
CATEGORIES:Saison 2015/16
END:VEVENT
BEGIN:VEVENT
DTSTAMP:20260419T220511Z
DTSTART;TZID=Europe/Berlin:20151117T201500
DTEND;TZID=Europe/Berlin:20151117T231500
SUMMARY:1. Kreisklasse B SuS Waldenau  vs TSV Uetersen III (20)
UID:83382edb-5e1d-598e-e053-1fc7a80a5d7a
STATUS:CONFIRMED
LAST-MODIFIED:20190303T213540Z
DESCRIPTION:Herren - 1. Kreisklasse  B\nBegegnungs-Nr: 20\nHeim: SuS Waldenau \nGast: TSV Uetersen III\n
LOCATION:
CATEGORIES:Saison 2015/16
END:VEVENT
END:VCALENDAR
