BEGIN:VCALENDAR
PRODID:-//nuDatenautomaten//framework iCal4j //DE
VERSION:2.0
CALSCALE:GREGORIAN
BEGIN:VTIMEZONE
TZID:Europe/Berlin
LAST-MODIFIED:20260306T231828Z
TZURL:https://www.tzurl.org/zoneinfo/Europe/Berlin
X-LIC-LOCATION:Europe/Berlin
X-PROLEPTIC-TZNAME:LMT
BEGIN:STANDARD
TZNAME:CET
TZOFFSETFROM:+005328
TZOFFSETTO:+0100
DTSTART:18930401T000000
END:STANDARD
BEGIN:DAYLIGHT
TZNAME:CEST
TZOFFSETFROM:+0100
TZOFFSETTO:+0200
DTSTART:19160430T230000
RDATE:19400401T020000
RDATE:19430329T020000
RDATE:19460414T020000
RDATE:19470406T030000
RDATE:19480418T020000
RDATE:19490410T020000
RDATE:19800406T020000
END:DAYLIGHT
BEGIN:STANDARD
TZNAME:CET
TZOFFSETFROM:+0200
TZOFFSETTO:+0100
DTSTART:19161001T010000
RDATE:19421102T030000
RDATE:19431004T030000
RDATE:19441002T030000
RDATE:19451118T030000
RDATE:19461007T030000
END:STANDARD
BEGIN:DAYLIGHT
TZNAME:CEST
TZOFFSETFROM:+0100
TZOFFSETTO:+0200
DTSTART:19170416T020000
RRULE:FREQ=YEARLY;UNTIL=19180415T010000Z;BYMONTH=4;BYDAY=3MO
END:DAYLIGHT
BEGIN:STANDARD
TZNAME:CET
TZOFFSETFROM:+0200
TZOFFSETTO:+0100
DTSTART:19170917T030000
RRULE:FREQ=YEARLY;UNTIL=19180916T010000Z;BYMONTH=9;BYDAY=3MO
END:STANDARD
BEGIN:DAYLIGHT
TZNAME:CEST
TZOFFSETFROM:+0100
TZOFFSETTO:+0200
DTSTART:19440403T020000
RRULE:FREQ=YEARLY;UNTIL=19450402T010000Z;BYMONTH=4;BYDAY=1MO
END:DAYLIGHT
BEGIN:DAYLIGHT
TZNAME:CEMT
TZOFFSETFROM:+0200
TZOFFSETTO:+0300
DTSTART:19450524T020000
RDATE:19470511T030000
END:DAYLIGHT
BEGIN:DAYLIGHT
TZNAME:CEST
TZOFFSETFROM:+0300
TZOFFSETTO:+0200
DTSTART:19450924T030000
RDATE:19470629T030000
END:DAYLIGHT
BEGIN:STANDARD
TZNAME:CET
TZOFFSETFROM:+0100
TZOFFSETTO:+0100
DTSTART:19460101T000000
RDATE:19800101T000000
END:STANDARD
BEGIN:STANDARD
TZNAME:CET
TZOFFSETFROM:+0200
TZOFFSETTO:+0100
DTSTART:19471005T030000
RRULE:FREQ=YEARLY;UNTIL=19491002T010000Z;BYMONTH=10;BYDAY=1SU
END:STANDARD
BEGIN:STANDARD
TZNAME:CET
TZOFFSETFROM:+0200
TZOFFSETTO:+0100
DTSTART:19800928T030000
RRULE:FREQ=YEARLY;UNTIL=19950924T010000Z;BYMONTH=9;BYDAY=-1SU
END:STANDARD
BEGIN:DAYLIGHT
TZNAME:CEST
TZOFFSETFROM:+0100
TZOFFSETTO:+0200
DTSTART:19810329T020000
RRULE:FREQ=YEARLY;BYMONTH=3;BYDAY=-1SU
END:DAYLIGHT
BEGIN:STANDARD
TZNAME:CET
TZOFFSETFROM:+0200
TZOFFSETTO:+0100
DTSTART:19961027T030000
RRULE:FREQ=YEARLY;BYMONTH=10;BYDAY=-1SU
END:STANDARD
END:VTIMEZONE
BEGIN:VEVENT
DTSTAMP:20260424T165457Z
DTSTART;TZID=Europe/Berlin:20151013T201500
DTEND;TZID=Europe/Berlin:20151013T231500
SUMMARY:Kreisliga TuS Appen  vs FTSV Fortuna Elmshorn III (12)
UID:83382edb-4f31-598e-e053-1fc7a80a5d7a
STATUS:CONFIRMED
LAST-MODIFIED:20190303T213537Z
DESCRIPTION:Damen - Kreisliga\nBegegnungs-Nr: 12\nHeim: TuS Appen \nGast: FTSV Fortuna Elmshorn III\n
LOCATION:
CATEGORIES:Saison 2015/16
END:VEVENT
BEGIN:VEVENT
DTSTAMP:20260424T165457Z
DTSTART;TZID=Europe/Berlin:20151117T201500
DTEND;TZID=Europe/Berlin:20151117T231500
SUMMARY:Kreisliga TuS Appen  vs TuS Esingen IV (22)
UID:83382edb-5006-598e-e053-1fc7a80a5d7a
STATUS:CONFIRMED
LAST-MODIFIED:20190303T213537Z
DESCRIPTION:Damen - Kreisliga\nBegegnungs-Nr: 22\nHeim: TuS Appen \nGast: TuS Esingen IV\n
LOCATION:
CATEGORIES:Saison 2015/16
END:VEVENT
BEGIN:VEVENT
DTSTAMP:20260424T165457Z
DTSTART;TZID=Europe/Berlin:20151110T201500
DTEND;TZID=Europe/Berlin:20151110T231500
SUMMARY:Kreisliga TuS Appen  vs TSV Seestermüher Marsch II (4)
UID:83382edb-50a5-598e-e053-1fc7a80a5d7a
STATUS:CONFIRMED
LAST-MODIFIED:20190303T213537Z
DESCRIPTION:Damen - Kreisliga\nBegegnungs-Nr: 4\nHeim: TuS Appen \nGast: TSV Seestermüher Marsch II\n
LOCATION:
CATEGORIES:Saison 2015/16
END:VEVENT
BEGIN:VEVENT
DTSTAMP:20260424T165457Z
DTSTART;TZID=Europe/Berlin:20160301T201500
DTEND;TZID=Europe/Berlin:20160301T231500
SUMMARY:Kreisliga TuS Appen  vs TuS Appen II (101)
UID:83382edb-5117-598e-e053-1fc7a80a5d7a
STATUS:CONFIRMED
LAST-MODIFIED:20190303T213537Z
DESCRIPTION:Damen - Kreisliga\nBegegnungs-Nr: 101\nHeim: TuS Appen \nGast: TuS Appen II\n
LOCATION:
CATEGORIES:Saison 2015/16
END:VEVENT
BEGIN:VEVENT
DTSTAMP:20260424T165457Z
DTSTART;TZID=Europe/Berlin:20160216T201500
DTEND;TZID=Europe/Berlin:20160216T231500
SUMMARY:Kreisliga TuS Appen  vs TSV Gut-Heil Heist II (108)
UID:83382edb-5176-598e-e053-1fc7a80a5d7a
STATUS:CONFIRMED
LAST-MODIFIED:20190303T213537Z
DESCRIPTION:Damen - Kreisliga\nBegegnungs-Nr: 108\nHeim: TuS Appen \nGast: TSV Gut-Heil Heist II\n
LOCATION:
CATEGORIES:Saison 2015/16
END:VEVENT
BEGIN:VEVENT
DTSTAMP:20260424T165457Z
DTSTART;TZID=Europe/Berlin:20160413T201500
DTEND;TZID=Europe/Berlin:20160413T231500
SUMMARY:Kreisliga TuS Appen  vs TSV Gut-Heil Heist III (126)
UID:83382edb-5276-598e-e053-1fc7a80a5d7a
STATUS:CONFIRMED
LAST-MODIFIED:20190303T213537Z
DESCRIPTION:Damen - Kreisliga\nBegegnungs-Nr: 126\nHeim: TuS Appen \nGast: TSV Gut-Heil Heist III\n
LOCATION:
CATEGORIES:Saison 2015/16
END:VEVENT
BEGIN:VEVENT
DTSTAMP:20260424T165457Z
DTSTART;TZID=Europe/Berlin:20151106T201500
DTEND;TZID=Europe/Berlin:20151106T231500
SUMMARY:Kreisliga TuS Appen II vs TuS Appen  (1)
UID:83382edb-4ef2-598e-e053-1fc7a80a5d7a
STATUS:CONFIRMED
LAST-MODIFIED:20190303T213537Z
DESCRIPTION:Damen - Kreisliga\nBegegnungs-Nr: 1\nHeim: TuS Appen II\nGast: TuS Appen \n
LOCATION:
CATEGORIES:Saison 2015/16
END:VEVENT
BEGIN:VEVENT
DTSTAMP:20260424T165457Z
DTSTART;TZID=Europe/Berlin:20151111T201500
DTEND;TZID=Europe/Berlin:20151111T231500
SUMMARY:Kreisliga TuS Esingen V vs TuS Appen  (21)
UID:83382edb-4ff1-598e-e053-1fc7a80a5d7a
STATUS:CONFIRMED
LAST-MODIFIED:20190303T213537Z
DESCRIPTION:Damen - Kreisliga\nBegegnungs-Nr: 21\nHeim: TuS Esingen V\nGast: TuS Appen \n
LOCATION:
CATEGORIES:Saison 2015/16
END:VEVENT
BEGIN:VEVENT
DTSTAMP:20260424T165457Z
DTSTART;TZID=Europe/Berlin:20151203T201500
DTEND;TZID=Europe/Berlin:20151203T231500
SUMMARY:Kreisliga TSV Gut-Heil Heist III vs TuS Appen  (26)
UID:83382edb-5054-598e-e053-1fc7a80a5d7a
STATUS:CONFIRMED
LAST-MODIFIED:20190303T213537Z
DESCRIPTION:Damen - Kreisliga\nBegegnungs-Nr: 26\nHeim: TSV Gut-Heil Heist III\nGast: TuS Appen \n
LOCATION:
CATEGORIES:Saison 2015/16
END:VEVENT
BEGIN:VEVENT
DTSTAMP:20260424T165457Z
DTSTART;TZID=Europe/Berlin:20151007T201500
DTEND;TZID=Europe/Berlin:20151007T231500
SUMMARY:Kreisliga TSV Gut-Heil Heist II vs TuS Appen  (8)
UID:83382edb-50f1-598e-e053-1fc7a80a5d7a
STATUS:CONFIRMED
LAST-MODIFIED:20190303T213537Z
DESCRIPTION:Damen - Kreisliga\nBegegnungs-Nr: 8\nHeim: TSV Gut-Heil Heist II\nGast: TuS Appen \n
LOCATION:
CATEGORIES:Saison 2015/16
END:VEVENT
BEGIN:VEVENT
DTSTAMP:20260424T165457Z
DTSTART;TZID=Europe/Berlin:20160215T201500
DTEND;TZID=Europe/Berlin:20160215T231500
SUMMARY:Kreisliga TSV Seestermüher Marsch II vs TuS Appen  (107)
UID:83382edb-5162-598e-e053-1fc7a80a5d7a
STATUS:CONFIRMED
LAST-MODIFIED:20190303T213537Z
DESCRIPTION:Damen - Kreisliga\nBegegnungs-Nr: 107\nHeim: TSV Seestermüher Marsch II\nGast: TuS Appen \n
LOCATION:
CATEGORIES:Saison 2015/16
END:VEVENT
BEGIN:VEVENT
DTSTAMP:20260424T165457Z
DTSTART;TZID=Europe/Berlin:20160226T200000
DTEND;TZID=Europe/Berlin:20160226T230000
SUMMARY:Kreisliga FTSV Fortuna Elmshorn III vs TuS Appen  (113)
UID:83382edb-51ad-598e-e053-1fc7a80a5d7a
STATUS:CONFIRMED
LAST-MODIFIED:20190303T213537Z
DESCRIPTION:Damen - Kreisliga\nBegegnungs-Nr: 113\nHeim: FTSV Fortuna Elmshorn III\nGast: TuS Appen \n
LOCATION:
CATEGORIES:Saison 2015/16
END:VEVENT
BEGIN:VEVENT
DTSTAMP:20260424T165457Z
DTSTART;TZID=Europe/Berlin:20160318T203000
DTEND;TZID=Europe/Berlin:20160318T233000
SUMMARY:Kreisliga TuS Esingen IV vs TuS Appen  (124)
UID:83382edb-5264-598e-e053-1fc7a80a5d7a
STATUS:CONFIRMED
LAST-MODIFIED:20190303T213537Z
DESCRIPTION:Damen - Kreisliga\nBegegnungs-Nr: 124\nHeim: TuS Esingen IV\nGast: TuS Appen \n
LOCATION:
CATEGORIES:Saison 2015/16
END:VEVENT
END:VCALENDAR
