BEGIN:VCALENDAR
PRODID:-//nuDatenautomaten//framework iCal4j //DE
VERSION:2.0
CALSCALE:GREGORIAN
BEGIN:VTIMEZONE
TZID:Europe/Berlin
LAST-MODIFIED:20260306T231828Z
TZURL:https://www.tzurl.org/zoneinfo/Europe/Berlin
X-LIC-LOCATION:Europe/Berlin
X-PROLEPTIC-TZNAME:LMT
BEGIN:STANDARD
TZNAME:CET
TZOFFSETFROM:+005328
TZOFFSETTO:+0100
DTSTART:18930401T000000
END:STANDARD
BEGIN:DAYLIGHT
TZNAME:CEST
TZOFFSETFROM:+0100
TZOFFSETTO:+0200
DTSTART:19160430T230000
RDATE:19400401T020000
RDATE:19430329T020000
RDATE:19460414T020000
RDATE:19470406T030000
RDATE:19480418T020000
RDATE:19490410T020000
RDATE:19800406T020000
END:DAYLIGHT
BEGIN:STANDARD
TZNAME:CET
TZOFFSETFROM:+0200
TZOFFSETTO:+0100
DTSTART:19161001T010000
RDATE:19421102T030000
RDATE:19431004T030000
RDATE:19441002T030000
RDATE:19451118T030000
RDATE:19461007T030000
END:STANDARD
BEGIN:DAYLIGHT
TZNAME:CEST
TZOFFSETFROM:+0100
TZOFFSETTO:+0200
DTSTART:19170416T020000
RRULE:FREQ=YEARLY;UNTIL=19180415T010000Z;BYMONTH=4;BYDAY=3MO
END:DAYLIGHT
BEGIN:STANDARD
TZNAME:CET
TZOFFSETFROM:+0200
TZOFFSETTO:+0100
DTSTART:19170917T030000
RRULE:FREQ=YEARLY;UNTIL=19180916T010000Z;BYMONTH=9;BYDAY=3MO
END:STANDARD
BEGIN:DAYLIGHT
TZNAME:CEST
TZOFFSETFROM:+0100
TZOFFSETTO:+0200
DTSTART:19440403T020000
RRULE:FREQ=YEARLY;UNTIL=19450402T010000Z;BYMONTH=4;BYDAY=1MO
END:DAYLIGHT
BEGIN:DAYLIGHT
TZNAME:CEMT
TZOFFSETFROM:+0200
TZOFFSETTO:+0300
DTSTART:19450524T020000
RDATE:19470511T030000
END:DAYLIGHT
BEGIN:DAYLIGHT
TZNAME:CEST
TZOFFSETFROM:+0300
TZOFFSETTO:+0200
DTSTART:19450924T030000
RDATE:19470629T030000
END:DAYLIGHT
BEGIN:STANDARD
TZNAME:CET
TZOFFSETFROM:+0100
TZOFFSETTO:+0100
DTSTART:19460101T000000
RDATE:19800101T000000
END:STANDARD
BEGIN:STANDARD
TZNAME:CET
TZOFFSETFROM:+0200
TZOFFSETTO:+0100
DTSTART:19471005T030000
RRULE:FREQ=YEARLY;UNTIL=19491002T010000Z;BYMONTH=10;BYDAY=1SU
END:STANDARD
BEGIN:STANDARD
TZNAME:CET
TZOFFSETFROM:+0200
TZOFFSETTO:+0100
DTSTART:19800928T030000
RRULE:FREQ=YEARLY;UNTIL=19950924T010000Z;BYMONTH=9;BYDAY=-1SU
END:STANDARD
BEGIN:DAYLIGHT
TZNAME:CEST
TZOFFSETFROM:+0100
TZOFFSETTO:+0200
DTSTART:19810329T020000
RRULE:FREQ=YEARLY;BYMONTH=3;BYDAY=-1SU
END:DAYLIGHT
BEGIN:STANDARD
TZNAME:CET
TZOFFSETFROM:+0200
TZOFFSETTO:+0100
DTSTART:19961027T030000
RRULE:FREQ=YEARLY;BYMONTH=10;BYDAY=-1SU
END:STANDARD
END:VTIMEZONE
BEGIN:VEVENT
DTSTAMP:20260422T202425Z
DTSTART;TZID=Europe/Berlin:20140926T201500
DTEND;TZID=Europe/Berlin:20140926T231500
SUMMARY:2. Kreisklasse SV Grönwohld  vs TSV Bargteheide V (15)
UID:83382ed8-9431-598e-e053-1fc7a80a5d7a
STATUS:CONFIRMED
LAST-MODIFIED:20190303T213301Z
DESCRIPTION:Herren - 2. Kreisklasse - Stormarn\nBegegnungs-Nr: 15\nHeim: SV Grönwohld \nGast: TSV Bargteheide V\n
LOCATION:
CATEGORIES:Saison 2014/15
END:VEVENT
BEGIN:VEVENT
DTSTAMP:20260422T202425Z
DTSTART;TZID=Europe/Berlin:20141128T201500
DTEND;TZID=Europe/Berlin:20141128T231500
SUMMARY:2. Kreisklasse SV Grönwohld  vs VfL Tremsbüttel  (45)
UID:83382ed8-976c-598e-e053-1fc7a80a5d7a
STATUS:CONFIRMED
LAST-MODIFIED:20190303T213301Z
DESCRIPTION:Herren - 2. Kreisklasse - Stormarn\nBegegnungs-Nr: 45\nHeim: SV Grönwohld \nGast: VfL Tremsbüttel \n
LOCATION:
CATEGORIES:Saison 2014/15
END:VEVENT
BEGIN:VEVENT
DTSTAMP:20260422T202425Z
DTSTART;TZID=Europe/Berlin:20150123T201500
DTEND;TZID=Europe/Berlin:20150123T231500
SUMMARY:2. Kreisklasse SV Grönwohld  vs TTG Elmenh./Fischbek II (103)
UID:83382ed8-9825-598e-e053-1fc7a80a5d7a
STATUS:CONFIRMED
LAST-MODIFIED:20190303T213301Z
DESCRIPTION:Herren - 2. Kreisklasse - Stormarn\nBegegnungs-Nr: 103\nHeim: SV Grönwohld \nGast: TTG Elmenh./Fischbek II\n
LOCATION:
CATEGORIES:Saison 2014/15
END:VEVENT
BEGIN:VEVENT
DTSTAMP:20260422T202425Z
DTSTART;TZID=Europe/Berlin:20141031T201500
DTEND;TZID=Europe/Berlin:20141031T231500
SUMMARY:2. Kreisklasse SV Grönwohld  vs SSC Hagen Ahrensburg IV (25)
UID:83382ed8-9550-598e-e053-1fc7a80a5d7a
STATUS:CONFIRMED
LAST-MODIFIED:20190303T213301Z
DESCRIPTION:Herren - 2. Kreisklasse - Stormarn\nBegegnungs-Nr: 25\nHeim: SV Grönwohld \nGast: SSC Hagen Ahrensburg IV\n
LOCATION:
CATEGORIES:Saison 2014/15
END:VEVENT
BEGIN:VEVENT
DTSTAMP:20260422T202425Z
DTSTART;TZID=Europe/Berlin:20141114T201500
DTEND;TZID=Europe/Berlin:20141114T231500
SUMMARY:2. Kreisklasse SV Grönwohld  vs SV Hammoor  (35)
UID:83382ed8-964b-598e-e053-1fc7a80a5d7a
STATUS:CONFIRMED
LAST-MODIFIED:20190303T213301Z
DESCRIPTION:Herren - 2. Kreisklasse - Stormarn\nBegegnungs-Nr: 35\nHeim: SV Grönwohld \nGast: SV Hammoor \n
LOCATION:
CATEGORIES:Saison 2014/15
END:VEVENT
BEGIN:VEVENT
DTSTAMP:20260422T202425Z
DTSTART;TZID=Europe/Berlin:20150130T201500
DTEND;TZID=Europe/Berlin:20150130T231500
SUMMARY:2. Kreisklasse SV Grönwohld  vs SV Preußen Reinfeld III (110)
UID:83382ed8-98d3-598e-e053-1fc7a80a5d7a
STATUS:CONFIRMED
LAST-MODIFIED:20190303T213302Z
DESCRIPTION:Herren - 2. Kreisklasse - Stormarn\nBegegnungs-Nr: 110\nHeim: SV Grönwohld \nGast: SV Preußen Reinfeld III\n
LOCATION:
CATEGORIES:Saison 2014/15
END:VEVENT
BEGIN:VEVENT
DTSTAMP:20260422T202425Z
DTSTART;TZID=Europe/Berlin:20150213T201500
DTEND;TZID=Europe/Berlin:20150213T231500
SUMMARY:2. Kreisklasse SV Grönwohld  vs Bargfelder SV II (120)
UID:83382ed8-99cf-598e-e053-1fc7a80a5d7a
STATUS:CONFIRMED
LAST-MODIFIED:20190303T213302Z
DESCRIPTION:Herren - 2. Kreisklasse - Stormarn\nBegegnungs-Nr: 120\nHeim: SV Grönwohld \nGast: Bargfelder SV II\n
LOCATION:
CATEGORIES:Saison 2014/15
END:VEVENT
BEGIN:VEVENT
DTSTAMP:20260422T202425Z
DTSTART;TZID=Europe/Berlin:20150227T201500
DTEND;TZID=Europe/Berlin:20150227T231500
SUMMARY:2. Kreisklasse SV Grönwohld  vs VfL Oldesloe III (130)
UID:83382ed8-9a9b-598e-e053-1fc7a80a5d7a
STATUS:CONFIRMED
LAST-MODIFIED:20190303T213302Z
DESCRIPTION:Herren - 2. Kreisklasse - Stormarn\nBegegnungs-Nr: 130\nHeim: SV Grönwohld \nGast: VfL Oldesloe III\n
LOCATION:
CATEGORIES:Saison 2014/15
END:VEVENT
BEGIN:VEVENT
DTSTAMP:20260422T202425Z
DTSTART;TZID=Europe/Berlin:20150313T201500
DTEND;TZID=Europe/Berlin:20150313T231500
SUMMARY:2. Kreisklasse SV Grönwohld  vs TSV Lütjensee  (140)
UID:83382ed8-9b79-598e-e053-1fc7a80a5d7a
STATUS:CONFIRMED
LAST-MODIFIED:20190303T213302Z
DESCRIPTION:Herren - 2. Kreisklasse - Stormarn\nBegegnungs-Nr: 140\nHeim: SV Grönwohld \nGast: TSV Lütjensee \n
LOCATION:
CATEGORIES:Saison 2014/15
END:VEVENT
BEGIN:VEVENT
DTSTAMP:20260422T202425Z
DTSTART;TZID=Europe/Berlin:20141119T200000
DTEND;TZID=Europe/Berlin:20141119T230000
SUMMARY:2. Kreisklasse TSV Lütjensee  vs SV Grönwohld  (37)
UID:83382ed8-9682-598e-e053-1fc7a80a5d7a
STATUS:CONFIRMED
LAST-MODIFIED:20190303T213301Z
DESCRIPTION:Herren - 2. Kreisklasse - Stormarn\nBegegnungs-Nr: 37\nHeim: TSV Lütjensee \nGast: SV Grönwohld \n
LOCATION:
CATEGORIES:Saison 2014/15
END:VEVENT
BEGIN:VEVENT
DTSTAMP:20260422T202425Z
DTSTART;TZID=Europe/Berlin:20140929T200000
DTEND;TZID=Europe/Berlin:20140929T230000
SUMMARY:2. Kreisklasse TTG Elmenh./Fischbek II vs SV Grönwohld  (5)
UID:83382ed8-9789-598e-e053-1fc7a80a5d7a
STATUS:CONFIRMED
LAST-MODIFIED:20190303T213301Z
DESCRIPTION:Herren - 2. Kreisklasse - Stormarn\nBegegnungs-Nr: 5\nHeim: TTG Elmenh./Fischbek II\nGast: SV Grönwohld \n
LOCATION:
CATEGORIES:Saison 2014/15
END:VEVENT
BEGIN:VEVENT
DTSTAMP:20260422T202425Z
DTSTART;TZID=Europe/Berlin:20140919T201500
DTEND;TZID=Europe/Berlin:20140919T231500
SUMMARY:2. Kreisklasse SV Preußen Reinfeld III vs SV Grönwohld  (7)
UID:83382ed8-97bf-598e-e053-1fc7a80a5d7a
STATUS:CONFIRMED
LAST-MODIFIED:20190303T213301Z
DESCRIPTION:Herren - 2. Kreisklasse - Stormarn\nBegegnungs-Nr: 7\nHeim: SV Preußen Reinfeld III\nGast: SV Grönwohld \n
LOCATION:
CATEGORIES:Saison 2014/15
END:VEVENT
BEGIN:VEVENT
DTSTAMP:20260422T202425Z
DTSTART;TZID=Europe/Berlin:20141010T200000
DTEND;TZID=Europe/Berlin:20141010T230000
SUMMARY:2. Kreisklasse Bargfelder SV II vs SV Grönwohld  (19)
UID:83382ed8-949d-598e-e053-1fc7a80a5d7a
STATUS:CONFIRMED
LAST-MODIFIED:20190303T213301Z
DESCRIPTION:Herren - 2. Kreisklasse - Stormarn\nBegegnungs-Nr: 19\nHeim: Bargfelder SV II\nGast: SV Grönwohld \n
LOCATION:
CATEGORIES:Saison 2014/15
END:VEVENT
BEGIN:VEVENT
DTSTAMP:20260422T202425Z
DTSTART;TZID=Europe/Berlin:20141107T200000
DTEND;TZID=Europe/Berlin:20141107T230000
SUMMARY:2. Kreisklasse VfL Oldesloe III vs SV Grönwohld  (28)
UID:83382ed8-9599-598e-e053-1fc7a80a5d7a
STATUS:CONFIRMED
LAST-MODIFIED:20190303T213301Z
DESCRIPTION:Herren - 2. Kreisklasse - Stormarn\nBegegnungs-Nr: 28\nHeim: VfL Oldesloe III\nGast: SV Grönwohld \n
LOCATION:
CATEGORIES:Saison 2014/15
END:VEVENT
BEGIN:VEVENT
DTSTAMP:20260422T202425Z
DTSTART;TZID=Europe/Berlin:20150205T200000
DTEND;TZID=Europe/Berlin:20150205T230000
SUMMARY:2. Kreisklasse TSV Bargteheide V vs SV Grönwohld  (111)
UID:83382ed8-98ee-598e-e053-1fc7a80a5d7a
STATUS:CONFIRMED
LAST-MODIFIED:20190303T213302Z
DESCRIPTION:Herren - 2. Kreisklasse - Stormarn\nBegegnungs-Nr: 111\nHeim: TSV Bargteheide V\nGast: SV Grönwohld \n
LOCATION:
CATEGORIES:Saison 2014/15
END:VEVENT
BEGIN:VEVENT
DTSTAMP:20260422T202425Z
DTSTART;TZID=Europe/Berlin:20150220T201500
DTEND;TZID=Europe/Berlin:20150220T231500
SUMMARY:2. Kreisklasse SSC Hagen Ahrensburg IV vs SV Grönwohld  (125)
UID:83382ed8-9a1b-598e-e053-1fc7a80a5d7a
STATUS:CONFIRMED
LAST-MODIFIED:20190303T213302Z
DESCRIPTION:Herren - 2. Kreisklasse - Stormarn\nBegegnungs-Nr: 125\nHeim: SSC Hagen Ahrensburg IV\nGast: SV Grönwohld \n
LOCATION:
CATEGORIES:Saison 2014/15
END:VEVENT
BEGIN:VEVENT
DTSTAMP:20260422T202425Z
DTSTART;TZID=Europe/Berlin:20150316T200000
DTEND;TZID=Europe/Berlin:20150316T230000
SUMMARY:2. Kreisklasse VfL Tremsbüttel  vs SV Grönwohld  (141)
UID:83382ed8-9b95-598e-e053-1fc7a80a5d7a
STATUS:CONFIRMED
LAST-MODIFIED:20190303T213302Z
DESCRIPTION:Herren - 2. Kreisklasse - Stormarn\nBegegnungs-Nr: 141\nHeim: VfL Tremsbüttel \nGast: SV Grönwohld \n
LOCATION:
CATEGORIES:Saison 2014/15
END:VEVENT
END:VCALENDAR
