BEGIN:VCALENDAR
PRODID:-//nuDatenautomaten//framework iCal4j //DE
VERSION:2.0
CALSCALE:GREGORIAN
BEGIN:VTIMEZONE
TZID:Europe/Berlin
LAST-MODIFIED:20260306T231828Z
TZURL:https://www.tzurl.org/zoneinfo/Europe/Berlin
X-LIC-LOCATION:Europe/Berlin
X-PROLEPTIC-TZNAME:LMT
BEGIN:STANDARD
TZNAME:CET
TZOFFSETFROM:+005328
TZOFFSETTO:+0100
DTSTART:18930401T000000
END:STANDARD
BEGIN:DAYLIGHT
TZNAME:CEST
TZOFFSETFROM:+0100
TZOFFSETTO:+0200
DTSTART:19160430T230000
RDATE:19400401T020000
RDATE:19430329T020000
RDATE:19460414T020000
RDATE:19470406T030000
RDATE:19480418T020000
RDATE:19490410T020000
RDATE:19800406T020000
END:DAYLIGHT
BEGIN:STANDARD
TZNAME:CET
TZOFFSETFROM:+0200
TZOFFSETTO:+0100
DTSTART:19161001T010000
RDATE:19421102T030000
RDATE:19431004T030000
RDATE:19441002T030000
RDATE:19451118T030000
RDATE:19461007T030000
END:STANDARD
BEGIN:DAYLIGHT
TZNAME:CEST
TZOFFSETFROM:+0100
TZOFFSETTO:+0200
DTSTART:19170416T020000
RRULE:FREQ=YEARLY;UNTIL=19180415T010000Z;BYMONTH=4;BYDAY=3MO
END:DAYLIGHT
BEGIN:STANDARD
TZNAME:CET
TZOFFSETFROM:+0200
TZOFFSETTO:+0100
DTSTART:19170917T030000
RRULE:FREQ=YEARLY;UNTIL=19180916T010000Z;BYMONTH=9;BYDAY=3MO
END:STANDARD
BEGIN:DAYLIGHT
TZNAME:CEST
TZOFFSETFROM:+0100
TZOFFSETTO:+0200
DTSTART:19440403T020000
RRULE:FREQ=YEARLY;UNTIL=19450402T010000Z;BYMONTH=4;BYDAY=1MO
END:DAYLIGHT
BEGIN:DAYLIGHT
TZNAME:CEMT
TZOFFSETFROM:+0200
TZOFFSETTO:+0300
DTSTART:19450524T020000
RDATE:19470511T030000
END:DAYLIGHT
BEGIN:DAYLIGHT
TZNAME:CEST
TZOFFSETFROM:+0300
TZOFFSETTO:+0200
DTSTART:19450924T030000
RDATE:19470629T030000
END:DAYLIGHT
BEGIN:STANDARD
TZNAME:CET
TZOFFSETFROM:+0100
TZOFFSETTO:+0100
DTSTART:19460101T000000
RDATE:19800101T000000
END:STANDARD
BEGIN:STANDARD
TZNAME:CET
TZOFFSETFROM:+0200
TZOFFSETTO:+0100
DTSTART:19471005T030000
RRULE:FREQ=YEARLY;UNTIL=19491002T010000Z;BYMONTH=10;BYDAY=1SU
END:STANDARD
BEGIN:STANDARD
TZNAME:CET
TZOFFSETFROM:+0200
TZOFFSETTO:+0100
DTSTART:19800928T030000
RRULE:FREQ=YEARLY;UNTIL=19950924T010000Z;BYMONTH=9;BYDAY=-1SU
END:STANDARD
BEGIN:DAYLIGHT
TZNAME:CEST
TZOFFSETFROM:+0100
TZOFFSETTO:+0200
DTSTART:19810329T020000
RRULE:FREQ=YEARLY;BYMONTH=3;BYDAY=-1SU
END:DAYLIGHT
BEGIN:STANDARD
TZNAME:CET
TZOFFSETFROM:+0200
TZOFFSETTO:+0100
DTSTART:19961027T030000
RRULE:FREQ=YEARLY;BYMONTH=10;BYDAY=-1SU
END:STANDARD
END:VTIMEZONE
BEGIN:VEVENT
DTSTAMP:20260424T152630Z
DTSTART;TZID=Europe/Berlin:20160426T201500
DTEND;TZID=Europe/Berlin:20160426T231500
SUMMARY:Kreisliga TSV Brunsbüttel IV vs MTV Burg  (165)
UID:83382ed9-9b34-598e-e053-1fc7a80a5d7a
STATUS:CONFIRMED
LAST-MODIFIED:20190303T213359Z
DESCRIPTION:Herren-Kreisliga\nBegegnungs-Nr: 165\nHeim: TSV Brunsbüttel IV\nGast: MTV Burg \n
LOCATION:
CATEGORIES:Saison 2015/16
END:VEVENT
BEGIN:VEVENT
DTSTAMP:20260424T152630Z
DTSTART;TZID=Europe/Berlin:20150925T201500
DTEND;TZID=Europe/Berlin:20150925T231500
SUMMARY:Kreisliga TSV Brunsbüttel IV vs Marner TV  (12)
UID:83382ed9-91cc-598e-e053-1fc7a80a5d7a
STATUS:CONFIRMED
LAST-MODIFIED:20190303T213357Z
DESCRIPTION:Herren-Kreisliga\nBegegnungs-Nr: 12\nHeim: TSV Brunsbüttel IV\nGast: Marner TV \n
LOCATION:
CATEGORIES:Saison 2015/16
END:VEVENT
BEGIN:VEVENT
DTSTAMP:20260424T152630Z
DTSTART;TZID=Europe/Berlin:20151013T200000
DTEND;TZID=Europe/Berlin:20151013T230000
SUMMARY:Kreisliga TSV Brunsbüttel IV vs MTV St. Michaelisdonn II (24)
UID:83382ed9-92cb-598e-e053-1fc7a80a5d7a
STATUS:CONFIRMED
LAST-MODIFIED:20190303T213357Z
DESCRIPTION:Herren-Kreisliga\nBegegnungs-Nr: 24\nHeim: TSV Brunsbüttel IV\nGast: MTV St. Michaelisdonn II\n
LOCATION:
CATEGORIES:Saison 2015/16
END:VEVENT
BEGIN:VEVENT
DTSTAMP:20260424T152630Z
DTSTART;TZID=Europe/Berlin:20151106T201500
DTEND;TZID=Europe/Berlin:20151106T231500
SUMMARY:Kreisliga TSV Brunsbüttel IV vs SSV Lunden  (36)
UID:83382ed9-93c3-598e-e053-1fc7a80a5d7a
STATUS:CONFIRMED
LAST-MODIFIED:20190303T213357Z
DESCRIPTION:Herren-Kreisliga\nBegegnungs-Nr: 36\nHeim: TSV Brunsbüttel IV\nGast: SSV Lunden \n
LOCATION:
CATEGORIES:Saison 2015/16
END:VEVENT
BEGIN:VEVENT
DTSTAMP:20260424T152630Z
DTSTART;TZID=Europe/Berlin:20151120T201500
DTEND;TZID=Europe/Berlin:20151120T231500
SUMMARY:Kreisliga TSV Brunsbüttel IV vs TSV Elpersbüttel-Eesch  (48)
UID:83382ed9-94b7-598e-e053-1fc7a80a5d7a
STATUS:CONFIRMED
LAST-MODIFIED:20190303T213357Z
DESCRIPTION:Herren-Kreisliga\nBegegnungs-Nr: 48\nHeim: TSV Brunsbüttel IV\nGast: TSV Elpersbüttel-Eesch \n
LOCATION:
CATEGORIES:Saison 2015/16
END:VEVENT
BEGIN:VEVENT
DTSTAMP:20260424T152630Z
DTSTART;TZID=Europe/Berlin:20151204T201500
DTEND;TZID=Europe/Berlin:20151204T231500
SUMMARY:Kreisliga TSV Brunsbüttel IV vs TSV Eddelak II (60)
UID:83382ed9-95bd-598e-e053-1fc7a80a5d7a
STATUS:CONFIRMED
LAST-MODIFIED:20190303T213358Z
DESCRIPTION:Herren-Kreisliga\nBegegnungs-Nr: 60\nHeim: TSV Brunsbüttel IV\nGast: TSV Eddelak II\n
LOCATION:
CATEGORIES:Saison 2015/16
END:VEVENT
BEGIN:VEVENT
DTSTAMP:20260424T152630Z
DTSTART;TZID=Europe/Berlin:20160129T201500
DTEND;TZID=Europe/Berlin:20160129T231500
SUMMARY:Kreisliga TSV Brunsbüttel IV vs SV Farnewinkel-Nindorf II (106)
UID:83382ed9-96d4-598e-e053-1fc7a80a5d7a
STATUS:CONFIRMED
LAST-MODIFIED:20190303T213358Z
DESCRIPTION:Herren-Kreisliga\nBegegnungs-Nr: 106\nHeim: TSV Brunsbüttel IV\nGast: SV Farnewinkel-Nindorf II\n
LOCATION:
CATEGORIES:Saison 2015/16
END:VEVENT
BEGIN:VEVENT
DTSTAMP:20260424T152630Z
DTSTART;TZID=Europe/Berlin:20160212T201500
DTEND;TZID=Europe/Berlin:20160212T231500
SUMMARY:Kreisliga TSV Brunsbüttel IV vs TTSG Welm-Wrohm-Dell  (118)
UID:83382ed9-97b4-598e-e053-1fc7a80a5d7a
STATUS:CONFIRMED
LAST-MODIFIED:20190303T213358Z
DESCRIPTION:Herren-Kreisliga\nBegegnungs-Nr: 118\nHeim: TSV Brunsbüttel IV\nGast: TTSG Welm-Wrohm-Dell \n
LOCATION:
CATEGORIES:Saison 2015/16
END:VEVENT
BEGIN:VEVENT
DTSTAMP:20260424T152630Z
DTSTART;TZID=Europe/Berlin:20160226T201500
DTEND;TZID=Europe/Berlin:20160226T231500
SUMMARY:Kreisliga TSV Brunsbüttel IV vs TSV Elpersbüttel-Eesch II (130)
UID:83382ed9-98a0-598e-e053-1fc7a80a5d7a
STATUS:CONFIRMED
LAST-MODIFIED:20190303T213358Z
DESCRIPTION:Herren-Kreisliga\nBegegnungs-Nr: 130\nHeim: TSV Brunsbüttel IV\nGast: TSV Elpersbüttel-Eesch II\n
LOCATION:
CATEGORIES:Saison 2015/16
END:VEVENT
BEGIN:VEVENT
DTSTAMP:20260424T152630Z
DTSTART;TZID=Europe/Berlin:20160311T201500
DTEND;TZID=Europe/Berlin:20160311T231500
SUMMARY:Kreisliga TSV Brunsbüttel IV vs TTSG Weddingstedt/Wesseln  (142)
UID:83382ed9-9982-598e-e053-1fc7a80a5d7a
STATUS:CONFIRMED
LAST-MODIFIED:20190303T213358Z
DESCRIPTION:Herren-Kreisliga\nBegegnungs-Nr: 142\nHeim: TSV Brunsbüttel IV\nGast: TTSG Weddingstedt/Wesseln \n
LOCATION:
CATEGORIES:Saison 2015/16
END:VEVENT
BEGIN:VEVENT
DTSTAMP:20260424T152630Z
DTSTART;TZID=Europe/Berlin:20160419T201500
DTEND;TZID=Europe/Berlin:20160419T231500
SUMMARY:Kreisliga TSV Brunsbüttel IV vs Ostroher SC II (154)
UID:83382ed9-9a6c-598e-e053-1fc7a80a5d7a
STATUS:CONFIRMED
LAST-MODIFIED:20190303T213359Z
DESCRIPTION:Herren-Kreisliga\nBegegnungs-Nr: 154\nHeim: TSV Brunsbüttel IV\nGast: Ostroher SC II\n
LOCATION:
CATEGORIES:Saison 2015/16
END:VEVENT
BEGIN:VEVENT
DTSTAMP:20260424T152630Z
DTSTART;TZID=Europe/Berlin:20150929T200000
DTEND;TZID=Europe/Berlin:20150929T230000
SUMMARY:Kreisliga TTSG Welm-Wrohm-Dell  vs TSV Brunsbüttel IV (13)
UID:83382ed9-91e1-598e-e053-1fc7a80a5d7a
STATUS:CONFIRMED
LAST-MODIFIED:20190303T213357Z
DESCRIPTION:Herren-Kreisliga\nBegegnungs-Nr: 13\nHeim: TTSG Welm-Wrohm-Dell \nGast: TSV Brunsbüttel IV\n
LOCATION:
CATEGORIES:Saison 2015/16
END:VEVENT
BEGIN:VEVENT
DTSTAMP:20260424T152630Z
DTSTART;TZID=Europe/Berlin:20151016T200000
DTEND;TZID=Europe/Berlin:20151016T230000
SUMMARY:Kreisliga TSV Elpersbüttel-Eesch II vs TSV Brunsbüttel IV (28)
UID:83382ed9-9319-598e-e053-1fc7a80a5d7a
STATUS:CONFIRMED
LAST-MODIFIED:20190303T213357Z
DESCRIPTION:Herren-Kreisliga\nBegegnungs-Nr: 28\nHeim: TSV Elpersbüttel-Eesch II\nGast: TSV Brunsbüttel IV\n
LOCATION:
CATEGORIES:Saison 2015/16
END:VEVENT
BEGIN:VEVENT
DTSTAMP:20260424T152630Z
DTSTART;TZID=Europe/Berlin:20150918T200000
DTEND;TZID=Europe/Berlin:20150918T230000
SUMMARY:Kreisliga SV Farnewinkel-Nindorf II vs TSV Brunsbüttel IV (4)
UID:83382ed9-940c-598e-e053-1fc7a80a5d7a
STATUS:CONFIRMED
LAST-MODIFIED:20190303T213357Z
DESCRIPTION:Herren-Kreisliga\nBegegnungs-Nr: 4\nHeim: SV Farnewinkel-Nindorf II\nGast: TSV Brunsbüttel IV\n
LOCATION:
CATEGORIES:Saison 2015/16
END:VEVENT
BEGIN:VEVENT
DTSTAMP:20260424T152630Z
DTSTART;TZID=Europe/Berlin:20151113T200000
DTEND;TZID=Europe/Berlin:20151113T230000
SUMMARY:Kreisliga TTSG Weddingstedt/Wesseln  vs TSV Brunsbüttel IV (40)
UID:83382ed9-941e-598e-e053-1fc7a80a5d7a
STATUS:CONFIRMED
LAST-MODIFIED:20190303T213357Z
DESCRIPTION:Herren-Kreisliga\nBegegnungs-Nr: 40\nHeim: TTSG Weddingstedt/Wesseln \nGast: TSV Brunsbüttel IV\n
LOCATION:
CATEGORIES:Saison 2015/16
END:VEVENT
BEGIN:VEVENT
DTSTAMP:20260424T152630Z
DTSTART;TZID=Europe/Berlin:20151126T201500
DTEND;TZID=Europe/Berlin:20151126T231500
SUMMARY:Kreisliga Ostroher SC II vs TSV Brunsbüttel IV (50)
UID:83382ed9-94f1-598e-e053-1fc7a80a5d7a
STATUS:CONFIRMED
LAST-MODIFIED:20190303T213357Z
DESCRIPTION:Herren-Kreisliga\nBegegnungs-Nr: 50\nHeim: Ostroher SC II\nGast: TSV Brunsbüttel IV\n
LOCATION:
CATEGORIES:Saison 2015/16
END:VEVENT
BEGIN:VEVENT
DTSTAMP:20260424T152630Z
DTSTART;TZID=Europe/Berlin:20151210T201500
DTEND;TZID=Europe/Berlin:20151210T231500
SUMMARY:Kreisliga MTV Burg  vs TSV Brunsbüttel IV (63)
UID:83382ed9-95f1-598e-e053-1fc7a80a5d7a
STATUS:CONFIRMED
LAST-MODIFIED:20190303T213358Z
DESCRIPTION:Herren-Kreisliga\nBegegnungs-Nr: 63\nHeim: MTV Burg \nGast: TSV Brunsbüttel IV\n
LOCATION:
CATEGORIES:Saison 2015/16
END:VEVENT
BEGIN:VEVENT
DTSTAMP:20260424T152630Z
DTSTART;TZID=Europe/Berlin:20160205T200000
DTEND;TZID=Europe/Berlin:20160205T230000
SUMMARY:Kreisliga Marner TV  vs TSV Brunsbüttel IV (110)
UID:83382ed9-971f-598e-e053-1fc7a80a5d7a
STATUS:CONFIRMED
LAST-MODIFIED:20190303T213358Z
DESCRIPTION:Herren-Kreisliga\nBegegnungs-Nr: 110\nHeim: Marner TV \nGast: TSV Brunsbüttel IV\n
LOCATION:
CATEGORIES:Saison 2015/16
END:VEVENT
BEGIN:VEVENT
DTSTAMP:20260424T152630Z
DTSTART;TZID=Europe/Berlin:20160217T200000
DTEND;TZID=Europe/Berlin:20160217T230000
SUMMARY:Kreisliga MTV St. Michaelisdonn II vs TSV Brunsbüttel IV (121)
UID:83382ed9-97ef-598e-e053-1fc7a80a5d7a
STATUS:CONFIRMED
LAST-MODIFIED:20190303T213358Z
DESCRIPTION:Herren-Kreisliga\nBegegnungs-Nr: 121\nHeim: MTV St. Michaelisdonn II\nGast: TSV Brunsbüttel IV\n
LOCATION:
CATEGORIES:Saison 2015/16
END:VEVENT
BEGIN:VEVENT
DTSTAMP:20260424T152630Z
DTSTART;TZID=Europe/Berlin:20160304T200000
DTEND;TZID=Europe/Berlin:20160304T230000
SUMMARY:Kreisliga SSV Lunden  vs TSV Brunsbüttel IV (133)
UID:83382ed9-98d7-598e-e053-1fc7a80a5d7a
STATUS:CONFIRMED
LAST-MODIFIED:20190303T213358Z
DESCRIPTION:Herren-Kreisliga\nBegegnungs-Nr: 133\nHeim: SSV Lunden \nGast: TSV Brunsbüttel IV\n
LOCATION:
CATEGORIES:Saison 2015/16
END:VEVENT
BEGIN:VEVENT
DTSTAMP:20260424T152630Z
DTSTART;TZID=Europe/Berlin:20160315T200000
DTEND;TZID=Europe/Berlin:20160315T230000
SUMMARY:Kreisliga TSV Elpersbüttel-Eesch  vs TSV Brunsbüttel IV (144)
UID:83382ed9-99a8-598e-e053-1fc7a80a5d7a
STATUS:CONFIRMED
LAST-MODIFIED:20190303T213358Z
DESCRIPTION:Herren-Kreisliga\nBegegnungs-Nr: 144\nHeim: TSV Elpersbüttel-Eesch \nGast: TSV Brunsbüttel IV\n
LOCATION:
CATEGORIES:Saison 2015/16
END:VEVENT
BEGIN:VEVENT
DTSTAMP:20260424T152630Z
DTSTART;TZID=Europe/Berlin:20160422T201500
DTEND;TZID=Europe/Berlin:20160422T231500
SUMMARY:Kreisliga TSV Eddelak II vs TSV Brunsbüttel IV (160)
UID:83382ed9-9ad8-598e-e053-1fc7a80a5d7a
STATUS:CONFIRMED
LAST-MODIFIED:20190303T213359Z
DESCRIPTION:Herren-Kreisliga\nBegegnungs-Nr: 160\nHeim: TSV Eddelak II\nGast: TSV Brunsbüttel IV\n
LOCATION:
CATEGORIES:Saison 2015/16
END:VEVENT
END:VCALENDAR
